BEGIN:VCALENDAR
VERSION:2.0
PRODID:-//Warsaw FUMC - ECPv6.15.20//NONSGML v1.0//EN
CALSCALE:GREGORIAN
METHOD:PUBLISH
X-WR-CALNAME:Warsaw FUMC
X-ORIGINAL-URL:https://warsawfumc.org
X-WR-CALDESC:Events for Warsaw FUMC
REFRESH-INTERVAL;VALUE=DURATION:PT1H
X-Robots-Tag:noindex
X-PUBLISHED-TTL:PT1H
BEGIN:VTIMEZONE
TZID:America/New_York
BEGIN:DAYLIGHT
TZOFFSETFROM:-0500
TZOFFSETTO:-0400
TZNAME:EDT
DTSTART:20210314T070000
END:DAYLIGHT
BEGIN:STANDARD
TZOFFSETFROM:-0400
TZOFFSETTO:-0500
TZNAME:EST
DTSTART:20211107T060000
END:STANDARD
BEGIN:DAYLIGHT
TZOFFSETFROM:-0500
TZOFFSETTO:-0400
TZNAME:EDT
DTSTART:20220313T070000
END:DAYLIGHT
BEGIN:STANDARD
TZOFFSETFROM:-0400
TZOFFSETTO:-0500
TZNAME:EST
DTSTART:20221106T060000
END:STANDARD
BEGIN:DAYLIGHT
TZOFFSETFROM:-0500
TZOFFSETTO:-0400
TZNAME:EDT
DTSTART:20230312T070000
END:DAYLIGHT
BEGIN:STANDARD
TZOFFSETFROM:-0400
TZOFFSETTO:-0500
TZNAME:EST
DTSTART:20231105T060000
END:STANDARD
END:VTIMEZONE
BEGIN:VEVENT
DTSTART;TZID=America/New_York:20220206T100000
DTEND;TZID=America/New_York:20220206T110000
DTSTAMP:20260423T064658
CREATED:20220120T173547Z
LAST-MODIFIED:20220205T190447Z
UID:15682-1644141600-1644145200@warsawfumc.org
SUMMARY:Combined Service for Mission Sunday
DESCRIPTION:Special guests Indiana Conference Bishop Julius Trimble and North Conference Superintendent Rev. Dr. Marti Lundy in attendance.\nCome join us as we hear from the various missions we are partnering with in 2022 and receive inspiration as Bishop Julius Trimble of the Indiana Annual Conference shares God’s Word with us.\n* Only one service takes place this Sunday — Downtown Sanctuary
URL:https://warsawfumc.org/event/combined-service-for-mission-sunday/
LOCATION:First United Methodist Church\, 179 S Indiana St\, Warsaw\, IN 46580\, USA\, 101 S Indiana St\, United States
END:VEVENT
END:VCALENDAR