BEGIN:VCALENDAR
VERSION:2.0
PRODID:-//Warsaw FUMC - ECPv6.15.20//NONSGML v1.0//EN
CALSCALE:GREGORIAN
METHOD:PUBLISH
X-ORIGINAL-URL:https://warsawfumc.org
X-WR-CALDESC:Events for Warsaw FUMC
REFRESH-INTERVAL;VALUE=DURATION:PT1H
X-Robots-Tag:noindex
X-PUBLISHED-TTL:PT1H
BEGIN:VTIMEZONE
TZID:America/New_York
BEGIN:DAYLIGHT
TZOFFSETFROM:-0500
TZOFFSETTO:-0400
TZNAME:EDT
DTSTART:20210314T070000
END:DAYLIGHT
BEGIN:STANDARD
TZOFFSETFROM:-0400
TZOFFSETTO:-0500
TZNAME:EST
DTSTART:20211107T060000
END:STANDARD
BEGIN:DAYLIGHT
TZOFFSETFROM:-0500
TZOFFSETTO:-0400
TZNAME:EDT
DTSTART:20220313T070000
END:DAYLIGHT
BEGIN:STANDARD
TZOFFSETFROM:-0400
TZOFFSETTO:-0500
TZNAME:EST
DTSTART:20221106T060000
END:STANDARD
BEGIN:DAYLIGHT
TZOFFSETFROM:-0500
TZOFFSETTO:-0400
TZNAME:EDT
DTSTART:20230312T070000
END:DAYLIGHT
BEGIN:STANDARD
TZOFFSETFROM:-0400
TZOFFSETTO:-0500
TZNAME:EST
DTSTART:20231105T060000
END:STANDARD
END:VTIMEZONE
BEGIN:VEVENT
DTSTART;TZID=America/New_York:20220226T090000
DTEND;TZID=America/New_York:20220226T110000
DTSTAMP:20260423T064713
CREATED:20220209T190613Z
LAST-MODIFIED:20220217T203936Z
UID:15785-1645866000-1645873200@warsawfumc.org
SUMMARY:All-Church Retreat at The Connection
DESCRIPTION:Inviting the Church Family to come be a part of the discussion exploring where we’ve been over the past couple of years in pandemic\, where we are today\, and where we’re sensing God is leading us in the New Year. Food and drink will not be provided so bring your own refreshments. Childcare provided. RSVP using your comment card\, email Ann (busmgr@warsawfumc.org)\, or call the office 574.267.6933 so we can plan appropriately for handouts.
URL:https://warsawfumc.org/event/all-church-retreat-at-the-connection/
LOCATION:1692 W Lake St\, Warsaw\, IN 46580\, USA
END:VEVENT
END:VCALENDAR