BEGIN:VCALENDAR
VERSION:2.0
PRODID:-//Warsaw FUMC - ECPv6.15.20//NONSGML v1.0//EN
CALSCALE:GREGORIAN
METHOD:PUBLISH
X-WR-CALNAME:Warsaw FUMC
X-ORIGINAL-URL:https://warsawfumc.org
X-WR-CALDESC:Events for Warsaw FUMC
REFRESH-INTERVAL;VALUE=DURATION:PT1H
X-Robots-Tag:noindex
X-PUBLISHED-TTL:PT1H
BEGIN:VTIMEZONE
TZID:America/New_York
BEGIN:DAYLIGHT
TZOFFSETFROM:-0500
TZOFFSETTO:-0400
TZNAME:EDT
DTSTART:20210314T070000
END:DAYLIGHT
BEGIN:STANDARD
TZOFFSETFROM:-0400
TZOFFSETTO:-0500
TZNAME:EST
DTSTART:20211107T060000
END:STANDARD
BEGIN:DAYLIGHT
TZOFFSETFROM:-0500
TZOFFSETTO:-0400
TZNAME:EDT
DTSTART:20220313T070000
END:DAYLIGHT
BEGIN:STANDARD
TZOFFSETFROM:-0400
TZOFFSETTO:-0500
TZNAME:EST
DTSTART:20221106T060000
END:STANDARD
BEGIN:DAYLIGHT
TZOFFSETFROM:-0500
TZOFFSETTO:-0400
TZNAME:EDT
DTSTART:20230312T070000
END:DAYLIGHT
BEGIN:STANDARD
TZOFFSETFROM:-0400
TZOFFSETTO:-0500
TZNAME:EST
DTSTART:20231105T060000
END:STANDARD
END:VTIMEZONE
BEGIN:VEVENT
DTSTART;TZID=America/New_York:20221020T080000
DTEND;TZID=America/New_York:20221020T090000
DTSTAMP:20260422T183547
CREATED:20220722T201955Z
LAST-MODIFIED:20220722T201955Z
UID:16623-1666252800-1666256400@warsawfumc.org
SUMMARY:Men's Bible Study w/Pastor
DESCRIPTION:All men are invited. Bring your Bible and we will look at the scripture and discuss the previous Sunday’s message.
URL:https://warsawfumc.org/event/mens-bible-study-w-pastor-85/
LOCATION:Via Zoom until further notice
END:VEVENT
BEGIN:VEVENT
DTSTART;TZID=America/New_York:20221020T080000
DTEND;TZID=America/New_York:20221020T090000
DTSTAMP:20260422T183547
CREATED:20220722T201955Z
LAST-MODIFIED:20220722T201955Z
UID:16624-1666252800-1666256400@warsawfumc.org
SUMMARY:Men's Bible Study w/Harrold
DESCRIPTION:This Men’s Bible Study is led by Richard Harrold
URL:https://warsawfumc.org/event/mens-bible-study-w-harrold-98/
LOCATION:FUMC Parlor Downtown
END:VEVENT
BEGIN:VEVENT
DTSTART;TZID=America/New_York:20221020T190000
DTEND;TZID=America/New_York:20221020T200000
DTSTAMP:20260422T183547
CREATED:20220722T201955Z
LAST-MODIFIED:20220722T201955Z
UID:16625-1666292400-1666296000@warsawfumc.org
SUMMARY:Bible Study
DESCRIPTION:
URL:https://warsawfumc.org/event/bible-study-85/
LOCATION:Via Zoom until further notice
END:VEVENT
END:VCALENDAR