BEGIN:VCALENDAR
VERSION:2.0
PRODID:-//Warsaw FUMC - ECPv6.15.20//NONSGML v1.0//EN
CALSCALE:GREGORIAN
METHOD:PUBLISH
X-WR-CALNAME:Warsaw FUMC
X-ORIGINAL-URL:https://warsawfumc.org
X-WR-CALDESC:Events for Warsaw FUMC
REFRESH-INTERVAL;VALUE=DURATION:PT1H
X-Robots-Tag:noindex
X-PUBLISHED-TTL:PT1H
BEGIN:VTIMEZONE
TZID:America/New_York
BEGIN:DAYLIGHT
TZOFFSETFROM:-0500
TZOFFSETTO:-0400
TZNAME:EDT
DTSTART:20220313T070000
END:DAYLIGHT
BEGIN:STANDARD
TZOFFSETFROM:-0400
TZOFFSETTO:-0500
TZNAME:EST
DTSTART:20221106T060000
END:STANDARD
BEGIN:DAYLIGHT
TZOFFSETFROM:-0500
TZOFFSETTO:-0400
TZNAME:EDT
DTSTART:20230312T070000
END:DAYLIGHT
BEGIN:STANDARD
TZOFFSETFROM:-0400
TZOFFSETTO:-0500
TZNAME:EST
DTSTART:20231105T060000
END:STANDARD
BEGIN:DAYLIGHT
TZOFFSETFROM:-0500
TZOFFSETTO:-0400
TZNAME:EDT
DTSTART:20240310T070000
END:DAYLIGHT
BEGIN:STANDARD
TZOFFSETFROM:-0400
TZOFFSETTO:-0500
TZNAME:EST
DTSTART:20241103T060000
END:STANDARD
END:VTIMEZONE
BEGIN:VEVENT
DTSTART;TZID=America/New_York:20230419T110000
DTEND;TZID=America/New_York:20230419T130000
DTSTAMP:20260419T105928
CREATED:20230223T141938Z
LAST-MODIFIED:20230223T141938Z
UID:17453-1681902000-1681909200@warsawfumc.org
SUMMARY:Salvation Army Auxiliary Soup & Pie
DESCRIPTION:Site Host: Warsaw First United Methodist Church/The Connection campus
URL:https://warsawfumc.org/event/salvation-army-auxiliary-soup-pie/
LOCATION:1692 W Lake St\, Warsaw\, IN 46580\, USA
END:VEVENT
BEGIN:VEVENT
DTSTART;TZID=America/New_York:20230419T133000
DTEND;TZID=America/New_York:20230419T150000
DTSTAMP:20260419T105928
CREATED:20230119T202059Z
LAST-MODIFIED:20230119T202059Z
UID:17252-1681911000-1681916400@warsawfumc.org
SUMMARY:Small Group w/Jan Wilcox
DESCRIPTION:
URL:https://warsawfumc.org/event/small-group-w-jan-wilcox-123/
LOCATION:Via Zoom at this time
END:VEVENT
END:VCALENDAR