BEGIN:VCALENDAR
VERSION:2.0
PRODID:-//Warsaw FUMC - ECPv6.15.20//NONSGML v1.0//EN
CALSCALE:GREGORIAN
METHOD:PUBLISH
X-WR-CALNAME:Warsaw FUMC
X-ORIGINAL-URL:https://warsawfumc.org
X-WR-CALDESC:Events for Warsaw FUMC
REFRESH-INTERVAL;VALUE=DURATION:PT1H
X-Robots-Tag:noindex
X-PUBLISHED-TTL:PT1H
BEGIN:VTIMEZONE
TZID:America/New_York
BEGIN:DAYLIGHT
TZOFFSETFROM:-0500
TZOFFSETTO:-0400
TZNAME:EDT
DTSTART:20210314T070000
END:DAYLIGHT
BEGIN:STANDARD
TZOFFSETFROM:-0400
TZOFFSETTO:-0500
TZNAME:EST
DTSTART:20211107T060000
END:STANDARD
BEGIN:DAYLIGHT
TZOFFSETFROM:-0500
TZOFFSETTO:-0400
TZNAME:EDT
DTSTART:20220313T070000
END:DAYLIGHT
BEGIN:STANDARD
TZOFFSETFROM:-0400
TZOFFSETTO:-0500
TZNAME:EST
DTSTART:20221106T060000
END:STANDARD
BEGIN:DAYLIGHT
TZOFFSETFROM:-0500
TZOFFSETTO:-0400
TZNAME:EDT
DTSTART:20230312T070000
END:DAYLIGHT
BEGIN:STANDARD
TZOFFSETFROM:-0400
TZOFFSETTO:-0500
TZNAME:EST
DTSTART:20231105T060000
END:STANDARD
BEGIN:DAYLIGHT
TZOFFSETFROM:-0500
TZOFFSETTO:-0400
TZNAME:EDT
DTSTART:20240310T070000
END:DAYLIGHT
BEGIN:STANDARD
TZOFFSETFROM:-0400
TZOFFSETTO:-0500
TZNAME:EST
DTSTART:20241103T060000
END:STANDARD
END:VTIMEZONE
BEGIN:VEVENT
DTSTART;TZID=America/New_York:20230105T190000
DTEND;TZID=America/New_York:20230105T200000
DTSTAMP:20260420T033350
CREATED:20221008T160828Z
LAST-MODIFIED:20221008T160828Z
UID:16893-1672945200-1672948800@warsawfumc.org
SUMMARY:Bible Study
DESCRIPTION:
URL:https://warsawfumc.org/event/bible-study-96/
LOCATION:Via Zoom until further notice
END:VEVENT
BEGIN:VEVENT
DTSTART;TZID=America/New_York:20230105T080000
DTEND;TZID=America/New_York:20230105T090000
DTSTAMP:20260420T033350
CREATED:20221007T160452Z
LAST-MODIFIED:20221007T160452Z
UID:16890-1672905600-1672909200@warsawfumc.org
SUMMARY:Men's Bible Study w/Harrold
DESCRIPTION:This Men’s Bible Study is led by Richard Harrold
URL:https://warsawfumc.org/event/mens-bible-study-w-harrold-109/
LOCATION:FUMC Parlor Downtown
END:VEVENT
BEGIN:VEVENT
DTSTART;TZID=America/New_York:20230105T080000
DTEND;TZID=America/New_York:20230105T090000
DTSTAMP:20260420T033350
CREATED:20221007T160452Z
LAST-MODIFIED:20221007T160452Z
UID:16891-1672905600-1672909200@warsawfumc.org
SUMMARY:Men's Bible Study w/Pastor
DESCRIPTION:All men are invited. Bring your Bible and we will look at the scripture and discuss the previous Sunday’s message.
URL:https://warsawfumc.org/event/mens-bible-study-w-pastor-96/
LOCATION:Via Zoom until further notice
END:VEVENT
BEGIN:VEVENT
DTSTART;TZID=America/New_York:20230104T133000
DTEND;TZID=America/New_York:20230104T150000
DTSTAMP:20260420T033350
CREATED:20221006T160543Z
LAST-MODIFIED:20221006T160543Z
UID:16886-1672839000-1672844400@warsawfumc.org
SUMMARY:Small Group w/Jan Wilcox
DESCRIPTION:
URL:https://warsawfumc.org/event/small-group-w-jan-wilcox-108/
LOCATION:Via Zoom at this time
END:VEVENT
BEGIN:VEVENT
DTSTART;TZID=America/New_York:20230103T180000
DTEND;TZID=America/New_York:20230103T190000
DTSTAMP:20260420T033350
CREATED:20221005T160447Z
LAST-MODIFIED:20221005T160447Z
UID:16880-1672768800-1672772400@warsawfumc.org
SUMMARY:Prayer Group
DESCRIPTION:
URL:https://warsawfumc.org/event/prayer-group-93/
LOCATION:First United Methodist Church\, 179 S Indiana St\, Warsaw\, IN 46580\, USA\, 101 S Indiana St\, United States
END:VEVENT
BEGIN:VEVENT
DTSTART;TZID=America/New_York:20230102T183000
DTEND;TZID=America/New_York:20230102T193000
DTSTAMP:20260420T033350
CREATED:20221004T155421Z
LAST-MODIFIED:20221004T155421Z
UID:16878-1672684200-1672687800@warsawfumc.org
SUMMARY:Cub Pack 3731
DESCRIPTION:
URL:https://warsawfumc.org/event/cub-pack-3731-93/
LOCATION:First United Methodist Church\, 179 S Indiana St\, Warsaw\, IN 46580\, USA\, 101 S Indiana St\, United States
END:VEVENT
BEGIN:VEVENT
DTSTART;TZID=America/New_York:20221229T190000
DTEND;TZID=America/New_York:20221229T200000
DTSTAMP:20260420T033350
CREATED:20221001T154937Z
LAST-MODIFIED:20221001T154937Z
UID:16874-1672340400-1672344000@warsawfumc.org
SUMMARY:Bible Study
DESCRIPTION:
URL:https://warsawfumc.org/event/bible-study-95/
LOCATION:Via Zoom until further notice
END:VEVENT
BEGIN:VEVENT
DTSTART;TZID=America/New_York:20221229T080000
DTEND;TZID=America/New_York:20221229T090000
DTSTAMP:20260420T033350
CREATED:20220930T155327Z
LAST-MODIFIED:20220930T155327Z
UID:16871-1672300800-1672304400@warsawfumc.org
SUMMARY:Men's Bible Study w/Harrold
DESCRIPTION:This Men’s Bible Study is led by Richard Harrold
URL:https://warsawfumc.org/event/mens-bible-study-w-harrold-108/
LOCATION:FUMC Parlor Downtown
END:VEVENT
BEGIN:VEVENT
DTSTART;TZID=America/New_York:20221229T080000
DTEND;TZID=America/New_York:20221229T090000
DTSTAMP:20260420T033350
CREATED:20220930T155327Z
LAST-MODIFIED:20220930T155327Z
UID:16872-1672300800-1672304400@warsawfumc.org
SUMMARY:Men's Bible Study w/Pastor
DESCRIPTION:All men are invited. Bring your Bible and we will look at the scripture and discuss the previous Sunday’s message.
URL:https://warsawfumc.org/event/mens-bible-study-w-pastor-95/
LOCATION:Via Zoom until further notice
END:VEVENT
BEGIN:VEVENT
DTSTART;TZID=America/New_York:20221228T133000
DTEND;TZID=America/New_York:20221228T150000
DTSTAMP:20260420T033350
CREATED:20220929T155348Z
LAST-MODIFIED:20220929T155348Z
UID:16869-1672234200-1672239600@warsawfumc.org
SUMMARY:Small Group w/Jan Wilcox
DESCRIPTION:
URL:https://warsawfumc.org/event/small-group-w-jan-wilcox-107/
LOCATION:Via Zoom at this time
END:VEVENT
BEGIN:VEVENT
DTSTART;TZID=America/New_York:20221227T190000
DTEND;TZID=America/New_York:20221227T203000
DTSTAMP:20260420T033350
CREATED:20220929T155348Z
LAST-MODIFIED:20220929T155348Z
UID:16868-1672167600-1672173000@warsawfumc.org
SUMMARY:Servant Council
DESCRIPTION:
URL:https://warsawfumc.org/event/servant-council-22/
LOCATION:Board Room\, 925 North Garfield Street\, Arlington\, VA\, 22201\, United States
END:VEVENT
BEGIN:VEVENT
DTSTART;TZID=America/New_York:20221227T180000
DTEND;TZID=America/New_York:20221227T190000
DTSTAMP:20260420T033350
CREATED:20220928T153531Z
LAST-MODIFIED:20220928T153531Z
UID:16862-1672164000-1672167600@warsawfumc.org
SUMMARY:Prayer Group
DESCRIPTION:
URL:https://warsawfumc.org/event/prayer-group-92/
LOCATION:First United Methodist Church\, 179 S Indiana St\, Warsaw\, IN 46580\, USA\, 101 S Indiana St\, United States
END:VEVENT
BEGIN:VEVENT
DTSTART;TZID=America/New_York:20221226T183000
DTEND;TZID=America/New_York:20221226T193000
DTSTAMP:20260420T033350
CREATED:20220927T153550Z
LAST-MODIFIED:20220927T153550Z
UID:16860-1672079400-1672083000@warsawfumc.org
SUMMARY:Cub Pack 3731
DESCRIPTION:
URL:https://warsawfumc.org/event/cub-pack-3731-92/
LOCATION:First United Methodist Church\, 179 S Indiana St\, Warsaw\, IN 46580\, USA\, 101 S Indiana St\, United States
END:VEVENT
BEGIN:VEVENT
DTSTART;TZID=America/New_York:20221222T190000
DTEND;TZID=America/New_York:20221222T200000
DTSTAMP:20260420T033350
CREATED:20220924T152024Z
LAST-MODIFIED:20220924T152024Z
UID:16856-1671735600-1671739200@warsawfumc.org
SUMMARY:Bible Study
DESCRIPTION:
URL:https://warsawfumc.org/event/bible-study-94/
LOCATION:Via Zoom until further notice
END:VEVENT
BEGIN:VEVENT
DTSTART;TZID=America/New_York:20221222T080000
DTEND;TZID=America/New_York:20221222T090000
DTSTAMP:20260420T033350
CREATED:20220923T150711Z
LAST-MODIFIED:20220923T150711Z
UID:16853-1671696000-1671699600@warsawfumc.org
SUMMARY:Men's Bible Study w/Harrold
DESCRIPTION:This Men’s Bible Study is led by Richard Harrold
URL:https://warsawfumc.org/event/mens-bible-study-w-harrold-107/
LOCATION:FUMC Parlor Downtown
END:VEVENT
BEGIN:VEVENT
DTSTART;TZID=America/New_York:20221222T080000
DTEND;TZID=America/New_York:20221222T090000
DTSTAMP:20260420T033350
CREATED:20220923T150711Z
LAST-MODIFIED:20220923T150711Z
UID:16854-1671696000-1671699600@warsawfumc.org
SUMMARY:Men's Bible Study w/Pastor
DESCRIPTION:All men are invited. Bring your Bible and we will look at the scripture and discuss the previous Sunday’s message.
URL:https://warsawfumc.org/event/mens-bible-study-w-pastor-94/
LOCATION:Via Zoom until further notice
END:VEVENT
BEGIN:VEVENT
DTSTART;TZID=America/New_York:20221221T133000
DTEND;TZID=America/New_York:20221221T150000
DTSTAMP:20260420T033350
CREATED:20220922T150639Z
LAST-MODIFIED:20220922T150639Z
UID:16848-1671629400-1671634800@warsawfumc.org
SUMMARY:Small Group w/Jan Wilcox
DESCRIPTION:
URL:https://warsawfumc.org/event/small-group-w-jan-wilcox-106/
LOCATION:Via Zoom at this time
END:VEVENT
BEGIN:VEVENT
DTSTART;TZID=America/New_York:20221220T180000
DTEND;TZID=America/New_York:20221220T190000
DTSTAMP:20260420T033350
CREATED:20220921T150440Z
LAST-MODIFIED:20220921T150440Z
UID:16846-1671559200-1671562800@warsawfumc.org
SUMMARY:Prayer Group
DESCRIPTION:
URL:https://warsawfumc.org/event/prayer-group-91/
LOCATION:First United Methodist Church\, 179 S Indiana St\, Warsaw\, IN 46580\, USA\, 101 S Indiana St\, United States
END:VEVENT
BEGIN:VEVENT
DTSTART;TZID=America/New_York:20221219T183000
DTEND;TZID=America/New_York:20221219T193000
DTSTAMP:20260420T033350
CREATED:20220920T145125Z
LAST-MODIFIED:20220920T145125Z
UID:16844-1671474600-1671478200@warsawfumc.org
SUMMARY:Cub Pack 3731
DESCRIPTION:
URL:https://warsawfumc.org/event/cub-pack-3731-91/
LOCATION:First United Methodist Church\, 179 S Indiana St\, Warsaw\, IN 46580\, USA\, 101 S Indiana St\, United States
END:VEVENT
BEGIN:VEVENT
DTSTART;TZID=America/New_York:20221215T190000
DTEND;TZID=America/New_York:20221215T200000
DTSTAMP:20260420T033350
CREATED:20220917T145013Z
LAST-MODIFIED:20220917T145013Z
UID:16839-1671130800-1671134400@warsawfumc.org
SUMMARY:Bible Study
DESCRIPTION:
URL:https://warsawfumc.org/event/bible-study-93/
LOCATION:Via Zoom until further notice
END:VEVENT
BEGIN:VEVENT
DTSTART;TZID=America/New_York:20221215T080000
DTEND;TZID=America/New_York:20221215T090000
DTSTAMP:20260420T033350
CREATED:20220916T145306Z
LAST-MODIFIED:20220916T145306Z
UID:16831-1671091200-1671094800@warsawfumc.org
SUMMARY:Men's Bible Study w/Harrold
DESCRIPTION:This Men’s Bible Study is led by Richard Harrold
URL:https://warsawfumc.org/event/mens-bible-study-w-harrold-106/
LOCATION:FUMC Parlor Downtown
END:VEVENT
BEGIN:VEVENT
DTSTART;TZID=America/New_York:20221215T080000
DTEND;TZID=America/New_York:20221215T090000
DTSTAMP:20260420T033350
CREATED:20220916T145306Z
LAST-MODIFIED:20220916T145306Z
UID:16832-1671091200-1671094800@warsawfumc.org
SUMMARY:Men's Bible Study w/Pastor
DESCRIPTION:All men are invited. Bring your Bible and we will look at the scripture and discuss the previous Sunday’s message.
URL:https://warsawfumc.org/event/mens-bible-study-w-pastor-93/
LOCATION:Via Zoom until further notice
END:VEVENT
BEGIN:VEVENT
DTSTART;TZID=America/New_York:20221214T133000
DTEND;TZID=America/New_York:20221214T150000
DTSTAMP:20260420T033350
CREATED:20220915T145056Z
LAST-MODIFIED:20220915T145056Z
UID:16829-1671024600-1671030000@warsawfumc.org
SUMMARY:Small Group w/Jan Wilcox
DESCRIPTION:
URL:https://warsawfumc.org/event/small-group-w-jan-wilcox-105/
LOCATION:Via Zoom at this time
END:VEVENT
BEGIN:VEVENT
DTSTART;TZID=America/New_York:20221213T190000
DTEND;TZID=America/New_York:20221213T203000
DTSTAMP:20260420T033350
CREATED:20221128T175212Z
LAST-MODIFIED:20221128T175212Z
UID:17093-1670958000-1670963400@warsawfumc.org
SUMMARY:Servant Council
DESCRIPTION:7pm both Downtown in the Boardroom and on Zoom with the link provided below. \nBrian Smith is inviting you to a scheduled Zoom meeting. \nTopic: Servant Council Time: December 13\, 2022  7pm \nJoin Zoom Meetinghttps://us02web.zoom.us/j/87845929819?pwd=V1p5QlVyMFhLWHFuWmwyV0lUM2w4dz09
URL:https://warsawfumc.org/event/servant-council-24/
LOCATION:179 S Indiana St\, Warsaw\, IN 46580\, USA
END:VEVENT
BEGIN:VEVENT
DTSTART;TZID=America/New_York:20221213T180000
DTEND;TZID=America/New_York:20221213T190000
DTSTAMP:20260420T033350
CREATED:20220914T145028Z
LAST-MODIFIED:20220914T145028Z
UID:16822-1670954400-1670958000@warsawfumc.org
SUMMARY:Prayer Group
DESCRIPTION:
URL:https://warsawfumc.org/event/prayer-group-90/
LOCATION:First United Methodist Church\, 179 S Indiana St\, Warsaw\, IN 46580\, USA\, 101 S Indiana St\, United States
END:VEVENT
BEGIN:VEVENT
DTSTART;TZID=America/New_York:20221212T183000
DTEND;TZID=America/New_York:20221212T193000
DTSTAMP:20260420T033350
CREATED:20220913T144936Z
LAST-MODIFIED:20220913T144936Z
UID:16820-1670869800-1670873400@warsawfumc.org
SUMMARY:Cub Pack 3731
DESCRIPTION:
URL:https://warsawfumc.org/event/cub-pack-3731-90/
LOCATION:First United Methodist Church\, 179 S Indiana St\, Warsaw\, IN 46580\, USA\, 101 S Indiana St\, United States
END:VEVENT
BEGIN:VEVENT
DTSTART;TZID=America/New_York:20221208T190000
DTEND;TZID=America/New_York:20221208T200000
DTSTAMP:20260420T033350
CREATED:20220910T143438Z
LAST-MODIFIED:20220910T143438Z
UID:16794-1670526000-1670529600@warsawfumc.org
SUMMARY:Bible Study
DESCRIPTION:
URL:https://warsawfumc.org/event/bible-study-92/
LOCATION:Via Zoom until further notice
END:VEVENT
BEGIN:VEVENT
DTSTART;TZID=America/New_York:20221208T080000
DTEND;TZID=America/New_York:20221208T090000
DTSTAMP:20260420T033350
CREATED:20220909T143713Z
LAST-MODIFIED:20220909T143713Z
UID:16791-1670486400-1670490000@warsawfumc.org
SUMMARY:Men's Bible Study w/Harrold
DESCRIPTION:This Men’s Bible Study is led by Richard Harrold
URL:https://warsawfumc.org/event/mens-bible-study-w-harrold-105/
LOCATION:FUMC Parlor Downtown
END:VEVENT
BEGIN:VEVENT
DTSTART;TZID=America/New_York:20221208T080000
DTEND;TZID=America/New_York:20221208T090000
DTSTAMP:20260420T033350
CREATED:20220909T143713Z
LAST-MODIFIED:20220909T143713Z
UID:16792-1670486400-1670490000@warsawfumc.org
SUMMARY:Men's Bible Study w/Pastor
DESCRIPTION:All men are invited. Bring your Bible and we will look at the scripture and discuss the previous Sunday’s message.
URL:https://warsawfumc.org/event/mens-bible-study-w-pastor-92/
LOCATION:Via Zoom until further notice
END:VEVENT
BEGIN:VEVENT
DTSTART;TZID=America/New_York:20221207T133000
DTEND;TZID=America/New_York:20221207T150000
DTSTAMP:20260420T033350
CREATED:20220908T142002Z
LAST-MODIFIED:20220908T142002Z
UID:16789-1670419800-1670425200@warsawfumc.org
SUMMARY:Small Group w/Jan Wilcox
DESCRIPTION:
URL:https://warsawfumc.org/event/small-group-w-jan-wilcox-104/
LOCATION:Via Zoom at this time
END:VEVENT
END:VCALENDAR