BEGIN:VCALENDAR
VERSION:2.0
PRODID:-//Warsaw FUMC - ECPv6.15.20//NONSGML v1.0//EN
CALSCALE:GREGORIAN
METHOD:PUBLISH
X-WR-CALNAME:Warsaw FUMC
X-ORIGINAL-URL:https://warsawfumc.org
X-WR-CALDESC:Events for Warsaw FUMC
REFRESH-INTERVAL;VALUE=DURATION:PT1H
X-Robots-Tag:noindex
X-PUBLISHED-TTL:PT1H
BEGIN:VTIMEZONE
TZID:America/New_York
BEGIN:DAYLIGHT
TZOFFSETFROM:-0500
TZOFFSETTO:-0400
TZNAME:EDT
DTSTART:20210314T070000
END:DAYLIGHT
BEGIN:STANDARD
TZOFFSETFROM:-0400
TZOFFSETTO:-0500
TZNAME:EST
DTSTART:20211107T060000
END:STANDARD
BEGIN:DAYLIGHT
TZOFFSETFROM:-0500
TZOFFSETTO:-0400
TZNAME:EDT
DTSTART:20220313T070000
END:DAYLIGHT
BEGIN:STANDARD
TZOFFSETFROM:-0400
TZOFFSETTO:-0500
TZNAME:EST
DTSTART:20221106T060000
END:STANDARD
BEGIN:DAYLIGHT
TZOFFSETFROM:-0500
TZOFFSETTO:-0400
TZNAME:EDT
DTSTART:20230312T070000
END:DAYLIGHT
BEGIN:STANDARD
TZOFFSETFROM:-0400
TZOFFSETTO:-0500
TZNAME:EST
DTSTART:20231105T060000
END:STANDARD
END:VTIMEZONE
BEGIN:VEVENT
DTSTART;TZID=America/New_York:20221213T190000
DTEND;TZID=America/New_York:20221213T203000
DTSTAMP:20260419T212235
CREATED:20221128T175212Z
LAST-MODIFIED:20221128T175212Z
UID:17093-1670958000-1670963400@warsawfumc.org
SUMMARY:Servant Council
DESCRIPTION:7pm both Downtown in the Boardroom and on Zoom with the link provided below. \nBrian Smith is inviting you to a scheduled Zoom meeting. \nTopic: Servant Council Time: December 13\, 2022  7pm \nJoin Zoom Meetinghttps://us02web.zoom.us/j/87845929819?pwd=V1p5QlVyMFhLWHFuWmwyV0lUM2w4dz09
URL:https://warsawfumc.org/event/servant-council-24/
LOCATION:179 S Indiana St\, Warsaw\, IN 46580\, USA
END:VEVENT
BEGIN:VEVENT
DTSTART;TZID=America/New_York:20221213T180000
DTEND;TZID=America/New_York:20221213T190000
DTSTAMP:20260419T212235
CREATED:20220914T145028Z
LAST-MODIFIED:20220914T145028Z
UID:16822-1670954400-1670958000@warsawfumc.org
SUMMARY:Prayer Group
DESCRIPTION:
URL:https://warsawfumc.org/event/prayer-group-90/
LOCATION:First United Methodist Church\, 179 S Indiana St\, Warsaw\, IN 46580\, USA\, 101 S Indiana St\, United States
END:VEVENT
BEGIN:VEVENT
DTSTART;TZID=America/New_York:20221212T183000
DTEND;TZID=America/New_York:20221212T193000
DTSTAMP:20260419T212235
CREATED:20220913T144936Z
LAST-MODIFIED:20220913T144936Z
UID:16820-1670869800-1670873400@warsawfumc.org
SUMMARY:Cub Pack 3731
DESCRIPTION:
URL:https://warsawfumc.org/event/cub-pack-3731-90/
LOCATION:First United Methodist Church\, 179 S Indiana St\, Warsaw\, IN 46580\, USA\, 101 S Indiana St\, United States
END:VEVENT
BEGIN:VEVENT
DTSTART;TZID=America/New_York:20221208T190000
DTEND;TZID=America/New_York:20221208T200000
DTSTAMP:20260419T212235
CREATED:20220910T143438Z
LAST-MODIFIED:20220910T143438Z
UID:16794-1670526000-1670529600@warsawfumc.org
SUMMARY:Bible Study
DESCRIPTION:
URL:https://warsawfumc.org/event/bible-study-92/
LOCATION:Via Zoom until further notice
END:VEVENT
BEGIN:VEVENT
DTSTART;TZID=America/New_York:20221208T080000
DTEND;TZID=America/New_York:20221208T090000
DTSTAMP:20260419T212235
CREATED:20220909T143713Z
LAST-MODIFIED:20220909T143713Z
UID:16791-1670486400-1670490000@warsawfumc.org
SUMMARY:Men's Bible Study w/Harrold
DESCRIPTION:This Men’s Bible Study is led by Richard Harrold
URL:https://warsawfumc.org/event/mens-bible-study-w-harrold-105/
LOCATION:FUMC Parlor Downtown
END:VEVENT
BEGIN:VEVENT
DTSTART;TZID=America/New_York:20221208T080000
DTEND;TZID=America/New_York:20221208T090000
DTSTAMP:20260419T212235
CREATED:20220909T143713Z
LAST-MODIFIED:20220909T143713Z
UID:16792-1670486400-1670490000@warsawfumc.org
SUMMARY:Men's Bible Study w/Pastor
DESCRIPTION:All men are invited. Bring your Bible and we will look at the scripture and discuss the previous Sunday’s message.
URL:https://warsawfumc.org/event/mens-bible-study-w-pastor-92/
LOCATION:Via Zoom until further notice
END:VEVENT
BEGIN:VEVENT
DTSTART;TZID=America/New_York:20221207T133000
DTEND;TZID=America/New_York:20221207T150000
DTSTAMP:20260419T212235
CREATED:20220908T142002Z
LAST-MODIFIED:20220908T142002Z
UID:16789-1670419800-1670425200@warsawfumc.org
SUMMARY:Small Group w/Jan Wilcox
DESCRIPTION:
URL:https://warsawfumc.org/event/small-group-w-jan-wilcox-104/
LOCATION:Via Zoom at this time
END:VEVENT
BEGIN:VEVENT
DTSTART;TZID=America/New_York:20221206T180000
DTEND;TZID=America/New_York:20221206T190000
DTSTAMP:20260419T212235
CREATED:20220907T142019Z
LAST-MODIFIED:20220907T142019Z
UID:16787-1670349600-1670353200@warsawfumc.org
SUMMARY:Prayer Group
DESCRIPTION:
URL:https://warsawfumc.org/event/prayer-group-89/
LOCATION:First United Methodist Church\, 179 S Indiana St\, Warsaw\, IN 46580\, USA\, 101 S Indiana St\, United States
END:VEVENT
BEGIN:VEVENT
DTSTART;TZID=America/New_York:20221205T183000
DTEND;TZID=America/New_York:20221205T193000
DTSTAMP:20260419T212235
CREATED:20220906T140704Z
LAST-MODIFIED:20220906T140704Z
UID:16785-1670265000-1670268600@warsawfumc.org
SUMMARY:Cub Pack 3731
DESCRIPTION:
URL:https://warsawfumc.org/event/cub-pack-3731-89/
LOCATION:First United Methodist Church\, 179 S Indiana St\, Warsaw\, IN 46580\, USA\, 101 S Indiana St\, United States
END:VEVENT
BEGIN:VEVENT
DTSTART;TZID=America/New_York:20221201T190000
DTEND;TZID=America/New_York:20221201T200000
DTSTAMP:20260419T212235
CREATED:20220903T235022Z
LAST-MODIFIED:20220903T235022Z
UID:16782-1669921200-1669924800@warsawfumc.org
SUMMARY:Bible Study
DESCRIPTION:
URL:https://warsawfumc.org/event/bible-study-91/
LOCATION:Via Zoom until further notice
END:VEVENT
BEGIN:VEVENT
DTSTART;TZID=America/New_York:20221201T080000
DTEND;TZID=America/New_York:20221201T090000
DTSTAMP:20260419T212235
CREATED:20220902T235029Z
LAST-MODIFIED:20220902T235029Z
UID:16779-1669881600-1669885200@warsawfumc.org
SUMMARY:Men's Bible Study w/Harrold
DESCRIPTION:This Men’s Bible Study is led by Richard Harrold
URL:https://warsawfumc.org/event/mens-bible-study-w-harrold-104/
LOCATION:FUMC Parlor Downtown
END:VEVENT
BEGIN:VEVENT
DTSTART;TZID=America/New_York:20221201T080000
DTEND;TZID=America/New_York:20221201T090000
DTSTAMP:20260419T212235
CREATED:20220902T235029Z
LAST-MODIFIED:20220902T235029Z
UID:16780-1669881600-1669885200@warsawfumc.org
SUMMARY:Men's Bible Study w/Pastor
DESCRIPTION:All men are invited. Bring your Bible and we will look at the scripture and discuss the previous Sunday’s message.
URL:https://warsawfumc.org/event/mens-bible-study-w-pastor-91/
LOCATION:Via Zoom until further notice
END:VEVENT
BEGIN:VEVENT
DTSTART;TZID=America/New_York:20221130T133000
DTEND;TZID=America/New_York:20221130T150000
DTSTAMP:20260419T212235
CREATED:20220901T235157Z
LAST-MODIFIED:20220901T235157Z
UID:16777-1669815000-1669820400@warsawfumc.org
SUMMARY:Small Group w/Jan Wilcox
DESCRIPTION:
URL:https://warsawfumc.org/event/small-group-w-jan-wilcox-103/
LOCATION:Via Zoom at this time
END:VEVENT
BEGIN:VEVENT
DTSTART;TZID=America/New_York:20221129T180000
DTEND;TZID=America/New_York:20221129T190000
DTSTAMP:20260419T212235
CREATED:20220831T235131Z
LAST-MODIFIED:20220831T235131Z
UID:16767-1669744800-1669748400@warsawfumc.org
SUMMARY:Prayer Group
DESCRIPTION:
URL:https://warsawfumc.org/event/prayer-group-88/
LOCATION:First United Methodist Church\, 179 S Indiana St\, Warsaw\, IN 46580\, USA\, 101 S Indiana St\, United States
END:VEVENT
BEGIN:VEVENT
DTSTART;TZID=America/New_York:20221128T183000
DTEND;TZID=America/New_York:20221128T193000
DTSTAMP:20260419T212235
CREATED:20220830T235113Z
LAST-MODIFIED:20220830T235113Z
UID:16765-1669660200-1669663800@warsawfumc.org
SUMMARY:Cub Pack 3731
DESCRIPTION:
URL:https://warsawfumc.org/event/cub-pack-3731-88/
LOCATION:First United Methodist Church\, 179 S Indiana St\, Warsaw\, IN 46580\, USA\, 101 S Indiana St\, United States
END:VEVENT
BEGIN:VEVENT
DTSTART;TZID=America/New_York:20221124T190000
DTEND;TZID=America/New_York:20221124T200000
DTSTAMP:20260419T212235
CREATED:20220827T232427Z
LAST-MODIFIED:20220827T232427Z
UID:16761-1669316400-1669320000@warsawfumc.org
SUMMARY:Bible Study
DESCRIPTION:
URL:https://warsawfumc.org/event/bible-study-90/
LOCATION:Via Zoom until further notice
END:VEVENT
BEGIN:VEVENT
DTSTART;TZID=America/New_York:20221124T080000
DTEND;TZID=America/New_York:20221124T090000
DTSTAMP:20260419T212235
CREATED:20220826T230547Z
LAST-MODIFIED:20220826T230547Z
UID:16758-1669276800-1669280400@warsawfumc.org
SUMMARY:Men's Bible Study w/Pastor
DESCRIPTION:All men are invited. Bring your Bible and we will look at the scripture and discuss the previous Sunday’s message.
URL:https://warsawfumc.org/event/mens-bible-study-w-pastor-90/
LOCATION:Via Zoom until further notice
END:VEVENT
BEGIN:VEVENT
DTSTART;TZID=America/New_York:20221124T080000
DTEND;TZID=America/New_York:20221124T090000
DTSTAMP:20260419T212235
CREATED:20220826T230547Z
LAST-MODIFIED:20220826T230547Z
UID:16759-1669276800-1669280400@warsawfumc.org
SUMMARY:Men's Bible Study w/Harrold
DESCRIPTION:This Men’s Bible Study is led by Richard Harrold
URL:https://warsawfumc.org/event/mens-bible-study-w-harrold-103/
LOCATION:FUMC Parlor Downtown
END:VEVENT
BEGIN:VEVENT
DTSTART;TZID=America/New_York:20221123T133000
DTEND;TZID=America/New_York:20221123T150000
DTSTAMP:20260419T212235
CREATED:20220825T230526Z
LAST-MODIFIED:20220825T230526Z
UID:16756-1669210200-1669215600@warsawfumc.org
SUMMARY:Small Group w/Jan Wilcox
DESCRIPTION:
URL:https://warsawfumc.org/event/small-group-w-jan-wilcox-102/
LOCATION:Via Zoom at this time
END:VEVENT
BEGIN:VEVENT
DTSTART;TZID=America/New_York:20221122T190000
DTEND;TZID=America/New_York:20221122T203000
DTSTAMP:20260419T212235
CREATED:20220825T230526Z
LAST-MODIFIED:20220825T230526Z
UID:16755-1669143600-1669149000@warsawfumc.org
SUMMARY:Servant Council
DESCRIPTION:
URL:https://warsawfumc.org/event/servant-council-21/
LOCATION:Board Room\, 925 North Garfield Street\, Arlington\, VA\, 22201\, United States
END:VEVENT
BEGIN:VEVENT
DTSTART;TZID=America/New_York:20221122T180000
DTEND;TZID=America/New_York:20221122T190000
DTSTAMP:20260419T212235
CREATED:20220824T230559Z
LAST-MODIFIED:20220824T230559Z
UID:16749-1669140000-1669143600@warsawfumc.org
SUMMARY:Prayer Group
DESCRIPTION:
URL:https://warsawfumc.org/event/prayer-group-87/
LOCATION:First United Methodist Church\, 179 S Indiana St\, Warsaw\, IN 46580\, USA\, 101 S Indiana St\, United States
END:VEVENT
BEGIN:VEVENT
DTSTART;TZID=America/New_York:20221121T183000
DTEND;TZID=America/New_York:20221121T193000
DTSTAMP:20260419T212235
CREATED:20220823T230509Z
LAST-MODIFIED:20220823T230509Z
UID:16740-1669055400-1669059000@warsawfumc.org
SUMMARY:Cub Pack 3731
DESCRIPTION:
URL:https://warsawfumc.org/event/cub-pack-3731-87/
LOCATION:First United Methodist Church\, 179 S Indiana St\, Warsaw\, IN 46580\, USA\, 101 S Indiana St\, United States
END:VEVENT
BEGIN:VEVENT
DTSTART;TZID=America/New_York:20221117T190000
DTEND;TZID=America/New_York:20221117T200000
DTSTAMP:20260419T212235
CREATED:20220820T225022Z
LAST-MODIFIED:20220820T225022Z
UID:16736-1668711600-1668715200@warsawfumc.org
SUMMARY:Bible Study
DESCRIPTION:
URL:https://warsawfumc.org/event/bible-study-89/
LOCATION:Via Zoom until further notice
END:VEVENT
BEGIN:VEVENT
DTSTART;TZID=America/New_York:20221117T080000
DTEND;TZID=America/New_York:20221117T090000
DTSTAMP:20260419T212235
CREATED:20220819T225059Z
LAST-MODIFIED:20220819T225059Z
UID:16733-1668672000-1668675600@warsawfumc.org
SUMMARY:Men's Bible Study w/Harrold
DESCRIPTION:This Men’s Bible Study is led by Richard Harrold
URL:https://warsawfumc.org/event/mens-bible-study-w-harrold-102/
LOCATION:FUMC Parlor Downtown
END:VEVENT
BEGIN:VEVENT
DTSTART;TZID=America/New_York:20221117T080000
DTEND;TZID=America/New_York:20221117T090000
DTSTAMP:20260419T212235
CREATED:20220819T225059Z
LAST-MODIFIED:20220819T225059Z
UID:16734-1668672000-1668675600@warsawfumc.org
SUMMARY:Men's Bible Study w/Pastor
DESCRIPTION:All men are invited. Bring your Bible and we will look at the scripture and discuss the previous Sunday’s message.
URL:https://warsawfumc.org/event/mens-bible-study-w-pastor-89/
LOCATION:Via Zoom until further notice
END:VEVENT
BEGIN:VEVENT
DTSTART;TZID=America/New_York:20221116T133000
DTEND;TZID=America/New_York:20221116T150000
DTSTAMP:20260419T212235
CREATED:20220818T223632Z
LAST-MODIFIED:20220818T223632Z
UID:16731-1668605400-1668610800@warsawfumc.org
SUMMARY:Small Group w/Jan Wilcox
DESCRIPTION:
URL:https://warsawfumc.org/event/small-group-w-jan-wilcox-101/
LOCATION:Via Zoom at this time
END:VEVENT
BEGIN:VEVENT
DTSTART;TZID=America/New_York:20221115T180000
DTEND;TZID=America/New_York:20221115T190000
DTSTAMP:20260419T212235
CREATED:20220817T223456Z
LAST-MODIFIED:20220817T223456Z
UID:16726-1668535200-1668538800@warsawfumc.org
SUMMARY:Prayer Group
DESCRIPTION:
URL:https://warsawfumc.org/event/prayer-group-86/
LOCATION:First United Methodist Church\, 179 S Indiana St\, Warsaw\, IN 46580\, USA\, 101 S Indiana St\, United States
END:VEVENT
BEGIN:VEVENT
DTSTART;TZID=America/New_York:20221114T183000
DTEND;TZID=America/New_York:20221114T193000
DTSTAMP:20260419T212235
CREATED:20220816T223508Z
LAST-MODIFIED:20220816T223508Z
UID:16719-1668450600-1668454200@warsawfumc.org
SUMMARY:Cub Pack 3731
DESCRIPTION:
URL:https://warsawfumc.org/event/cub-pack-3731-86/
LOCATION:First United Methodist Church\, 179 S Indiana St\, Warsaw\, IN 46580\, USA\, 101 S Indiana St\, United States
END:VEVENT
BEGIN:VEVENT
DTSTART;TZID=America/New_York:20221110T190000
DTEND;TZID=America/New_York:20221110T200000
DTSTAMP:20260419T212235
CREATED:20220813T221936Z
LAST-MODIFIED:20220813T221936Z
UID:16715-1668106800-1668110400@warsawfumc.org
SUMMARY:Bible Study
DESCRIPTION:
URL:https://warsawfumc.org/event/bible-study-88/
LOCATION:Via Zoom until further notice
END:VEVENT
BEGIN:VEVENT
DTSTART;TZID=America/New_York:20221110T080000
DTEND;TZID=America/New_York:20221110T090000
DTSTAMP:20260419T212235
CREATED:20220812T221950Z
LAST-MODIFIED:20220812T221950Z
UID:16712-1668067200-1668070800@warsawfumc.org
SUMMARY:Men's Bible Study w/Pastor
DESCRIPTION:All men are invited. Bring your Bible and we will look at the scripture and discuss the previous Sunday’s message.
URL:https://warsawfumc.org/event/mens-bible-study-w-pastor-88/
LOCATION:Via Zoom until further notice
END:VEVENT
END:VCALENDAR