BEGIN:VCALENDAR
VERSION:2.0
PRODID:-//Warsaw FUMC - ECPv6.15.20//NONSGML v1.0//EN
CALSCALE:GREGORIAN
METHOD:PUBLISH
X-WR-CALNAME:Warsaw FUMC
X-ORIGINAL-URL:https://warsawfumc.org
X-WR-CALDESC:Events for Warsaw FUMC
REFRESH-INTERVAL;VALUE=DURATION:PT1H
X-Robots-Tag:noindex
X-PUBLISHED-TTL:PT1H
BEGIN:VTIMEZONE
TZID:America/New_York
BEGIN:DAYLIGHT
TZOFFSETFROM:-0500
TZOFFSETTO:-0400
TZNAME:EDT
DTSTART:20210314T070000
END:DAYLIGHT
BEGIN:STANDARD
TZOFFSETFROM:-0400
TZOFFSETTO:-0500
TZNAME:EST
DTSTART:20211107T060000
END:STANDARD
BEGIN:DAYLIGHT
TZOFFSETFROM:-0500
TZOFFSETTO:-0400
TZNAME:EDT
DTSTART:20220313T070000
END:DAYLIGHT
BEGIN:STANDARD
TZOFFSETFROM:-0400
TZOFFSETTO:-0500
TZNAME:EST
DTSTART:20221106T060000
END:STANDARD
BEGIN:DAYLIGHT
TZOFFSETFROM:-0500
TZOFFSETTO:-0400
TZNAME:EDT
DTSTART:20230312T070000
END:DAYLIGHT
BEGIN:STANDARD
TZOFFSETFROM:-0400
TZOFFSETTO:-0500
TZNAME:EST
DTSTART:20231105T060000
END:STANDARD
END:VTIMEZONE
BEGIN:VEVENT
DTSTART;TZID=America/New_York:20221003T183000
DTEND;TZID=America/New_York:20221003T193000
DTSTAMP:20260420T214345
CREATED:20220705T190437Z
LAST-MODIFIED:20220705T190437Z
UID:16577-1664821800-1664825400@warsawfumc.org
SUMMARY:Cub Pack 3731
DESCRIPTION:
URL:https://warsawfumc.org/event/cub-pack-3731-80/
LOCATION:First United Methodist Church\, 179 S Indiana St\, Warsaw\, IN 46580\, USA\, 101 S Indiana St\, United States
END:VEVENT
BEGIN:VEVENT
DTSTART;TZID=America/New_York:20220929T190000
DTEND;TZID=America/New_York:20220929T200000
DTSTAMP:20260420T214345
CREATED:20220701T183539Z
LAST-MODIFIED:20220701T183539Z
UID:16572-1664478000-1664481600@warsawfumc.org
SUMMARY:Bible Study
DESCRIPTION:
URL:https://warsawfumc.org/event/bible-study-82/
LOCATION:Via Zoom until further notice
END:VEVENT
BEGIN:VEVENT
DTSTART;TZID=America/New_York:20220929T080000
DTEND;TZID=America/New_York:20220929T090000
DTSTAMP:20260420T214345
CREATED:20220701T183539Z
LAST-MODIFIED:20220701T183539Z
UID:16570-1664438400-1664442000@warsawfumc.org
SUMMARY:Men's Bible Study w/Harrold
DESCRIPTION:This Men’s Bible Study is led by Richard Harrold
URL:https://warsawfumc.org/event/mens-bible-study-w-harrold-95/
LOCATION:FUMC Parlor Downtown
END:VEVENT
BEGIN:VEVENT
DTSTART;TZID=America/New_York:20220929T080000
DTEND;TZID=America/New_York:20220929T090000
DTSTAMP:20260420T214345
CREATED:20220701T183539Z
LAST-MODIFIED:20220701T183539Z
UID:16571-1664438400-1664442000@warsawfumc.org
SUMMARY:Men's Bible Study w/Pastor
DESCRIPTION:All men are invited. Bring your Bible and we will look at the scripture and discuss the previous Sunday’s message.
URL:https://warsawfumc.org/event/mens-bible-study-w-pastor-82/
LOCATION:Via Zoom until further notice
END:VEVENT
BEGIN:VEVENT
DTSTART;TZID=America/New_York:20220928T133000
DTEND;TZID=America/New_York:20220928T150000
DTSTAMP:20260420T214345
CREATED:20220630T182238Z
LAST-MODIFIED:20220630T182238Z
UID:16568-1664371800-1664377200@warsawfumc.org
SUMMARY:Small Group w/Jan Wilcox
DESCRIPTION:
URL:https://warsawfumc.org/event/small-group-w-jan-wilcox-94/
LOCATION:Via Zoom at this time
END:VEVENT
BEGIN:VEVENT
DTSTART;TZID=America/New_York:20220927T190000
DTEND;TZID=America/New_York:20220927T203000
DTSTAMP:20260420T214345
CREATED:20220629T182111Z
LAST-MODIFIED:20220629T182111Z
UID:16566-1664305200-1664310600@warsawfumc.org
SUMMARY:Servant Council
DESCRIPTION:
URL:https://warsawfumc.org/event/servant-council-19/
LOCATION:Board Room\, 925 North Garfield Street\, Arlington\, VA\, 22201\, United States
END:VEVENT
BEGIN:VEVENT
DTSTART;TZID=America/New_York:20220927T180000
DTEND;TZID=America/New_York:20220927T190000
DTSTAMP:20260420T214345
CREATED:20220629T182111Z
LAST-MODIFIED:20220629T182111Z
UID:16565-1664301600-1664305200@warsawfumc.org
SUMMARY:Prayer Group
DESCRIPTION:
URL:https://warsawfumc.org/event/prayer-group-79/
LOCATION:First United Methodist Church\, 179 S Indiana St\, Warsaw\, IN 46580\, USA\, 101 S Indiana St\, United States
END:VEVENT
BEGIN:VEVENT
DTSTART;TZID=America/New_York:20220926T183000
DTEND;TZID=America/New_York:20220926T193000
DTSTAMP:20260420T214345
CREATED:20220628T181946Z
LAST-MODIFIED:20220628T181946Z
UID:16547-1664217000-1664220600@warsawfumc.org
SUMMARY:Cub Pack 3731
DESCRIPTION:
URL:https://warsawfumc.org/event/cub-pack-3731-79/
LOCATION:First United Methodist Church\, 179 S Indiana St\, Warsaw\, IN 46580\, USA\, 101 S Indiana St\, United States
END:VEVENT
BEGIN:VEVENT
DTSTART;TZID=America/New_York:20220922T190000
DTEND;TZID=America/New_York:20220922T200000
DTSTAMP:20260420T214345
CREATED:20220624T180532Z
LAST-MODIFIED:20220624T180532Z
UID:16542-1663873200-1663876800@warsawfumc.org
SUMMARY:Bible Study
DESCRIPTION:
URL:https://warsawfumc.org/event/bible-study-81/
LOCATION:Via Zoom until further notice
END:VEVENT
BEGIN:VEVENT
DTSTART;TZID=America/New_York:20220922T080000
DTEND;TZID=America/New_York:20220922T090000
DTSTAMP:20260420T214345
CREATED:20220624T180531Z
LAST-MODIFIED:20220624T180531Z
UID:16540-1663833600-1663837200@warsawfumc.org
SUMMARY:Men's Bible Study w/Pastor
DESCRIPTION:All men are invited. Bring your Bible and we will look at the scripture and discuss the previous Sunday’s message.
URL:https://warsawfumc.org/event/mens-bible-study-w-pastor-81/
LOCATION:Via Zoom until further notice
END:VEVENT
BEGIN:VEVENT
DTSTART;TZID=America/New_York:20220922T080000
DTEND;TZID=America/New_York:20220922T090000
DTSTAMP:20260420T214345
CREATED:20220624T180531Z
LAST-MODIFIED:20220624T180531Z
UID:16541-1663833600-1663837200@warsawfumc.org
SUMMARY:Men's Bible Study w/Harrold
DESCRIPTION:This Men’s Bible Study is led by Richard Harrold
URL:https://warsawfumc.org/event/mens-bible-study-w-harrold-94/
LOCATION:FUMC Parlor Downtown
END:VEVENT
BEGIN:VEVENT
DTSTART;TZID=America/New_York:20220921T133000
DTEND;TZID=America/New_York:20220921T150000
DTSTAMP:20260420T214345
CREATED:20220623T175238Z
LAST-MODIFIED:20220623T175238Z
UID:16538-1663767000-1663772400@warsawfumc.org
SUMMARY:Small Group w/Jan Wilcox
DESCRIPTION:
URL:https://warsawfumc.org/event/small-group-w-jan-wilcox-93/
LOCATION:Via Zoom at this time
END:VEVENT
BEGIN:VEVENT
DTSTART;TZID=America/New_York:20220920T180000
DTEND;TZID=America/New_York:20220920T190000
DTSTAMP:20260420T214345
CREATED:20220622T174320Z
LAST-MODIFIED:20220622T174320Z
UID:16527-1663696800-1663700400@warsawfumc.org
SUMMARY:Prayer Group
DESCRIPTION:
URL:https://warsawfumc.org/event/prayer-group-78/
LOCATION:First United Methodist Church\, 179 S Indiana St\, Warsaw\, IN 46580\, USA\, 101 S Indiana St\, United States
END:VEVENT
BEGIN:VEVENT
DTSTART;TZID=America/New_York:20220919T183000
DTEND;TZID=America/New_York:20220919T193000
DTSTAMP:20260420T214345
CREATED:20220621T173547Z
LAST-MODIFIED:20220621T173547Z
UID:16525-1663612200-1663615800@warsawfumc.org
SUMMARY:Cub Pack 3731
DESCRIPTION:
URL:https://warsawfumc.org/event/cub-pack-3731-78/
LOCATION:First United Methodist Church\, 179 S Indiana St\, Warsaw\, IN 46580\, USA\, 101 S Indiana St\, United States
END:VEVENT
BEGIN:VEVENT
DTSTART;TZID=America/New_York:20220915T190000
DTEND;TZID=America/New_York:20220915T200000
DTSTAMP:20260420T214345
CREATED:20220617T172338Z
LAST-MODIFIED:20220617T172338Z
UID:16520-1663268400-1663272000@warsawfumc.org
SUMMARY:Bible Study
DESCRIPTION:
URL:https://warsawfumc.org/event/bible-study-80/
LOCATION:Via Zoom until further notice
END:VEVENT
BEGIN:VEVENT
DTSTART;TZID=America/New_York:20220915T080000
DTEND;TZID=America/New_York:20220915T090000
DTSTAMP:20260420T214345
CREATED:20220617T172338Z
LAST-MODIFIED:20220617T172338Z
UID:16518-1663228800-1663232400@warsawfumc.org
SUMMARY:Men's Bible Study w/Pastor
DESCRIPTION:All men are invited. Bring your Bible and we will look at the scripture and discuss the previous Sunday’s message.
URL:https://warsawfumc.org/event/mens-bible-study-w-pastor-80/
LOCATION:Via Zoom until further notice
END:VEVENT
BEGIN:VEVENT
DTSTART;TZID=America/New_York:20220915T080000
DTEND;TZID=America/New_York:20220915T090000
DTSTAMP:20260420T214345
CREATED:20220617T172338Z
LAST-MODIFIED:20220617T172338Z
UID:16519-1663228800-1663232400@warsawfumc.org
SUMMARY:Men's Bible Study w/Harrold
DESCRIPTION:This Men’s Bible Study is led by Richard Harrold
URL:https://warsawfumc.org/event/mens-bible-study-w-harrold-93/
LOCATION:FUMC Parlor Downtown
END:VEVENT
BEGIN:VEVENT
DTSTART;TZID=America/New_York:20220914T133000
DTEND;TZID=America/New_York:20220914T150000
DTSTAMP:20260420T214345
CREATED:20220616T171037Z
LAST-MODIFIED:20220616T171037Z
UID:16516-1663162200-1663167600@warsawfumc.org
SUMMARY:Small Group w/Jan Wilcox
DESCRIPTION:
URL:https://warsawfumc.org/event/small-group-w-jan-wilcox-92/
LOCATION:Via Zoom at this time
END:VEVENT
BEGIN:VEVENT
DTSTART;TZID=America/New_York:20220913T180000
DTEND;TZID=America/New_York:20220913T190000
DTSTAMP:20260420T214345
CREATED:20220615T170446Z
LAST-MODIFIED:20220615T170446Z
UID:16505-1663092000-1663095600@warsawfumc.org
SUMMARY:Prayer Group
DESCRIPTION:
URL:https://warsawfumc.org/event/prayer-group-77/
LOCATION:First United Methodist Church\, 179 S Indiana St\, Warsaw\, IN 46580\, USA\, 101 S Indiana St\, United States
END:VEVENT
BEGIN:VEVENT
DTSTART;TZID=America/New_York:20220912T183000
DTEND;TZID=America/New_York:20220912T193000
DTSTAMP:20260420T214345
CREATED:20220614T170522Z
LAST-MODIFIED:20220614T170522Z
UID:16503-1663007400-1663011000@warsawfumc.org
SUMMARY:Cub Pack 3731
DESCRIPTION:
URL:https://warsawfumc.org/event/cub-pack-3731-77/
LOCATION:First United Methodist Church\, 179 S Indiana St\, Warsaw\, IN 46580\, USA\, 101 S Indiana St\, United States
END:VEVENT
BEGIN:VEVENT
DTSTART;TZID=America/New_York:20220908T190000
DTEND;TZID=America/New_York:20220908T200000
DTSTAMP:20260420T214345
CREATED:20220610T165238Z
LAST-MODIFIED:20220610T165238Z
UID:16498-1662663600-1662667200@warsawfumc.org
SUMMARY:Bible Study
DESCRIPTION:
URL:https://warsawfumc.org/event/bible-study-79/
LOCATION:Via Zoom until further notice
END:VEVENT
BEGIN:VEVENT
DTSTART;TZID=America/New_York:20220908T080000
DTEND;TZID=America/New_York:20220908T090000
DTSTAMP:20260420T214345
CREATED:20220610T165238Z
LAST-MODIFIED:20220610T165238Z
UID:16496-1662624000-1662627600@warsawfumc.org
SUMMARY:Men's Bible Study w/Pastor
DESCRIPTION:All men are invited. Bring your Bible and we will look at the scripture and discuss the previous Sunday’s message.
URL:https://warsawfumc.org/event/mens-bible-study-w-pastor-79/
LOCATION:Via Zoom until further notice
END:VEVENT
BEGIN:VEVENT
DTSTART;TZID=America/New_York:20220908T080000
DTEND;TZID=America/New_York:20220908T090000
DTSTAMP:20260420T214345
CREATED:20220610T165238Z
LAST-MODIFIED:20220610T165238Z
UID:16497-1662624000-1662627600@warsawfumc.org
SUMMARY:Men's Bible Study w/Harrold
DESCRIPTION:This Men’s Bible Study is led by Richard Harrold
URL:https://warsawfumc.org/event/mens-bible-study-w-harrold-92/
LOCATION:FUMC Parlor Downtown
END:VEVENT
BEGIN:VEVENT
DTSTART;TZID=America/New_York:20220907T133000
DTEND;TZID=America/New_York:20220907T150000
DTSTAMP:20260420T214345
CREATED:20220609T164951Z
LAST-MODIFIED:20220609T164951Z
UID:16494-1662557400-1662562800@warsawfumc.org
SUMMARY:Small Group w/Jan Wilcox
DESCRIPTION:
URL:https://warsawfumc.org/event/small-group-w-jan-wilcox-91/
LOCATION:Via Zoom at this time
END:VEVENT
BEGIN:VEVENT
DTSTART;TZID=America/New_York:20220906T180000
DTEND;TZID=America/New_York:20220906T190000
DTSTAMP:20260420T214345
CREATED:20220608T164938Z
LAST-MODIFIED:20220608T164938Z
UID:16474-1662487200-1662490800@warsawfumc.org
SUMMARY:Prayer Group
DESCRIPTION:
URL:https://warsawfumc.org/event/prayer-group-76/
LOCATION:First United Methodist Church\, 179 S Indiana St\, Warsaw\, IN 46580\, USA\, 101 S Indiana St\, United States
END:VEVENT
BEGIN:VEVENT
DTSTART;TZID=America/New_York:20220905T183000
DTEND;TZID=America/New_York:20220905T193000
DTSTAMP:20260420T214345
CREATED:20220607T165135Z
LAST-MODIFIED:20220607T165135Z
UID:16470-1662402600-1662406200@warsawfumc.org
SUMMARY:Cub Pack 3731
DESCRIPTION:
URL:https://warsawfumc.org/event/cub-pack-3731-76/
LOCATION:First United Methodist Church\, 179 S Indiana St\, Warsaw\, IN 46580\, USA\, 101 S Indiana St\, United States
END:VEVENT
BEGIN:VEVENT
DTSTART;TZID=America/New_York:20220901T190000
DTEND;TZID=America/New_York:20220901T200000
DTSTAMP:20260420T214345
CREATED:20220603T165047Z
LAST-MODIFIED:20220603T165047Z
UID:16465-1662058800-1662062400@warsawfumc.org
SUMMARY:Bible Study
DESCRIPTION:
URL:https://warsawfumc.org/event/bible-study-78/
LOCATION:Via Zoom until further notice
END:VEVENT
BEGIN:VEVENT
DTSTART;TZID=America/New_York:20220901T080000
DTEND;TZID=America/New_York:20220901T090000
DTSTAMP:20260420T214345
CREATED:20220603T165047Z
LAST-MODIFIED:20220603T165047Z
UID:16463-1662019200-1662022800@warsawfumc.org
SUMMARY:Men's Bible Study w/Harrold
DESCRIPTION:This Men’s Bible Study is led by Richard Harrold
URL:https://warsawfumc.org/event/mens-bible-study-w-harrold-91/
LOCATION:FUMC Parlor Downtown
END:VEVENT
BEGIN:VEVENT
DTSTART;TZID=America/New_York:20220901T080000
DTEND;TZID=America/New_York:20220901T090000
DTSTAMP:20260420T214345
CREATED:20220603T165047Z
LAST-MODIFIED:20220603T165047Z
UID:16464-1662019200-1662022800@warsawfumc.org
SUMMARY:Men's Bible Study w/Pastor
DESCRIPTION:All men are invited. Bring your Bible and we will look at the scripture and discuss the previous Sunday’s message.
URL:https://warsawfumc.org/event/mens-bible-study-w-pastor-78/
LOCATION:Via Zoom until further notice
END:VEVENT
BEGIN:VEVENT
DTSTART;TZID=America/New_York:20220831T133000
DTEND;TZID=America/New_York:20220831T150000
DTSTAMP:20260420T214345
CREATED:20220602T165028Z
LAST-MODIFIED:20220602T165028Z
UID:16461-1661952600-1661958000@warsawfumc.org
SUMMARY:Small Group w/Jan Wilcox
DESCRIPTION:
URL:https://warsawfumc.org/event/small-group-w-jan-wilcox-90/
LOCATION:Via Zoom at this time
END:VEVENT
END:VCALENDAR