BEGIN:VCALENDAR
VERSION:2.0
PRODID:-//Warsaw FUMC - ECPv6.15.20//NONSGML v1.0//EN
CALSCALE:GREGORIAN
METHOD:PUBLISH
X-ORIGINAL-URL:https://warsawfumc.org
X-WR-CALDESC:Events for Warsaw FUMC
REFRESH-INTERVAL;VALUE=DURATION:PT1H
X-Robots-Tag:noindex
X-PUBLISHED-TTL:PT1H
BEGIN:VTIMEZONE
TZID:America/New_York
BEGIN:DAYLIGHT
TZOFFSETFROM:-0500
TZOFFSETTO:-0400
TZNAME:EDT
DTSTART:20240310T070000
END:DAYLIGHT
BEGIN:STANDARD
TZOFFSETFROM:-0400
TZOFFSETTO:-0500
TZNAME:EST
DTSTART:20241103T060000
END:STANDARD
BEGIN:DAYLIGHT
TZOFFSETFROM:-0500
TZOFFSETTO:-0400
TZNAME:EDT
DTSTART:20250309T070000
END:DAYLIGHT
BEGIN:STANDARD
TZOFFSETFROM:-0400
TZOFFSETTO:-0500
TZNAME:EST
DTSTART:20251102T060000
END:STANDARD
BEGIN:DAYLIGHT
TZOFFSETFROM:-0500
TZOFFSETTO:-0400
TZNAME:EDT
DTSTART:20260308T070000
END:DAYLIGHT
BEGIN:STANDARD
TZOFFSETFROM:-0400
TZOFFSETTO:-0500
TZNAME:EST
DTSTART:20261101T060000
END:STANDARD
END:VTIMEZONE
BEGIN:VEVENT
DTSTART;TZID=America/New_York:20250421T183000
DTEND;TZID=America/New_York:20250421T193000
DTSTAMP:20260420T180923
CREATED:20250204T153054Z
LAST-MODIFIED:20250204T153054Z
UID:20101-1745260200-1745263800@warsawfumc.org
SUMMARY:Cub Pack 3731
DESCRIPTION:
URL:https://warsawfumc.org/event/cub-pack-3731-209/
LOCATION:First United Methodist Church\, 179 S Indiana St\, Warsaw\, IN\, United States
END:VEVENT
BEGIN:VEVENT
DTSTART;TZID=America/New_York:20250421T183000
DTEND;TZID=America/New_York:20250421T193000
DTSTAMP:20260420T180923
CREATED:20250417T204014Z
LAST-MODIFIED:20250421T192028Z
UID:20709-1745260200-1745263800@warsawfumc.org
SUMMARY:Cub Pack 3731
DESCRIPTION:
URL:https://warsawfumc.org/event/cub-pack-3731-218/
LOCATION:First United Methodist Church\, 179 S Indiana St\, Warsaw\, IN\, United States
END:VEVENT
BEGIN:VEVENT
DTSTART;TZID=America/New_York:20250421T183000
DTEND;TZID=America/New_York:20250421T193000
DTSTAMP:20260420T180923
CREATED:20250417T204014Z
LAST-MODIFIED:20250421T020014Z
UID:20710-1745260200-1745263800@warsawfumc.org
SUMMARY:Making Sense of the Bible
DESCRIPTION:Pastor Bill Kaster will lead this study in the Parlor.
URL:https://warsawfumc.org/event/making-sense-of-the-bible-3/
LOCATION:179 S Indiana St\, Warsaw\, IN\, United States
END:VEVENT
BEGIN:VEVENT
DTSTART;TZID=America/New_York:20250421T190000
DTEND;TZID=America/New_York:20250421T200000
DTSTAMP:20260420T180923
CREATED:20250204T153054Z
LAST-MODIFIED:20250204T153054Z
UID:20100-1745262000-1745265600@warsawfumc.org
SUMMARY:Boy Scouts Troop 0730
DESCRIPTION:Meets in 3rd floor room 303
URL:https://warsawfumc.org/event/boy-scouts-troop-0730-60/
LOCATION:First United Methodist Church\, 179 S Indiana St\, Warsaw\, IN\, United States
END:VEVENT
BEGIN:VEVENT
DTSTART;TZID=America/New_York:20250421T190000
DTEND;TZID=America/New_York:20250421T200000
DTSTAMP:20260420T180923
CREATED:20250417T204014Z
LAST-MODIFIED:20250421T192028Z
UID:20708-1745262000-1745265600@warsawfumc.org
SUMMARY:Boy Scouts Troop 0730
DESCRIPTION:Meets in 3rd floor room 303
URL:https://warsawfumc.org/event/boy-scouts-troop-0730-69/
LOCATION:First United Methodist Church\, 179 S Indiana St\, Warsaw\, IN\, United States
END:VEVENT
BEGIN:VEVENT
DTSTART;TZID=America/New_York:20250422T130000
DTEND;TZID=America/New_York:20250422T150000
DTSTAMP:20260420T180923
CREATED:20250417T204015Z
LAST-MODIFIED:20250421T192028Z
UID:20711-1745326800-1745334000@warsawfumc.org
SUMMARY:Chicks with Sticks
DESCRIPTION:A fun time for fellowship for those who knit\, crochet or do other needle crafts! Bring your projects and share in the fun!
URL:https://warsawfumc.org/event/chicks-with-sticks-6/
LOCATION:Martin’s Super Market\, 1150 Husky Trl\, Warsaw\, IN\, United States
END:VEVENT
BEGIN:VEVENT
DTSTART;TZID=America/New_York:20250422T173000
DTEND;TZID=America/New_York:20250422T183000
DTSTAMP:20260420T180923
CREATED:20250421T002012Z
LAST-MODIFIED:20250422T222010Z
UID:20725-1745343000-1745346600@warsawfumc.org
SUMMARY:Girl Scout Troop 0158
DESCRIPTION:Meets in Room 203
URL:https://warsawfumc.org/event/girl-scout-troop-0158-11/
LOCATION:179 S Indiana St\, Warsaw\, IN\, United States
END:VEVENT
BEGIN:VEVENT
DTSTART;TZID=America/New_York:20250422T190000
DTEND;TZID=America/New_York:20250422T203000
DTSTAMP:20260420T180923
CREATED:20250204T153054Z
LAST-MODIFIED:20250423T002009Z
UID:20102-1745348400-1745353800@warsawfumc.org
SUMMARY:Servant Council
DESCRIPTION:
URL:https://warsawfumc.org/event/servant-council-51/
LOCATION:Board Room\, 925 North Garfield Street\, Arlington\, VA\, 22201\, United States
END:VEVENT
BEGIN:VEVENT
DTSTART;TZID=America/New_York:20250423T110000
DTEND;TZID=America/New_York:20250423T130000
DTSTAMP:20260420T180923
CREATED:20250421T194013Z
LAST-MODIFIED:20250423T034015Z
UID:20731-1745406000-1745413200@warsawfumc.org
SUMMARY:Community Kitchen and Closet
DESCRIPTION:Meal provided by Trinity  United Methodist Church
URL:https://warsawfumc.org/event/community-kitchen-and-closet-7/
LOCATION:179 S Indiana St\, Warsaw\, IN\, United States
END:VEVENT
BEGIN:VEVENT
DTSTART;TZID=America/New_York:20250423T133000
DTEND;TZID=America/New_York:20250423T143000
DTSTAMP:20260420T180923
CREATED:20250204T153054Z
LAST-MODIFIED:20250204T153054Z
UID:20103-1745415000-1745418600@warsawfumc.org
SUMMARY:Wilcox Small Group
DESCRIPTION:
URL:https://warsawfumc.org/event/wilcox-small-group-51/
LOCATION:179 S Indiana St\, Warsaw\, IN\, United States
END:VEVENT
BEGIN:VEVENT
DTSTART;TZID=America/New_York:20250423T133000
DTEND;TZID=America/New_York:20250423T143000
DTSTAMP:20260420T180923
CREATED:20250421T194013Z
LAST-MODIFIED:20250423T034015Z
UID:20732-1745415000-1745418600@warsawfumc.org
SUMMARY:Wilcox Small Group
DESCRIPTION:
URL:https://warsawfumc.org/event/wilcox-small-group-56/
LOCATION:179 S Indiana St\, Warsaw\, IN\, United States
END:VEVENT
BEGIN:VEVENT
DTSTART;TZID=America/New_York:20250423T133000
DTEND;TZID=America/New_York:20250423T143000
DTSTAMP:20260420T180923
CREATED:20250421T194013Z
LAST-MODIFIED:20250423T034015Z
UID:20733-1745415000-1745418600@warsawfumc.org
SUMMARY:Wilcox Small Group
DESCRIPTION:
URL:https://warsawfumc.org/event/wilcox-small-group-57/
LOCATION:179 S Indiana St\, Warsaw\, IN\, United States
END:VEVENT
BEGIN:VEVENT
DTSTART;TZID=America/New_York:20250423T180000
DTEND;TZID=America/New_York:20250423T190000
DTSTAMP:20260420T180923
CREATED:20250421T194013Z
LAST-MODIFIED:20250423T230013Z
UID:20735-1745431200-1745434800@warsawfumc.org
SUMMARY:Ginn Handbells Rehearsal
DESCRIPTION:Meets in 3rd Floor Alcove
URL:https://warsawfumc.org/event/ginn-handbells-rehearsal-8/
LOCATION:179 S Indiana St\, Warsaw\, IN\, United States
END:VEVENT
BEGIN:VEVENT
DTSTART;TZID=America/New_York:20250423T190000
DTEND;TZID=America/New_York:20250423T200000
DTSTAMP:20260420T180923
CREATED:20250421T194013Z
LAST-MODIFIED:20250423T234014Z
UID:20734-1745434800-1745438400@warsawfumc.org
SUMMARY:Sanctuary Choir Rehearsal
DESCRIPTION:Meets in Sanctuary
URL:https://warsawfumc.org/event/sanctuary-choir-rehearsal-9/
LOCATION:179 S Indiana St\, Warsaw\, IN\, United States
END:VEVENT
BEGIN:VEVENT
DTSTART;TZID=America/New_York:20250424T080000
DTEND;TZID=America/New_York:20250424T090000
DTSTAMP:20260420T180923
CREATED:20250204T153055Z
LAST-MODIFIED:20250204T153055Z
UID:20104-1745481600-1745485200@warsawfumc.org
SUMMARY:Men's Bible Study w/Pastor
DESCRIPTION:This study is via Zoom. All men are invited. Bring your Bible and we will look at the scripture and discuss the previous Sunday’s message.
URL:https://warsawfumc.org/event/mens-bible-study-w-pastor-222/
LOCATION:Via Zoom until further notice
END:VEVENT
BEGIN:VEVENT
DTSTART;TZID=America/New_York:20250424T080000
DTEND;TZID=America/New_York:20250424T090000
DTSTAMP:20260420T180923
CREATED:20250211T145836Z
LAST-MODIFIED:20250211T145836Z
UID:20161-1745481600-1745485200@warsawfumc.org
SUMMARY:Men's Bible Study w/Pastor
DESCRIPTION:This study is via Zoom. All men are invited. Bring your Bible and we will look at the scripture and discuss the previous Sunday’s message.
URL:https://warsawfumc.org/event/mens-bible-study-w-pastor-235/
LOCATION:Via Zoom until further notice
END:VEVENT
BEGIN:VEVENT
DTSTART;TZID=America/New_York:20250424T080000
DTEND;TZID=America/New_York:20250424T090000
DTSTAMP:20260420T180923
CREATED:20250211T150750Z
LAST-MODIFIED:20250211T150750Z
UID:20179-1745481600-1745485200@warsawfumc.org
SUMMARY:Men's Bible Study w/Pastor
DESCRIPTION:This study is via Zoom. All men are invited. We will look at the scripture and discuss the previous Sunday’s message.
URL:https://warsawfumc.org/event/mens-bible-study-w-pastor-248/
LOCATION:via Zoom
END:VEVENT
BEGIN:VEVENT
DTSTART;TZID=America/New_York:20250424T170000
DTEND;TZID=America/New_York:20250424T190000
DTSTAMP:20260420T180923
CREATED:20250423T200026Z
LAST-MODIFIED:20250424T230014Z
UID:20750-1745514000-1745521200@warsawfumc.org
SUMMARY:Bible Study-"Miracle of Divine Visitation"
DESCRIPTION:Meets in Parlor
URL:https://warsawfumc.org/event/bible-study-miracle-of-divine-visitation-10/
LOCATION:179 S Indiana St\, Warsaw\, IN\, United States
END:VEVENT
BEGIN:VEVENT
DTSTART;TZID=America/New_York:20250424T190000
DTEND;TZID=America/New_York:20250424T200000
DTSTAMP:20260420T180923
CREATED:20250204T153055Z
LAST-MODIFIED:20250204T153055Z
UID:20105-1745521200-1745524800@warsawfumc.org
SUMMARY:Bible Study
DESCRIPTION:
URL:https://warsawfumc.org/event/bible-study-212/
LOCATION:Via Zoom until further notice
END:VEVENT
BEGIN:VEVENT
DTSTART;TZID=America/New_York:20250424T190000
DTEND;TZID=America/New_York:20250424T200000
DTSTAMP:20260420T180923
CREATED:20250423T200026Z
LAST-MODIFIED:20250424T234015Z
UID:20749-1745521200-1745524800@warsawfumc.org
SUMMARY:Praise Team Rehearsal @ Joe's Kids
DESCRIPTION:
URL:https://warsawfumc.org/event/praise-team-rehearsal-joes-kids-8/
LOCATION:1692 W Lake St\, Warsaw\, IN\, United States
END:VEVENT
BEGIN:VEVENT
DTSTART;TZID=America/New_York:20250427T090000
DTEND;TZID=America/New_York:20250427T100000
DTSTAMP:20260420T180923
CREATED:20250204T153055Z
LAST-MODIFIED:20250427T032013Z
UID:20106-1745744400-1745748000@warsawfumc.org
SUMMARY:Traditional Worship
DESCRIPTION:
URL:https://warsawfumc.org/event/traditional-worship-37/
LOCATION:179 S Indiana St\, Warsaw\, IN\, United States
END:VEVENT
BEGIN:VEVENT
DTSTART;TZID=America/New_York:20250427T100000
DTEND;TZID=America/New_York:20250427T110000
DTSTAMP:20260420T180923
CREATED:20250424T000019Z
LAST-MODIFIED:20250427T032013Z
UID:20756-1745748000-1745751600@warsawfumc.org
SUMMARY:Sunday School
DESCRIPTION:Sunday Morning Groups for all Ages \n~First Families—This group is a family event where we gather and break off into Parent Class (3rd floor Room 303)\, Youth gathering (Lower Level Room 1)\, Upper and Elementary classes (2nd floor Rooms 202 and 203)\, and Preschool/Baby (2nd floor Room 201). \n~Fidelity Sunday School—Adult Bible Studies curriculum. (Lower Level Room 202). \n~Let’s Talk About It!— A multi-generational group with facilitated discussion about the personal impact of that day’s 9:00 a.m. service/sermon and how we can apply it to our work in the kingdom\, our families\, and our community. (Parlor behind the Sanctuary)  \nFor information on weekday small group opportunities\, please contact the church office. \n 
URL:https://warsawfumc.org/event/sunday-school-12/
LOCATION:179 S Indiana St\, Warsaw\, IN\, United States
END:VEVENT
BEGIN:VEVENT
DTSTART;TZID=America/New_York:20250427T110000
DTEND;TZID=America/New_York:20250427T120000
DTSTAMP:20260420T180923
CREATED:20250423T232015Z
LAST-MODIFIED:20250427T032013Z
UID:20754-1745751600-1745755200@warsawfumc.org
SUMMARY:Contemporary Worship @ Joe's Kids
DESCRIPTION:
URL:https://warsawfumc.org/event/contemporary-worship-joes-kids-9/
LOCATION:1692 W Lake St\, Warsaw\, IN\, United States
END:VEVENT
BEGIN:VEVENT
DTSTART;TZID=America/New_York:20250428T093000
DTEND;TZID=America/New_York:20250428T103000
DTSTAMP:20260420T180923
CREATED:20250424T232016Z
LAST-MODIFIED:20250427T032013Z
UID:20759-1745832600-1745836200@warsawfumc.org
SUMMARY:Women's Morning Bible Study
DESCRIPTION:Meets in the Parlor
URL:https://warsawfumc.org/event/womens-morning-bible-study-4/
LOCATION:179 S Indiana St\, Warsaw\, IN\, United States
END:VEVENT
BEGIN:VEVENT
DTSTART;TZID=America/New_York:20250428T183000
DTEND;TZID=America/New_York:20250428T193000
DTSTAMP:20260420T180923
CREATED:20250204T153055Z
LAST-MODIFIED:20250204T153055Z
UID:20108-1745865000-1745868600@warsawfumc.org
SUMMARY:Cub Pack 3731
DESCRIPTION:
URL:https://warsawfumc.org/event/cub-pack-3731-210/
LOCATION:First United Methodist Church\, 179 S Indiana St\, Warsaw\, IN\, United States
END:VEVENT
BEGIN:VEVENT
DTSTART;TZID=America/New_York:20250428T183000
DTEND;TZID=America/New_York:20250428T193000
DTSTAMP:20260420T180923
CREATED:20250426T202009Z
LAST-MODIFIED:20250426T202009Z
UID:20765-1745865000-1745868600@warsawfumc.org
SUMMARY:Cub Pack 3731
DESCRIPTION:
URL:https://warsawfumc.org/event/cub-pack-3731-219/
LOCATION:First United Methodist Church\, 179 S Indiana St\, Warsaw\, IN\, United States
END:VEVENT
BEGIN:VEVENT
DTSTART;TZID=America/New_York:20250428T190000
DTEND;TZID=America/New_York:20250428T200000
DTSTAMP:20260420T180923
CREATED:20250204T153055Z
LAST-MODIFIED:20250204T153055Z
UID:20107-1745866800-1745870400@warsawfumc.org
SUMMARY:Boy Scouts Troop 0730
DESCRIPTION:Meets in 3rd floor room 303
URL:https://warsawfumc.org/event/boy-scouts-troop-0730-61/
LOCATION:First United Methodist Church\, 179 S Indiana St\, Warsaw\, IN\, United States
END:VEVENT
BEGIN:VEVENT
DTSTART;TZID=America/New_York:20250428T190000
DTEND;TZID=America/New_York:20250428T200000
DTSTAMP:20260420T180923
CREATED:20250425T000017Z
LAST-MODIFIED:20250427T032013Z
UID:20761-1745866800-1745870400@warsawfumc.org
SUMMARY:Boy Scouts Troop 0730
DESCRIPTION:Meets in 3rd floor room 303
URL:https://warsawfumc.org/event/boy-scouts-troop-0730-70/
LOCATION:First United Methodist Church\, 179 S Indiana St\, Warsaw\, IN\, United States
END:VEVENT
BEGIN:VEVENT
DTSTART;TZID=America/New_York:20250429T173000
DTEND;TZID=America/New_York:20250429T183000
DTSTAMP:20260420T180923
CREATED:20250426T202009Z
LAST-MODIFIED:20250426T202009Z
UID:20766-1745947800-1745951400@warsawfumc.org
SUMMARY:Girl Scout Troop 0158
DESCRIPTION:Meets in Room 203
URL:https://warsawfumc.org/event/girl-scout-troop-0158-12/
LOCATION:179 S Indiana St\, Warsaw\, IN\, United States
END:VEVENT
BEGIN:VEVENT
DTSTART;TZID=America/New_York:20250430T110000
DTEND;TZID=America/New_York:20250430T130000
DTSTAMP:20260420T180923
CREATED:20250426T202009Z
LAST-MODIFIED:20250426T202009Z
UID:20767-1746010800-1746018000@warsawfumc.org
SUMMARY:Community Kitchen and Closet
DESCRIPTION:Meal provided by Leesburg Church
URL:https://warsawfumc.org/event/community-kitchen-and-closet-8/
LOCATION:179 S Indiana St\, Warsaw\, IN\, United States
END:VEVENT
END:VCALENDAR