BEGIN:VCALENDAR
VERSION:2.0
PRODID:-//Warsaw FUMC - ECPv6.15.20//NONSGML v1.0//EN
CALSCALE:GREGORIAN
METHOD:PUBLISH
X-WR-CALNAME:Warsaw FUMC
X-ORIGINAL-URL:https://warsawfumc.org
X-WR-CALDESC:Events for Warsaw FUMC
REFRESH-INTERVAL;VALUE=DURATION:PT1H
X-Robots-Tag:noindex
X-PUBLISHED-TTL:PT1H
BEGIN:VTIMEZONE
TZID:America/New_York
BEGIN:DAYLIGHT
TZOFFSETFROM:-0500
TZOFFSETTO:-0400
TZNAME:EDT
DTSTART:20210314T070000
END:DAYLIGHT
BEGIN:STANDARD
TZOFFSETFROM:-0400
TZOFFSETTO:-0500
TZNAME:EST
DTSTART:20211107T060000
END:STANDARD
BEGIN:DAYLIGHT
TZOFFSETFROM:-0500
TZOFFSETTO:-0400
TZNAME:EDT
DTSTART:20220313T070000
END:DAYLIGHT
BEGIN:STANDARD
TZOFFSETFROM:-0400
TZOFFSETTO:-0500
TZNAME:EST
DTSTART:20221106T060000
END:STANDARD
BEGIN:DAYLIGHT
TZOFFSETFROM:-0500
TZOFFSETTO:-0400
TZNAME:EDT
DTSTART:20230312T070000
END:DAYLIGHT
BEGIN:STANDARD
TZOFFSETFROM:-0400
TZOFFSETTO:-0500
TZNAME:EST
DTSTART:20231105T060000
END:STANDARD
END:VTIMEZONE
BEGIN:VEVENT
DTSTART;TZID=America/New_York:20220811T190000
DTEND;TZID=America/New_York:20220811T200000
DTSTAMP:20260421T010247
CREATED:20220513T160852Z
LAST-MODIFIED:20220513T160852Z
UID:16363-1660244400-1660248000@warsawfumc.org
SUMMARY:Bible Study
DESCRIPTION:
URL:https://warsawfumc.org/event/bible-study-75/
LOCATION:Via Zoom until further notice
END:VEVENT
BEGIN:VEVENT
DTSTART;TZID=America/New_York:20220811T080000
DTEND;TZID=America/New_York:20220811T090000
DTSTAMP:20260421T010247
CREATED:20220513T160852Z
LAST-MODIFIED:20220513T160852Z
UID:16361-1660204800-1660208400@warsawfumc.org
SUMMARY:Men's Bible Study w/Pastor
DESCRIPTION:All men are invited. Bring your Bible and we will look at the scripture and discuss the previous Sunday’s message.
URL:https://warsawfumc.org/event/mens-bible-study-w-pastor-75/
LOCATION:Via Zoom until further notice
END:VEVENT
BEGIN:VEVENT
DTSTART;TZID=America/New_York:20220811T080000
DTEND;TZID=America/New_York:20220811T090000
DTSTAMP:20260421T010247
CREATED:20220513T160852Z
LAST-MODIFIED:20220513T160852Z
UID:16362-1660204800-1660208400@warsawfumc.org
SUMMARY:Men's Bible Study w/Harrold
DESCRIPTION:This Men’s Bible Study is led by Richard Harrold
URL:https://warsawfumc.org/event/mens-bible-study-w-harrold-88/
LOCATION:FUMC Parlor Downtown
END:VEVENT
BEGIN:VEVENT
DTSTART;TZID=America/New_York:20220810T133000
DTEND;TZID=America/New_York:20220810T150000
DTSTAMP:20260421T010247
CREATED:20220512T160648Z
LAST-MODIFIED:20220512T160648Z
UID:16356-1660138200-1660143600@warsawfumc.org
SUMMARY:Small Group w/Jan Wilcox
DESCRIPTION:
URL:https://warsawfumc.org/event/small-group-w-jan-wilcox-87/
LOCATION:Via Zoom at this time
END:VEVENT
BEGIN:VEVENT
DTSTART;TZID=America/New_York:20220809T180000
DTEND;TZID=America/New_York:20220809T190000
DTSTAMP:20260421T010247
CREATED:20220512T160648Z
LAST-MODIFIED:20220512T160648Z
UID:16355-1660068000-1660071600@warsawfumc.org
SUMMARY:Prayer Group
DESCRIPTION:
URL:https://warsawfumc.org/event/prayer-group-72/
LOCATION:First United Methodist Church\, 179 S Indiana St\, Warsaw\, IN 46580\, USA\, 101 S Indiana St\, United States
END:VEVENT
BEGIN:VEVENT
DTSTART;TZID=America/New_York:20220808T183000
DTEND;TZID=America/New_York:20220808T193000
DTSTAMP:20260421T010247
CREATED:20220510T154941Z
LAST-MODIFIED:20220510T154941Z
UID:16348-1659983400-1659987000@warsawfumc.org
SUMMARY:Cub Pack 3731
DESCRIPTION:
URL:https://warsawfumc.org/event/cub-pack-3731-72/
LOCATION:First United Methodist Church\, 179 S Indiana St\, Warsaw\, IN 46580\, USA\, 101 S Indiana St\, United States
END:VEVENT
BEGIN:VEVENT
DTSTART;TZID=America/New_York:20220804T190000
DTEND;TZID=America/New_York:20220804T200000
DTSTAMP:20260421T010247
CREATED:20220506T155148Z
LAST-MODIFIED:20220506T155148Z
UID:16328-1659639600-1659643200@warsawfumc.org
SUMMARY:Bible Study
DESCRIPTION:
URL:https://warsawfumc.org/event/bible-study-74/
LOCATION:Via Zoom until further notice
END:VEVENT
BEGIN:VEVENT
DTSTART;TZID=America/New_York:20220804T080000
DTEND;TZID=America/New_York:20220804T090000
DTSTAMP:20260421T010247
CREATED:20220506T155148Z
LAST-MODIFIED:20220506T155148Z
UID:16326-1659600000-1659603600@warsawfumc.org
SUMMARY:Men's Bible Study w/Harrold
DESCRIPTION:This Men’s Bible Study is led by Richard Harrold
URL:https://warsawfumc.org/event/mens-bible-study-w-harrold-87/
LOCATION:FUMC Parlor Downtown
END:VEVENT
BEGIN:VEVENT
DTSTART;TZID=America/New_York:20220804T080000
DTEND;TZID=America/New_York:20220804T090000
DTSTAMP:20260421T010247
CREATED:20220506T155148Z
LAST-MODIFIED:20220506T155148Z
UID:16327-1659600000-1659603600@warsawfumc.org
SUMMARY:Men's Bible Study w/Pastor
DESCRIPTION:All men are invited. Bring your Bible and we will look at the scripture and discuss the previous Sunday’s message.
URL:https://warsawfumc.org/event/mens-bible-study-w-pastor-74/
LOCATION:Via Zoom until further notice
END:VEVENT
BEGIN:VEVENT
DTSTART;TZID=America/New_York:20220803T133000
DTEND;TZID=America/New_York:20220803T150000
DTSTAMP:20260421T010247
CREATED:20220505T153636Z
LAST-MODIFIED:20220505T153636Z
UID:16324-1659533400-1659538800@warsawfumc.org
SUMMARY:Small Group w/Jan Wilcox
DESCRIPTION:
URL:https://warsawfumc.org/event/small-group-w-jan-wilcox-86/
LOCATION:Via Zoom at this time
END:VEVENT
BEGIN:VEVENT
DTSTART;TZID=America/New_York:20220802T180000
DTEND;TZID=America/New_York:20220802T190000
DTSTAMP:20260421T010247
CREATED:20220504T153647Z
LAST-MODIFIED:20220504T153647Z
UID:16315-1659463200-1659466800@warsawfumc.org
SUMMARY:Prayer Group
DESCRIPTION:
URL:https://warsawfumc.org/event/prayer-group-71/
LOCATION:First United Methodist Church\, 179 S Indiana St\, Warsaw\, IN 46580\, USA\, 101 S Indiana St\, United States
END:VEVENT
BEGIN:VEVENT
DTSTART;TZID=America/New_York:20220801T183000
DTEND;TZID=America/New_York:20220801T193000
DTSTAMP:20260421T010247
CREATED:20220503T153640Z
LAST-MODIFIED:20220503T153640Z
UID:16313-1659378600-1659382200@warsawfumc.org
SUMMARY:Cub Pack 3731
DESCRIPTION:
URL:https://warsawfumc.org/event/cub-pack-3731-71/
LOCATION:First United Methodist Church\, 179 S Indiana St\, Warsaw\, IN 46580\, USA\, 101 S Indiana St\, United States
END:VEVENT
BEGIN:VEVENT
DTSTART;TZID=America/New_York:20220728T190000
DTEND;TZID=America/New_York:20220728T200000
DTSTAMP:20260421T010247
CREATED:20220429T150636Z
LAST-MODIFIED:20220429T150636Z
UID:16308-1659034800-1659038400@warsawfumc.org
SUMMARY:Bible Study
DESCRIPTION:
URL:https://warsawfumc.org/event/bible-study-73/
LOCATION:Via Zoom until further notice
END:VEVENT
BEGIN:VEVENT
DTSTART;TZID=America/New_York:20220728T080000
DTEND;TZID=America/New_York:20220728T090000
DTSTAMP:20260421T010247
CREATED:20220429T150636Z
LAST-MODIFIED:20220429T150636Z
UID:16307-1658995200-1658998800@warsawfumc.org
SUMMARY:Men's Bible Study w/Pastor
DESCRIPTION:All men are invited. Bring your Bible and we will look at the scripture and discuss the previous Sunday’s message.
URL:https://warsawfumc.org/event/mens-bible-study-w-pastor-73/
LOCATION:Via Zoom until further notice
END:VEVENT
BEGIN:VEVENT
DTSTART;TZID=America/New_York:20220728T080000
DTEND;TZID=America/New_York:20220728T090000
DTSTAMP:20260421T010247
CREATED:20220429T150635Z
LAST-MODIFIED:20220429T150635Z
UID:16306-1658995200-1658998800@warsawfumc.org
SUMMARY:Men's Bible Study w/Harrold
DESCRIPTION:This Men’s Bible Study is led by Richard Harrold
URL:https://warsawfumc.org/event/mens-bible-study-w-harrold-86/
LOCATION:FUMC Parlor Downtown
END:VEVENT
BEGIN:VEVENT
DTSTART;TZID=America/New_York:20220727T133000
DTEND;TZID=America/New_York:20220727T150000
DTSTAMP:20260421T010247
CREATED:20220428T150436Z
LAST-MODIFIED:20220428T150436Z
UID:16284-1658928600-1658934000@warsawfumc.org
SUMMARY:Small Group w/Jan Wilcox
DESCRIPTION:
URL:https://warsawfumc.org/event/small-group-w-jan-wilcox-85/
LOCATION:Via Zoom at this time
END:VEVENT
BEGIN:VEVENT
DTSTART;TZID=America/New_York:20220726T190000
DTEND;TZID=America/New_York:20220726T203000
DTSTAMP:20260421T010247
CREATED:20220427T150436Z
LAST-MODIFIED:20220427T150436Z
UID:16274-1658862000-1658867400@warsawfumc.org
SUMMARY:Servant Council
DESCRIPTION:
URL:https://warsawfumc.org/event/servant-council-17/
LOCATION:Board Room\, 925 North Garfield Street\, Arlington\, VA\, 22201\, United States
END:VEVENT
BEGIN:VEVENT
DTSTART;TZID=America/New_York:20220726T180000
DTEND;TZID=America/New_York:20220726T190000
DTSTAMP:20260421T010247
CREATED:20220427T150436Z
LAST-MODIFIED:20220427T150436Z
UID:16273-1658858400-1658862000@warsawfumc.org
SUMMARY:Prayer Group
DESCRIPTION:
URL:https://warsawfumc.org/event/prayer-group-70/
LOCATION:First United Methodist Church\, 179 S Indiana St\, Warsaw\, IN 46580\, USA\, 101 S Indiana St\, United States
END:VEVENT
BEGIN:VEVENT
DTSTART;TZID=America/New_York:20220725T183000
DTEND;TZID=America/New_York:20220725T193000
DTSTAMP:20260421T010247
CREATED:20220426T144940Z
LAST-MODIFIED:20220426T144940Z
UID:16271-1658773800-1658777400@warsawfumc.org
SUMMARY:Cub Pack 3731
DESCRIPTION:
URL:https://warsawfumc.org/event/cub-pack-3731-70/
LOCATION:First United Methodist Church\, 179 S Indiana St\, Warsaw\, IN 46580\, USA\, 101 S Indiana St\, United States
END:VEVENT
BEGIN:VEVENT
DTSTART;TZID=America/New_York:20220721T190000
DTEND;TZID=America/New_York:20220721T200000
DTSTAMP:20260421T010247
CREATED:20220422T145017Z
LAST-MODIFIED:20220422T145017Z
UID:16266-1658430000-1658433600@warsawfumc.org
SUMMARY:Bible Study
DESCRIPTION:
URL:https://warsawfumc.org/event/bible-study-72/
LOCATION:Via Zoom until further notice
END:VEVENT
BEGIN:VEVENT
DTSTART;TZID=America/New_York:20220721T080000
DTEND;TZID=America/New_York:20220721T090000
DTSTAMP:20260421T010247
CREATED:20220422T145017Z
LAST-MODIFIED:20220422T145017Z
UID:16264-1658390400-1658394000@warsawfumc.org
SUMMARY:Men's Bible Study w/Pastor
DESCRIPTION:All men are invited. Bring your Bible and we will look at the scripture and discuss the previous Sunday’s message.
URL:https://warsawfumc.org/event/mens-bible-study-w-pastor-72/
LOCATION:Via Zoom until further notice
END:VEVENT
BEGIN:VEVENT
DTSTART;TZID=America/New_York:20220721T080000
DTEND;TZID=America/New_York:20220721T090000
DTSTAMP:20260421T010247
CREATED:20220422T145017Z
LAST-MODIFIED:20220422T145017Z
UID:16265-1658390400-1658394000@warsawfumc.org
SUMMARY:Men's Bible Study w/Harrold
DESCRIPTION:This Men’s Bible Study is led by Richard Harrold
URL:https://warsawfumc.org/event/mens-bible-study-w-harrold-85/
LOCATION:FUMC Parlor Downtown
END:VEVENT
BEGIN:VEVENT
DTSTART;TZID=America/New_York:20220720T133000
DTEND;TZID=America/New_York:20220720T150000
DTSTAMP:20260421T010247
CREATED:20220421T143601Z
LAST-MODIFIED:20220421T143601Z
UID:16260-1658323800-1658329200@warsawfumc.org
SUMMARY:Small Group w/Jan Wilcox
DESCRIPTION:
URL:https://warsawfumc.org/event/small-group-w-jan-wilcox-84/
LOCATION:Via Zoom at this time
END:VEVENT
BEGIN:VEVENT
DTSTART;TZID=America/New_York:20220719T180000
DTEND;TZID=America/New_York:20220719T190000
DTSTAMP:20260421T010247
CREATED:20220420T142018Z
LAST-MODIFIED:20220420T142018Z
UID:16242-1658253600-1658257200@warsawfumc.org
SUMMARY:Prayer Group
DESCRIPTION:
URL:https://warsawfumc.org/event/prayer-group-69/
LOCATION:First United Methodist Church\, 179 S Indiana St\, Warsaw\, IN 46580\, USA\, 101 S Indiana St\, United States
END:VEVENT
BEGIN:VEVENT
DTSTART;TZID=America/New_York:20220718T183000
DTEND;TZID=America/New_York:20220718T193000
DTSTAMP:20260421T010247
CREATED:20220419T141001Z
LAST-MODIFIED:20220419T141001Z
UID:16240-1658169000-1658172600@warsawfumc.org
SUMMARY:Cub Pack 3731
DESCRIPTION:
URL:https://warsawfumc.org/event/cub-pack-3731-69/
LOCATION:First United Methodist Church\, 179 S Indiana St\, Warsaw\, IN 46580\, USA\, 101 S Indiana St\, United States
END:VEVENT
BEGIN:VEVENT
DTSTART;TZID=America/New_York:20220714T190000
DTEND;TZID=America/New_York:20220714T200000
DTSTAMP:20260421T010247
CREATED:20220415T140436Z
LAST-MODIFIED:20220415T140436Z
UID:16235-1657825200-1657828800@warsawfumc.org
SUMMARY:Bible Study
DESCRIPTION:
URL:https://warsawfumc.org/event/bible-study-71/
LOCATION:Via Zoom until further notice
END:VEVENT
BEGIN:VEVENT
DTSTART;TZID=America/New_York:20220714T080000
DTEND;TZID=America/New_York:20220714T090000
DTSTAMP:20260421T010247
CREATED:20220415T140436Z
LAST-MODIFIED:20220415T140436Z
UID:16233-1657785600-1657789200@warsawfumc.org
SUMMARY:Men's Bible Study w/Pastor
DESCRIPTION:All men are invited. Bring your Bible and we will look at the scripture and discuss the previous Sunday’s message.
URL:https://warsawfumc.org/event/mens-bible-study-w-pastor-71/
LOCATION:Via Zoom until further notice
END:VEVENT
BEGIN:VEVENT
DTSTART;TZID=America/New_York:20220714T080000
DTEND;TZID=America/New_York:20220714T090000
DTSTAMP:20260421T010247
CREATED:20220415T140436Z
LAST-MODIFIED:20220415T140436Z
UID:16234-1657785600-1657789200@warsawfumc.org
SUMMARY:Men's Bible Study w/Harrold
DESCRIPTION:This Men’s Bible Study is led by Richard Harrold
URL:https://warsawfumc.org/event/mens-bible-study-w-harrold-84/
LOCATION:FUMC Parlor Downtown
END:VEVENT
BEGIN:VEVENT
DTSTART;TZID=America/New_York:20220713T133000
DTEND;TZID=America/New_York:20220713T150000
DTSTAMP:20260421T010247
CREATED:20220414T140448Z
LAST-MODIFIED:20220414T140448Z
UID:16220-1657719000-1657724400@warsawfumc.org
SUMMARY:Small Group w/Jan Wilcox
DESCRIPTION:
URL:https://warsawfumc.org/event/small-group-w-jan-wilcox-83/
LOCATION:Via Zoom at this time
END:VEVENT
BEGIN:VEVENT
DTSTART;TZID=America/New_York:20220712T180000
DTEND;TZID=America/New_York:20220712T190000
DTSTAMP:20260421T010247
CREATED:20220413T140528Z
LAST-MODIFIED:20220413T140528Z
UID:16218-1657648800-1657652400@warsawfumc.org
SUMMARY:Prayer Group
DESCRIPTION:
URL:https://warsawfumc.org/event/prayer-group-68/
LOCATION:First United Methodist Church\, 179 S Indiana St\, Warsaw\, IN 46580\, USA\, 101 S Indiana St\, United States
END:VEVENT
END:VCALENDAR