BEGIN:VCALENDAR
VERSION:2.0
PRODID:-//Warsaw FUMC - ECPv6.15.20//NONSGML v1.0//EN
CALSCALE:GREGORIAN
METHOD:PUBLISH
X-WR-CALNAME:Warsaw FUMC
X-ORIGINAL-URL:https://warsawfumc.org
X-WR-CALDESC:Events for Warsaw FUMC
REFRESH-INTERVAL;VALUE=DURATION:PT1H
X-Robots-Tag:noindex
X-PUBLISHED-TTL:PT1H
BEGIN:VTIMEZONE
TZID:America/New_York
BEGIN:DAYLIGHT
TZOFFSETFROM:-0500
TZOFFSETTO:-0400
TZNAME:EDT
DTSTART:20210314T070000
END:DAYLIGHT
BEGIN:STANDARD
TZOFFSETFROM:-0400
TZOFFSETTO:-0500
TZNAME:EST
DTSTART:20211107T060000
END:STANDARD
BEGIN:DAYLIGHT
TZOFFSETFROM:-0500
TZOFFSETTO:-0400
TZNAME:EDT
DTSTART:20220313T070000
END:DAYLIGHT
BEGIN:STANDARD
TZOFFSETFROM:-0400
TZOFFSETTO:-0500
TZNAME:EST
DTSTART:20221106T060000
END:STANDARD
BEGIN:DAYLIGHT
TZOFFSETFROM:-0500
TZOFFSETTO:-0400
TZNAME:EDT
DTSTART:20230312T070000
END:DAYLIGHT
BEGIN:STANDARD
TZOFFSETFROM:-0400
TZOFFSETTO:-0500
TZNAME:EST
DTSTART:20231105T060000
END:STANDARD
END:VTIMEZONE
BEGIN:VEVENT
DTSTART;TZID=America/New_York:20220616T080000
DTEND;TZID=America/New_York:20220616T090000
DTSTAMP:20260421T112249
CREATED:20220318T221004Z
LAST-MODIFIED:20220318T221004Z
UID:16112-1655366400-1655370000@warsawfumc.org
SUMMARY:Men's Bible Study w/Harrold
DESCRIPTION:This Men’s Bible Study is led by Richard Harrold
URL:https://warsawfumc.org/event/mens-bible-study-w-harrold-80/
LOCATION:FUMC Parlor Downtown
END:VEVENT
BEGIN:VEVENT
DTSTART;TZID=America/New_York:20220616T080000
DTEND;TZID=America/New_York:20220616T090000
DTSTAMP:20260421T112249
CREATED:20220318T221004Z
LAST-MODIFIED:20220318T221004Z
UID:16113-1655366400-1655370000@warsawfumc.org
SUMMARY:Men's Bible Study w/Pastor
DESCRIPTION:All men are invited. Bring your Bible and we will look at the scripture and discuss the previous Sunday’s message.
URL:https://warsawfumc.org/event/mens-bible-study-w-pastor-67/
LOCATION:Via Zoom until further notice
END:VEVENT
BEGIN:VEVENT
DTSTART;TZID=America/New_York:20220615T133000
DTEND;TZID=America/New_York:20220615T150000
DTSTAMP:20260421T112249
CREATED:20220317T215051Z
LAST-MODIFIED:20220317T215051Z
UID:16110-1655299800-1655305200@warsawfumc.org
SUMMARY:Small Group w/Jan Wilcox
DESCRIPTION:
URL:https://warsawfumc.org/event/small-group-w-jan-wilcox-79/
LOCATION:Via Zoom at this time
END:VEVENT
BEGIN:VEVENT
DTSTART;TZID=America/New_York:20220614T180000
DTEND;TZID=America/New_York:20220614T190000
DTSTAMP:20260421T112249
CREATED:20220316T215107Z
LAST-MODIFIED:20220316T215107Z
UID:16108-1655229600-1655233200@warsawfumc.org
SUMMARY:Prayer Group
DESCRIPTION:
URL:https://warsawfumc.org/event/prayer-group-64/
LOCATION:First United Methodist Church\, 179 S Indiana St\, Warsaw\, IN 46580\, USA\, 101 S Indiana St\, United States
END:VEVENT
BEGIN:VEVENT
DTSTART;TZID=America/New_York:20220613T183000
DTEND;TZID=America/New_York:20220613T193000
DTSTAMP:20260421T112249
CREATED:20220316T215107Z
LAST-MODIFIED:20220316T215107Z
UID:16107-1655145000-1655148600@warsawfumc.org
SUMMARY:Cub Pack 3731
DESCRIPTION:
URL:https://warsawfumc.org/event/cub-pack-3731-64/
LOCATION:First United Methodist Church\, 179 S Indiana St\, Warsaw\, IN 46580\, USA\, 101 S Indiana St\, United States
END:VEVENT
BEGIN:VEVENT
DTSTART;TZID=America/New_York:20220609T190000
DTEND;TZID=America/New_York:20220609T200000
DTSTAMP:20260421T112249
CREATED:20220311T211638Z
LAST-MODIFIED:20220311T211638Z
UID:16070-1654801200-1654804800@warsawfumc.org
SUMMARY:Bible Study
DESCRIPTION:
URL:https://warsawfumc.org/event/bible-study-66/
LOCATION:Via Zoom until further notice
END:VEVENT
BEGIN:VEVENT
DTSTART;TZID=America/New_York:20220609T080000
DTEND;TZID=America/New_York:20220609T090000
DTSTAMP:20260421T112249
CREATED:20220311T211638Z
LAST-MODIFIED:20220311T211638Z
UID:16068-1654761600-1654765200@warsawfumc.org
SUMMARY:Men's Bible Study w/Harrold
DESCRIPTION:This Men’s Bible Study is led by Richard Harrold
URL:https://warsawfumc.org/event/mens-bible-study-w-harrold-79/
LOCATION:FUMC Parlor Downtown
END:VEVENT
BEGIN:VEVENT
DTSTART;TZID=America/New_York:20220609T080000
DTEND;TZID=America/New_York:20220609T090000
DTSTAMP:20260421T112249
CREATED:20220311T211638Z
LAST-MODIFIED:20220311T211638Z
UID:16069-1654761600-1654765200@warsawfumc.org
SUMMARY:Men's Bible Study w/Pastor
DESCRIPTION:All men are invited. Bring your Bible and we will look at the scripture and discuss the previous Sunday’s message.
URL:https://warsawfumc.org/event/mens-bible-study-w-pastor-66/
LOCATION:Via Zoom until further notice
END:VEVENT
BEGIN:VEVENT
DTSTART;TZID=America/New_York:20220608T133000
DTEND;TZID=America/New_York:20220608T150000
DTSTAMP:20260421T112249
CREATED:20220310T210931Z
LAST-MODIFIED:20220310T210931Z
UID:16047-1654695000-1654700400@warsawfumc.org
SUMMARY:Small Group w/Jan Wilcox
DESCRIPTION:
URL:https://warsawfumc.org/event/small-group-w-jan-wilcox-78/
LOCATION:Via Zoom at this time
END:VEVENT
BEGIN:VEVENT
DTSTART;TZID=America/New_York:20220607T180000
DTEND;TZID=America/New_York:20220607T190000
DTSTAMP:20260421T112249
CREATED:20220309T210453Z
LAST-MODIFIED:20220309T210453Z
UID:16045-1654624800-1654628400@warsawfumc.org
SUMMARY:Prayer Group
DESCRIPTION:
URL:https://warsawfumc.org/event/prayer-group-63/
LOCATION:First United Methodist Church\, 179 S Indiana St\, Warsaw\, IN 46580\, USA\, 101 S Indiana St\, United States
END:VEVENT
BEGIN:VEVENT
DTSTART;TZID=America/New_York:20220606T183000
DTEND;TZID=America/New_York:20220606T193000
DTSTAMP:20260421T112249
CREATED:20220308T205401Z
LAST-MODIFIED:20220308T205401Z
UID:16043-1654540200-1654543800@warsawfumc.org
SUMMARY:Cub Pack 3731
DESCRIPTION:
URL:https://warsawfumc.org/event/cub-pack-3731-63/
LOCATION:First United Methodist Church\, 179 S Indiana St\, Warsaw\, IN 46580\, USA\, 101 S Indiana St\, United States
END:VEVENT
BEGIN:VEVENT
DTSTART;TZID=America/New_York:20220602T190000
DTEND;TZID=America/New_York:20220602T200000
DTSTAMP:20260421T112249
CREATED:20220304T205011Z
LAST-MODIFIED:20220304T205011Z
UID:15965-1654196400-1654200000@warsawfumc.org
SUMMARY:Bible Study
DESCRIPTION:
URL:https://warsawfumc.org/event/bible-study-65/
LOCATION:Via Zoom until further notice
END:VEVENT
BEGIN:VEVENT
DTSTART;TZID=America/New_York:20220602T080000
DTEND;TZID=America/New_York:20220602T090000
DTSTAMP:20260421T112249
CREATED:20220304T205011Z
LAST-MODIFIED:20220304T205011Z
UID:15963-1654156800-1654160400@warsawfumc.org
SUMMARY:Men's Bible Study w/Pastor
DESCRIPTION:All men are invited. Bring your Bible and we will look at the scripture and discuss the previous Sunday’s message.
URL:https://warsawfumc.org/event/mens-bible-study-w-pastor-65/
LOCATION:Via Zoom until further notice
END:VEVENT
BEGIN:VEVENT
DTSTART;TZID=America/New_York:20220602T080000
DTEND;TZID=America/New_York:20220602T090000
DTSTAMP:20260421T112249
CREATED:20220304T205011Z
LAST-MODIFIED:20220304T205011Z
UID:15964-1654156800-1654160400@warsawfumc.org
SUMMARY:Men's Bible Study w/Harrold
DESCRIPTION:This Men’s Bible Study is led by Richard Harrold
URL:https://warsawfumc.org/event/mens-bible-study-w-harrold-78/
LOCATION:FUMC Parlor Downtown
END:VEVENT
BEGIN:VEVENT
DTSTART;TZID=America/New_York:20220601T133000
DTEND;TZID=America/New_York:20220601T150000
DTSTAMP:20260421T112249
CREATED:20220303T205217Z
LAST-MODIFIED:20220303T205217Z
UID:15941-1654090200-1654095600@warsawfumc.org
SUMMARY:Small Group w/Jan Wilcox
DESCRIPTION:
URL:https://warsawfumc.org/event/small-group-w-jan-wilcox-77/
LOCATION:Via Zoom at this time
END:VEVENT
BEGIN:VEVENT
DTSTART;TZID=America/New_York:20220531T180000
DTEND;TZID=America/New_York:20220531T190000
DTSTAMP:20260421T112249
CREATED:20220302T205008Z
LAST-MODIFIED:20220302T205008Z
UID:15937-1654020000-1654023600@warsawfumc.org
SUMMARY:Prayer Group
DESCRIPTION:
URL:https://warsawfumc.org/event/prayer-group-62/
LOCATION:First United Methodist Church\, 179 S Indiana St\, Warsaw\, IN 46580\, USA\, 101 S Indiana St\, United States
END:VEVENT
BEGIN:VEVENT
DTSTART;TZID=America/New_York:20220530T183000
DTEND;TZID=America/New_York:20220530T193000
DTSTAMP:20260421T112249
CREATED:20220301T204933Z
LAST-MODIFIED:20220301T204933Z
UID:15916-1653935400-1653939000@warsawfumc.org
SUMMARY:Cub Pack 3731
DESCRIPTION:
URL:https://warsawfumc.org/event/cub-pack-3731-62/
LOCATION:First United Methodist Church\, 179 S Indiana St\, Warsaw\, IN 46580\, USA\, 101 S Indiana St\, United States
END:VEVENT
BEGIN:VEVENT
DTSTART;TZID=America/New_York:20220526T190000
DTEND;TZID=America/New_York:20220526T200000
DTSTAMP:20260421T112249
CREATED:20220225T203900Z
LAST-MODIFIED:20220225T203900Z
UID:15906-1653591600-1653595200@warsawfumc.org
SUMMARY:Bible Study
DESCRIPTION:
URL:https://warsawfumc.org/event/bible-study-64/
LOCATION:Via Zoom until further notice
END:VEVENT
BEGIN:VEVENT
DTSTART;TZID=America/New_York:20220526T080000
DTEND;TZID=America/New_York:20220526T090000
DTSTAMP:20260421T112249
CREATED:20220225T203900Z
LAST-MODIFIED:20220225T203900Z
UID:15904-1653552000-1653555600@warsawfumc.org
SUMMARY:Men's Bible Study w/Pastor
DESCRIPTION:All men are invited. Bring your Bible and we will look at the scripture and discuss the previous Sunday’s message.
URL:https://warsawfumc.org/event/mens-bible-study-w-pastor-64/
LOCATION:Via Zoom until further notice
END:VEVENT
BEGIN:VEVENT
DTSTART;TZID=America/New_York:20220526T080000
DTEND;TZID=America/New_York:20220526T090000
DTSTAMP:20260421T112249
CREATED:20220225T203900Z
LAST-MODIFIED:20220225T203900Z
UID:15905-1653552000-1653555600@warsawfumc.org
SUMMARY:Men's Bible Study w/Harrold
DESCRIPTION:This Men’s Bible Study is led by Richard Harrold
URL:https://warsawfumc.org/event/mens-bible-study-w-harrold-77/
LOCATION:FUMC Parlor Downtown
END:VEVENT
BEGIN:VEVENT
DTSTART;TZID=America/New_York:20220525T133000
DTEND;TZID=America/New_York:20220525T150000
DTSTAMP:20260421T112249
CREATED:20220224T203726Z
LAST-MODIFIED:20220224T203726Z
UID:15885-1653485400-1653490800@warsawfumc.org
SUMMARY:Small Group w/Jan Wilcox
DESCRIPTION:
URL:https://warsawfumc.org/event/small-group-w-jan-wilcox-76/
LOCATION:Via Zoom at this time
END:VEVENT
BEGIN:VEVENT
DTSTART;TZID=America/New_York:20220524T190000
DTEND;TZID=America/New_York:20220524T203000
DTSTAMP:20260421T112249
CREATED:20220223T202347Z
LAST-MODIFIED:20220223T202347Z
UID:15883-1653418800-1653424200@warsawfumc.org
SUMMARY:Servant Council
DESCRIPTION:
URL:https://warsawfumc.org/event/servant-council-15/
LOCATION:Board Room\, 925 North Garfield Street\, Arlington\, VA\, 22201\, United States
END:VEVENT
BEGIN:VEVENT
DTSTART;TZID=America/New_York:20220524T180000
DTEND;TZID=America/New_York:20220524T190000
DTSTAMP:20260421T112249
CREATED:20220223T202347Z
LAST-MODIFIED:20220223T202347Z
UID:15882-1653415200-1653418800@warsawfumc.org
SUMMARY:Prayer Group
DESCRIPTION:
URL:https://warsawfumc.org/event/prayer-group-61/
LOCATION:First United Methodist Church\, 179 S Indiana St\, Warsaw\, IN 46580\, USA\, 101 S Indiana St\, United States
END:VEVENT
BEGIN:VEVENT
DTSTART;TZID=America/New_York:20220523T183000
DTEND;TZID=America/New_York:20220523T193000
DTSTAMP:20260421T112249
CREATED:20220222T201938Z
LAST-MODIFIED:20220222T201938Z
UID:15863-1653330600-1653334200@warsawfumc.org
SUMMARY:Cub Pack 3731
DESCRIPTION:
URL:https://warsawfumc.org/event/cub-pack-3731-61/
LOCATION:First United Methodist Church\, 179 S Indiana St\, Warsaw\, IN 46580\, USA\, 101 S Indiana St\, United States
END:VEVENT
BEGIN:VEVENT
DTSTART;TZID=America/New_York:20220519T190000
DTEND;TZID=America/New_York:20220519T200000
DTSTAMP:20260421T112249
CREATED:20220218T193445Z
LAST-MODIFIED:20220218T193445Z
UID:15852-1652986800-1652990400@warsawfumc.org
SUMMARY:Bible Study
DESCRIPTION:
URL:https://warsawfumc.org/event/bible-study-63/
LOCATION:Via Zoom until further notice
END:VEVENT
BEGIN:VEVENT
DTSTART;TZID=America/New_York:20220519T080000
DTEND;TZID=America/New_York:20220519T090000
DTSTAMP:20260421T112249
CREATED:20220218T193445Z
LAST-MODIFIED:20220218T193445Z
UID:15850-1652947200-1652950800@warsawfumc.org
SUMMARY:Men's Bible Study w/Pastor
DESCRIPTION:All men are invited. Bring your Bible and we will look at the scripture and discuss the previous Sunday’s message.
URL:https://warsawfumc.org/event/mens-bible-study-w-pastor-63/
LOCATION:Via Zoom until further notice
END:VEVENT
BEGIN:VEVENT
DTSTART;TZID=America/New_York:20220519T080000
DTEND;TZID=America/New_York:20220519T090000
DTSTAMP:20260421T112249
CREATED:20220218T193445Z
LAST-MODIFIED:20220218T193445Z
UID:15851-1652947200-1652950800@warsawfumc.org
SUMMARY:Men's Bible Study w/Harrold
DESCRIPTION:This Men’s Bible Study is led by Richard Harrold
URL:https://warsawfumc.org/event/mens-bible-study-w-harrold-76/
LOCATION:FUMC Parlor Downtown
END:VEVENT
BEGIN:VEVENT
DTSTART;TZID=America/New_York:20220518T133000
DTEND;TZID=America/New_York:20220518T150000
DTSTAMP:20260421T112249
CREATED:20220217T193704Z
LAST-MODIFIED:20220217T193704Z
UID:15839-1652880600-1652886000@warsawfumc.org
SUMMARY:Small Group w/Jan Wilcox
DESCRIPTION:
URL:https://warsawfumc.org/event/small-group-w-jan-wilcox-75/
LOCATION:Via Zoom at this time
END:VEVENT
BEGIN:VEVENT
DTSTART;TZID=America/New_York:20220517T180000
DTEND;TZID=America/New_York:20220517T190000
DTSTAMP:20260421T112249
CREATED:20220216T193455Z
LAST-MODIFIED:20220217T193704Z
UID:15835-1652810400-1652814000@warsawfumc.org
SUMMARY:Prayer Group
DESCRIPTION:
URL:https://warsawfumc.org/event/prayer-group-60/
LOCATION:First United Methodist Church\, 179 S Indiana St\, Warsaw\, IN 46580\, USA\, 101 S Indiana St\, United States
END:VEVENT
BEGIN:VEVENT
DTSTART;TZID=America/New_York:20220516T183000
DTEND;TZID=America/New_York:20220516T193000
DTSTAMP:20260421T112249
CREATED:20220215T193625Z
LAST-MODIFIED:20220217T193704Z
UID:15830-1652725800-1652729400@warsawfumc.org
SUMMARY:Cub Pack 3731
DESCRIPTION:
URL:https://warsawfumc.org/event/cub-pack-3731-60/
LOCATION:First United Methodist Church\, 179 S Indiana St\, Warsaw\, IN 46580\, USA\, 101 S Indiana St\, United States
END:VEVENT
END:VCALENDAR