BEGIN:VCALENDAR
VERSION:2.0
PRODID:-//Warsaw FUMC - ECPv6.15.20//NONSGML v1.0//EN
CALSCALE:GREGORIAN
METHOD:PUBLISH
X-WR-CALNAME:Warsaw FUMC
X-ORIGINAL-URL:https://warsawfumc.org
X-WR-CALDESC:Events for Warsaw FUMC
REFRESH-INTERVAL;VALUE=DURATION:PT1H
X-Robots-Tag:noindex
X-PUBLISHED-TTL:PT1H
BEGIN:VTIMEZONE
TZID:America/New_York
BEGIN:DAYLIGHT
TZOFFSETFROM:-0500
TZOFFSETTO:-0400
TZNAME:EDT
DTSTART:20210314T070000
END:DAYLIGHT
BEGIN:STANDARD
TZOFFSETFROM:-0400
TZOFFSETTO:-0500
TZNAME:EST
DTSTART:20211107T060000
END:STANDARD
BEGIN:DAYLIGHT
TZOFFSETFROM:-0500
TZOFFSETTO:-0400
TZNAME:EDT
DTSTART:20220313T070000
END:DAYLIGHT
BEGIN:STANDARD
TZOFFSETFROM:-0400
TZOFFSETTO:-0500
TZNAME:EST
DTSTART:20221106T060000
END:STANDARD
BEGIN:DAYLIGHT
TZOFFSETFROM:-0500
TZOFFSETTO:-0400
TZNAME:EDT
DTSTART:20230312T070000
END:DAYLIGHT
BEGIN:STANDARD
TZOFFSETFROM:-0400
TZOFFSETTO:-0500
TZNAME:EST
DTSTART:20231105T060000
END:STANDARD
END:VTIMEZONE
BEGIN:VEVENT
DTSTART;TZID=America/New_York:20220323T133000
DTEND;TZID=America/New_York:20220323T150000
DTSTAMP:20260422T182519
CREATED:20211223T152943Z
LAST-MODIFIED:20220217T193702Z
UID:15570-1648042200-1648047600@warsawfumc.org
SUMMARY:Small Group w/Jan Wilcox
DESCRIPTION:
URL:https://warsawfumc.org/event/small-group-w-jan-wilcox-67/
LOCATION:Via Zoom at this time
END:VEVENT
BEGIN:VEVENT
DTSTART;TZID=America/New_York:20220322T190000
DTEND;TZID=America/New_York:20220322T203000
DTSTAMP:20260422T182519
CREATED:20211222T175110Z
LAST-MODIFIED:20220217T193702Z
UID:15496-1647975600-1647981000@warsawfumc.org
SUMMARY:Servant Council
DESCRIPTION:
URL:https://warsawfumc.org/event/servant-council-13/
LOCATION:Board Room\, 925 North Garfield Street\, Arlington\, VA\, 22201\, United States
END:VEVENT
BEGIN:VEVENT
DTSTART;TZID=America/New_York:20220322T183000
DTEND;TZID=America/New_York:20220322T193000
DTSTAMP:20260422T182519
CREATED:20220221T201949Z
LAST-MODIFIED:20220221T201949Z
UID:15858-1647973800-1647977400@warsawfumc.org
SUMMARY:Lent Study- Lord's Prayer
DESCRIPTION:Diane Quance is inviting you to a scheduled Zoom meeting.\nTopic: The Lord’s Prayer Lenten Study\nTime: This is a recurring meeting Meet anytime\nJoin Zoom Meeting\nhttps://zoom.us/j/96977724227?pwd=emtNcFl2b1ZyTkN4ZjdrQlFpM0dpQT09\nMeeting ID: 969 7772 4227\nPasscode: 912046\nOne tap mobile\n+13126266799\,\,96977724227#\,\,\,\,*912046# US (Chicago)\n+19292056099\,\,96977724227#\,\,\,\,*912046# US (New York)\nDial by your location\n        +1 312 626 6799 US (Chicago)\n        +1 929 205 6099 US (New York)\n        +1 301 715 8592 US (Washington DC)\n        +1 346 248 7799 US (Houston)\n        +1 669 900 6833 US (San Jose)\n        +1 253 215 8782 US (Tacoma)\nMeeting ID: 969 7772 4227\nPasscode: 912046\nFind your local number: https://zoom.us/u/adEp7glqDh
URL:https://warsawfumc.org/event/lent-study-lords-prayer-3/
LOCATION:IN
END:VEVENT
BEGIN:VEVENT
DTSTART;TZID=America/New_York:20220322T180000
DTEND;TZID=America/New_York:20220322T190000
DTSTAMP:20260422T182519
CREATED:20211222T175110Z
LAST-MODIFIED:20220217T193702Z
UID:15495-1647972000-1647975600@warsawfumc.org
SUMMARY:Prayer Group
DESCRIPTION:
URL:https://warsawfumc.org/event/prayer-group-52/
LOCATION:First United Methodist Church\, 179 S Indiana St\, Warsaw\, IN 46580\, USA\, 101 S Indiana St\, United States
END:VEVENT
BEGIN:VEVENT
DTSTART;TZID=America/New_York:20220321T183000
DTEND;TZID=America/New_York:20220321T193000
DTSTAMP:20260422T182519
CREATED:20211221T174739Z
LAST-MODIFIED:20220217T193702Z
UID:15483-1647887400-1647891000@warsawfumc.org
SUMMARY:Cub Pack 3731
DESCRIPTION:
URL:https://warsawfumc.org/event/cub-pack-3731-52/
LOCATION:First United Methodist Church\, 179 S Indiana St\, Warsaw\, IN 46580\, USA\, 101 S Indiana St\, United States
END:VEVENT
BEGIN:VEVENT
DTSTART;TZID=America/New_York:20220317T190000
DTEND;TZID=America/New_York:20220317T200000
DTSTAMP:20260422T182519
CREATED:20211217T222504Z
LAST-MODIFIED:20220217T193702Z
UID:15452-1647543600-1647547200@warsawfumc.org
SUMMARY:Bible Study
DESCRIPTION:
URL:https://warsawfumc.org/event/bible-study-54/
LOCATION:Via Zoom until further notice
END:VEVENT
BEGIN:VEVENT
DTSTART;TZID=America/New_York:20220317T080000
DTEND;TZID=America/New_York:20220317T090000
DTSTAMP:20260422T182519
CREATED:20211222T214936Z
LAST-MODIFIED:20220217T193702Z
UID:15538-1647504000-1647507600@warsawfumc.org
SUMMARY:Men's Bible Study w/Harrold
DESCRIPTION:This Men’s Bible Study is led by Richard Harrold
URL:https://warsawfumc.org/event/mens-bible-study-w-harrold-67/
LOCATION:FUMC Parlor Downtown
END:VEVENT
BEGIN:VEVENT
DTSTART;TZID=America/New_York:20220317T080000
DTEND;TZID=America/New_York:20220317T090000
DTSTAMP:20260422T182519
CREATED:20211217T222503Z
LAST-MODIFIED:20220217T193702Z
UID:15450-1647504000-1647507600@warsawfumc.org
SUMMARY:Men's Bible Study w/Pastor
DESCRIPTION:All men are invited. Bring your Bible and we will look at the scripture and discuss the previous Sunday’s message.
URL:https://warsawfumc.org/event/mens-bible-study-w-pastor-54/
LOCATION:Via Zoom until further notice
END:VEVENT
BEGIN:VEVENT
DTSTART;TZID=America/New_York:20220316T133000
DTEND;TZID=America/New_York:20220316T150000
DTSTAMP:20260422T182519
CREATED:20211222T214936Z
LAST-MODIFIED:20220217T193702Z
UID:15537-1647437400-1647442800@warsawfumc.org
SUMMARY:Small Group w/Jan Wilcox
DESCRIPTION:
URL:https://warsawfumc.org/event/small-group-w-jan-wilcox-66/
LOCATION:Via Zoom at this time
END:VEVENT
BEGIN:VEVENT
DTSTART;TZID=America/New_York:20220315T183000
DTEND;TZID=America/New_York:20220315T193000
DTSTAMP:20260422T182519
CREATED:20220221T201948Z
LAST-MODIFIED:20220221T201948Z
UID:15857-1647369000-1647372600@warsawfumc.org
SUMMARY:Lent Study- Lord's Prayer
DESCRIPTION:Diane Quance is inviting you to a scheduled Zoom meeting.\nTopic: The Lord’s Prayer Lenten Study\nTime: This is a recurring meeting Meet anytime\nJoin Zoom Meeting\nhttps://zoom.us/j/96977724227?pwd=emtNcFl2b1ZyTkN4ZjdrQlFpM0dpQT09\nMeeting ID: 969 7772 4227\nPasscode: 912046\nOne tap mobile\n+13126266799\,\,96977724227#\,\,\,\,*912046# US (Chicago)\n+19292056099\,\,96977724227#\,\,\,\,*912046# US (New York)\nDial by your location\n        +1 312 626 6799 US (Chicago)\n        +1 929 205 6099 US (New York)\n        +1 301 715 8592 US (Washington DC)\n        +1 346 248 7799 US (Houston)\n        +1 669 900 6833 US (San Jose)\n        +1 253 215 8782 US (Tacoma)\nMeeting ID: 969 7772 4227\nPasscode: 912046\nFind your local number: https://zoom.us/u/adEp7glqDh
URL:https://warsawfumc.org/event/lent-study-lords-prayer-2/
LOCATION:IN
END:VEVENT
BEGIN:VEVENT
DTSTART;TZID=America/New_York:20220315T180000
DTEND;TZID=America/New_York:20220315T190000
DTSTAMP:20260422T182519
CREATED:20211215T221939Z
LAST-MODIFIED:20220217T193702Z
UID:15427-1647367200-1647370800@warsawfumc.org
SUMMARY:Prayer Group
DESCRIPTION:
URL:https://warsawfumc.org/event/prayer-group-51/
LOCATION:First United Methodist Church\, 179 S Indiana St\, Warsaw\, IN 46580\, USA\, 101 S Indiana St\, United States
END:VEVENT
BEGIN:VEVENT
DTSTART;TZID=America/New_York:20220314T183000
DTEND;TZID=America/New_York:20220314T193000
DTSTAMP:20260422T182519
CREATED:20211214T222044Z
LAST-MODIFIED:20220217T193702Z
UID:15420-1647282600-1647286200@warsawfumc.org
SUMMARY:Cub Pack 3731
DESCRIPTION:
URL:https://warsawfumc.org/event/cub-pack-3731-51/
LOCATION:First United Methodist Church\, 179 S Indiana St\, Warsaw\, IN 46580\, USA\, 101 S Indiana St\, United States
END:VEVENT
BEGIN:VEVENT
DTSTART;TZID=America/New_York:20220310T190000
DTEND;TZID=America/New_York:20220310T200000
DTSTAMP:20260422T182519
CREATED:20211211T221944Z
LAST-MODIFIED:20220217T193701Z
UID:15404-1646938800-1646942400@warsawfumc.org
SUMMARY:Bible Study
DESCRIPTION:
URL:https://warsawfumc.org/event/bible-study-53/
LOCATION:Via Zoom until further notice
END:VEVENT
BEGIN:VEVENT
DTSTART;TZID=America/New_York:20220310T080000
DTEND;TZID=America/New_York:20220310T090000
DTSTAMP:20260422T182519
CREATED:20211222T214936Z
LAST-MODIFIED:20220217T193701Z
UID:15536-1646899200-1646902800@warsawfumc.org
SUMMARY:Men's Bible Study w/Harrold
DESCRIPTION:This Men’s Bible Study is led by Richard Harrold
URL:https://warsawfumc.org/event/mens-bible-study-w-harrold-66/
LOCATION:FUMC Parlor Downtown
END:VEVENT
BEGIN:VEVENT
DTSTART;TZID=America/New_York:20220310T080000
DTEND;TZID=America/New_York:20220310T090000
DTSTAMP:20260422T182519
CREATED:20211210T220524Z
LAST-MODIFIED:20211222T210405Z
UID:15396-1646899200-1646902800@warsawfumc.org
SUMMARY:Men's Bible Study w/Harrold
DESCRIPTION:This Men’s Bible Study is led by Richard Harrold
URL:https://warsawfumc.org/event/mens-bible-study-w-harrold-53/
LOCATION:FUMC Parlor Downtown
END:VEVENT
BEGIN:VEVENT
DTSTART;TZID=America/New_York:20220310T080000
DTEND;TZID=America/New_York:20220310T090000
DTSTAMP:20260422T182519
CREATED:20211210T220524Z
LAST-MODIFIED:20220217T193701Z
UID:15397-1646899200-1646902800@warsawfumc.org
SUMMARY:Men's Bible Study w/Pastor
DESCRIPTION:All men are invited. Bring your Bible and we will look at the scripture and discuss the previous Sunday’s message.
URL:https://warsawfumc.org/event/mens-bible-study-w-pastor-53/
LOCATION:Via Zoom until further notice
END:VEVENT
BEGIN:VEVENT
DTSTART;TZID=America/New_York:20220309T133000
DTEND;TZID=America/New_York:20220309T150000
DTSTAMP:20260422T182519
CREATED:20211222T214936Z
LAST-MODIFIED:20220217T193701Z
UID:15535-1646832600-1646838000@warsawfumc.org
SUMMARY:Small Group w/Jan Wilcox
DESCRIPTION:
URL:https://warsawfumc.org/event/small-group-w-jan-wilcox-65/
LOCATION:Via Zoom at this time
END:VEVENT
BEGIN:VEVENT
DTSTART;TZID=America/New_York:20220309T133000
DTEND;TZID=America/New_York:20220309T150000
DTSTAMP:20260422T182519
CREATED:20211209T220441Z
LAST-MODIFIED:20211222T210415Z
UID:15389-1646832600-1646838000@warsawfumc.org
SUMMARY:Small Group w/Jan Wilcox
DESCRIPTION:
URL:https://warsawfumc.org/event/small-group-w-jan-wilcox-53/
LOCATION:Via Zoom at this time
END:VEVENT
BEGIN:VEVENT
DTSTART;TZID=America/New_York:20220308T183000
DTEND;TZID=America/New_York:20220308T193000
DTSTAMP:20260422T182519
CREATED:20220221T201948Z
LAST-MODIFIED:20220221T201948Z
UID:15856-1646764200-1646767800@warsawfumc.org
SUMMARY:Lent Study- Lord's Prayer
DESCRIPTION:Diane Quance is inviting you to a scheduled Zoom meeting.\nTopic: The Lord’s Prayer Lenten Study\nTime: This is a recurring meeting Meet anytime\nJoin Zoom Meeting\nhttps://zoom.us/j/96977724227?pwd=emtNcFl2b1ZyTkN4ZjdrQlFpM0dpQT09\nMeeting ID: 969 7772 4227\nPasscode: 912046\nOne tap mobile\n+13126266799\,\,96977724227#\,\,\,\,*912046# US (Chicago)\n+19292056099\,\,96977724227#\,\,\,\,*912046# US (New York)\nDial by your location\n        +1 312 626 6799 US (Chicago)\n        +1 929 205 6099 US (New York)\n        +1 301 715 8592 US (Washington DC)\n        +1 346 248 7799 US (Houston)\n        +1 669 900 6833 US (San Jose)\n        +1 253 215 8782 US (Tacoma)\nMeeting ID: 969 7772 4227\nPasscode: 912046\nFind your local number: https://zoom.us/u/adEp7glqDh
URL:https://warsawfumc.org/event/lent-study-lords-prayer/
LOCATION:IN
END:VEVENT
BEGIN:VEVENT
DTSTART;TZID=America/New_York:20220308T180000
DTEND;TZID=America/New_York:20220308T190000
DTSTAMP:20260422T182519
CREATED:20211208T220438Z
LAST-MODIFIED:20220217T193701Z
UID:15378-1646762400-1646766000@warsawfumc.org
SUMMARY:Prayer Group
DESCRIPTION:
URL:https://warsawfumc.org/event/prayer-group-50/
LOCATION:First United Methodist Church\, 179 S Indiana St\, Warsaw\, IN 46580\, USA\, 101 S Indiana St\, United States
END:VEVENT
BEGIN:VEVENT
DTSTART;TZID=America/New_York:20220307T183000
DTEND;TZID=America/New_York:20220307T193000
DTSTAMP:20260422T182519
CREATED:20211207T220451Z
LAST-MODIFIED:20220217T193701Z
UID:15370-1646677800-1646681400@warsawfumc.org
SUMMARY:Cub Pack 3731
DESCRIPTION:
URL:https://warsawfumc.org/event/cub-pack-3731-50/
LOCATION:First United Methodist Church\, 179 S Indiana St\, Warsaw\, IN 46580\, USA\, 101 S Indiana St\, United States
END:VEVENT
BEGIN:VEVENT
DTSTART;TZID=America/New_York:20220303T190000
DTEND;TZID=America/New_York:20220303T200000
DTSTAMP:20260422T182519
CREATED:20211204T183606Z
LAST-MODIFIED:20220217T193701Z
UID:15344-1646334000-1646337600@warsawfumc.org
SUMMARY:Bible Study
DESCRIPTION:
URL:https://warsawfumc.org/event/bible-study-52/
LOCATION:Via Zoom until further notice
END:VEVENT
BEGIN:VEVENT
DTSTART;TZID=America/New_York:20220303T080000
DTEND;TZID=America/New_York:20220303T090000
DTSTAMP:20260422T182519
CREATED:20211222T214935Z
LAST-MODIFIED:20220217T193701Z
UID:15534-1646294400-1646298000@warsawfumc.org
SUMMARY:Men's Bible Study w/Harrold
DESCRIPTION:This Men’s Bible Study is led by Richard Harrold
URL:https://warsawfumc.org/event/mens-bible-study-w-harrold-65/
LOCATION:FUMC Parlor Downtown
END:VEVENT
BEGIN:VEVENT
DTSTART;TZID=America/New_York:20220303T080000
DTEND;TZID=America/New_York:20220303T090000
DTSTAMP:20260422T182519
CREATED:20211203T183611Z
LAST-MODIFIED:20220217T193701Z
UID:15338-1646294400-1646298000@warsawfumc.org
SUMMARY:Men's Bible Study w/Pastor
DESCRIPTION:All men are invited. Bring your Bible and we will look at the scripture and discuss the previous Sunday’s message.
URL:https://warsawfumc.org/event/mens-bible-study-w-pastor-52/
LOCATION:Via Zoom until further notice
END:VEVENT
BEGIN:VEVENT
DTSTART;TZID=America/New_York:20220303T080000
DTEND;TZID=America/New_York:20220303T090000
DTSTAMP:20260422T182519
CREATED:20211203T183611Z
LAST-MODIFIED:20211222T210432Z
UID:15337-1646294400-1646298000@warsawfumc.org
SUMMARY:Men's Bible Study w/Harrold
DESCRIPTION:This Men’s Bible Study is led by Richard Harrold
URL:https://warsawfumc.org/event/mens-bible-study-w-harrold-52/
LOCATION:FUMC Parlor Downtown
END:VEVENT
BEGIN:VEVENT
DTSTART;TZID=America/New_York:20220302T183000
DTEND;TZID=America/New_York:20220302T193000
DTSTAMP:20260422T182519
CREATED:20220223T023717Z
LAST-MODIFIED:20220225T172821Z
UID:15875-1646245800-1646249400@warsawfumc.org
SUMMARY:Ash Wednesday
DESCRIPTION:  \nJoin us at Warsaw First United Methodist Church in the Sanctuary for the Methodist Area Evening Ash Wednesday Service. \nVirtual option:  https://youtu.be/zapQAoELKtE
URL:https://warsawfumc.org/event/ash-wednesday/
LOCATION:179 S Indiana St\, Warsaw\, IN 46580\, USA
ATTACH;FMTTYPE=image/png:https://warsawfumc.org/wp-content/uploads/2022/02/Ash-wednesday.png
END:VEVENT
BEGIN:VEVENT
DTSTART;TZID=America/New_York:20220302T133000
DTEND;TZID=America/New_York:20220302T150000
DTSTAMP:20260422T182519
CREATED:20211222T214935Z
LAST-MODIFIED:20220217T193701Z
UID:15533-1646227800-1646233200@warsawfumc.org
SUMMARY:Small Group w/Jan Wilcox
DESCRIPTION:
URL:https://warsawfumc.org/event/small-group-w-jan-wilcox-64/
LOCATION:Via Zoom at this time
END:VEVENT
BEGIN:VEVENT
DTSTART;TZID=America/New_York:20220302T133000
DTEND;TZID=America/New_York:20220302T150000
DTSTAMP:20260422T182519
CREATED:20211202T183641Z
LAST-MODIFIED:20211222T210442Z
UID:15331-1646227800-1646233200@warsawfumc.org
SUMMARY:Small Group w/Jan Wilcox
DESCRIPTION:
URL:https://warsawfumc.org/event/small-group-w-jan-wilcox-52/
LOCATION:Via Zoom at this time
END:VEVENT
BEGIN:VEVENT
DTSTART;TZID=America/New_York:20220301T180000
DTEND;TZID=America/New_York:20220301T190000
DTSTAMP:20260422T182519
CREATED:20211201T183436Z
LAST-MODIFIED:20220217T193701Z
UID:15321-1646157600-1646161200@warsawfumc.org
SUMMARY:Prayer Group
DESCRIPTION:
URL:https://warsawfumc.org/event/prayer-group-49/
LOCATION:First United Methodist Church\, 179 S Indiana St\, Warsaw\, IN 46580\, USA\, 101 S Indiana St\, United States
END:VEVENT
BEGIN:VEVENT
DTSTART;TZID=America/New_York:20220228T183000
DTEND;TZID=America/New_York:20220228T193000
DTSTAMP:20260422T182519
CREATED:20211201T183436Z
LAST-MODIFIED:20220217T193701Z
UID:15320-1646073000-1646076600@warsawfumc.org
SUMMARY:Cub Pack 3731
DESCRIPTION:
URL:https://warsawfumc.org/event/cub-pack-3731-49/
LOCATION:First United Methodist Church\, 179 S Indiana St\, Warsaw\, IN 46580\, USA\, 101 S Indiana St\, United States
END:VEVENT
END:VCALENDAR