BEGIN:VCALENDAR
VERSION:2.0
PRODID:-//Warsaw FUMC - ECPv6.15.20//NONSGML v1.0//EN
CALSCALE:GREGORIAN
METHOD:PUBLISH
X-WR-CALNAME:Warsaw FUMC
X-ORIGINAL-URL:https://warsawfumc.org
X-WR-CALDESC:Events for Warsaw FUMC
REFRESH-INTERVAL;VALUE=DURATION:PT1H
X-Robots-Tag:noindex
X-PUBLISHED-TTL:PT1H
BEGIN:VTIMEZONE
TZID:America/New_York
BEGIN:DAYLIGHT
TZOFFSETFROM:-0500
TZOFFSETTO:-0400
TZNAME:EDT
DTSTART:20210314T070000
END:DAYLIGHT
BEGIN:STANDARD
TZOFFSETFROM:-0400
TZOFFSETTO:-0500
TZNAME:EST
DTSTART:20211107T060000
END:STANDARD
BEGIN:DAYLIGHT
TZOFFSETFROM:-0500
TZOFFSETTO:-0400
TZNAME:EDT
DTSTART:20220313T070000
END:DAYLIGHT
BEGIN:STANDARD
TZOFFSETFROM:-0400
TZOFFSETTO:-0500
TZNAME:EST
DTSTART:20221106T060000
END:STANDARD
BEGIN:DAYLIGHT
TZOFFSETFROM:-0500
TZOFFSETTO:-0400
TZNAME:EDT
DTSTART:20230312T070000
END:DAYLIGHT
BEGIN:STANDARD
TZOFFSETFROM:-0400
TZOFFSETTO:-0500
TZNAME:EST
DTSTART:20231105T060000
END:STANDARD
END:VTIMEZONE
BEGIN:VEVENT
DTSTART;TZID=America/New_York:20220301T180000
DTEND;TZID=America/New_York:20220301T190000
DTSTAMP:20260422T175157
CREATED:20211201T183436Z
LAST-MODIFIED:20220217T193701Z
UID:15321-1646157600-1646161200@warsawfumc.org
SUMMARY:Prayer Group
DESCRIPTION:
URL:https://warsawfumc.org/event/prayer-group-49/
LOCATION:First United Methodist Church\, 179 S Indiana St\, Warsaw\, IN 46580\, USA\, 101 S Indiana St\, United States
END:VEVENT
BEGIN:VEVENT
DTSTART;TZID=America/New_York:20220228T183000
DTEND;TZID=America/New_York:20220228T193000
DTSTAMP:20260422T175157
CREATED:20211201T183436Z
LAST-MODIFIED:20220217T193701Z
UID:15320-1646073000-1646076600@warsawfumc.org
SUMMARY:Cub Pack 3731
DESCRIPTION:
URL:https://warsawfumc.org/event/cub-pack-3731-49/
LOCATION:First United Methodist Church\, 179 S Indiana St\, Warsaw\, IN 46580\, USA\, 101 S Indiana St\, United States
END:VEVENT
BEGIN:VEVENT
DTSTART;TZID=America/New_York:20220228T093000
DTEND;TZID=America/New_York:20220228T110000
DTSTAMP:20260422T175157
CREATED:20211201T183436Z
LAST-MODIFIED:20220217T193701Z
UID:15319-1646040600-1646046000@warsawfumc.org
SUMMARY:Small Group w/Kathee R.
DESCRIPTION:Small group led by Kathee Reed
URL:https://warsawfumc.org/event/small-group-w-kathee-r-23/
LOCATION:FUMC Parlor Downtown
END:VEVENT
BEGIN:VEVENT
DTSTART;TZID=America/New_York:20220226T090000
DTEND;TZID=America/New_York:20220226T110000
DTSTAMP:20260422T175157
CREATED:20220209T190613Z
LAST-MODIFIED:20220217T203936Z
UID:15785-1645866000-1645873200@warsawfumc.org
SUMMARY:All-Church Retreat at The Connection
DESCRIPTION:Inviting the Church Family to come be a part of the discussion exploring where we’ve been over the past couple of years in pandemic\, where we are today\, and where we’re sensing God is leading us in the New Year. Food and drink will not be provided so bring your own refreshments. Childcare provided. RSVP using your comment card\, email Ann (busmgr@warsawfumc.org)\, or call the office 574.267.6933 so we can plan appropriately for handouts.
URL:https://warsawfumc.org/event/all-church-retreat-at-the-connection/
LOCATION:1692 W Lake St\, Warsaw\, IN 46580\, USA
END:VEVENT
BEGIN:VEVENT
DTSTART;TZID=America/New_York:20220224T190000
DTEND;TZID=America/New_York:20220224T200000
DTSTAMP:20260422T175157
CREATED:20211127T182037Z
LAST-MODIFIED:20220217T193701Z
UID:15294-1645729200-1645732800@warsawfumc.org
SUMMARY:Bible Study
DESCRIPTION:
URL:https://warsawfumc.org/event/bible-study-51/
LOCATION:Via Zoom until further notice
END:VEVENT
BEGIN:VEVENT
DTSTART;TZID=America/New_York:20220224T080000
DTEND;TZID=America/New_York:20220224T090000
DTSTAMP:20260422T175157
CREATED:20211222T214935Z
LAST-MODIFIED:20220217T193701Z
UID:15532-1645689600-1645693200@warsawfumc.org
SUMMARY:Men's Bible Study w/Harrold
DESCRIPTION:This Men’s Bible Study is led by Richard Harrold
URL:https://warsawfumc.org/event/mens-bible-study-w-harrold-64/
LOCATION:FUMC Parlor Downtown
END:VEVENT
BEGIN:VEVENT
DTSTART;TZID=America/New_York:20220224T080000
DTEND;TZID=America/New_York:20220224T090000
DTSTAMP:20260422T175157
CREATED:20211126T182318Z
LAST-MODIFIED:20211222T210518Z
UID:15286-1645689600-1645693200@warsawfumc.org
SUMMARY:Men's Bible Study w/Harrold
DESCRIPTION:This Men’s Bible Study is led by Richard Harrold
URL:https://warsawfumc.org/event/mens-bible-study-w-harrold-51/
LOCATION:FUMC Parlor Downtown
END:VEVENT
BEGIN:VEVENT
DTSTART;TZID=America/New_York:20220224T080000
DTEND;TZID=America/New_York:20220224T090000
DTSTAMP:20260422T175157
CREATED:20211126T182318Z
LAST-MODIFIED:20220217T193701Z
UID:15287-1645689600-1645693200@warsawfumc.org
SUMMARY:Men's Bible Study w/Pastor
DESCRIPTION:All men are invited. Bring your Bible and we will look at the scripture and discuss the previous Sunday’s message.
URL:https://warsawfumc.org/event/mens-bible-study-w-pastor-51/
LOCATION:Via Zoom until further notice
END:VEVENT
BEGIN:VEVENT
DTSTART;TZID=America/New_York:20220223T133000
DTEND;TZID=America/New_York:20220223T150000
DTSTAMP:20260422T175157
CREATED:20211222T214935Z
LAST-MODIFIED:20220217T193701Z
UID:15531-1645623000-1645628400@warsawfumc.org
SUMMARY:Small Group w/Jan Wilcox
DESCRIPTION:
URL:https://warsawfumc.org/event/small-group-w-jan-wilcox-63/
LOCATION:Via Zoom at this time
END:VEVENT
BEGIN:VEVENT
DTSTART;TZID=America/New_York:20220223T133000
DTEND;TZID=America/New_York:20220223T150000
DTSTAMP:20260422T175157
CREATED:20211125T182049Z
LAST-MODIFIED:20211222T210531Z
UID:15279-1645623000-1645628400@warsawfumc.org
SUMMARY:Small Group w/Jan Wilcox
DESCRIPTION:
URL:https://warsawfumc.org/event/small-group-w-jan-wilcox-51/
LOCATION:Via Zoom at this time
END:VEVENT
BEGIN:VEVENT
DTSTART;TZID=America/New_York:20220222T190000
DTEND;TZID=America/New_York:20220222T203000
DTSTAMP:20260422T175157
CREATED:20211125T182049Z
LAST-MODIFIED:20220217T193701Z
UID:15278-1645556400-1645561800@warsawfumc.org
SUMMARY:Servant Council
DESCRIPTION:
URL:https://warsawfumc.org/event/servant-council-12/
LOCATION:Board Room\, 925 North Garfield Street\, Arlington\, VA\, 22201\, United States
END:VEVENT
BEGIN:VEVENT
DTSTART;TZID=America/New_York:20220222T180000
DTEND;TZID=America/New_York:20220222T190000
DTSTAMP:20260422T175157
CREATED:20211124T182231Z
LAST-MODIFIED:20220217T193701Z
UID:15273-1645552800-1645556400@warsawfumc.org
SUMMARY:Prayer Group
DESCRIPTION:
URL:https://warsawfumc.org/event/prayer-group-48/
LOCATION:First United Methodist Church\, 179 S Indiana St\, Warsaw\, IN 46580\, USA\, 101 S Indiana St\, United States
END:VEVENT
BEGIN:VEVENT
DTSTART;TZID=America/New_York:20220221T183000
DTEND;TZID=America/New_York:20220221T193000
DTSTAMP:20260422T175157
CREATED:20211123T181936Z
LAST-MODIFIED:20220217T193701Z
UID:15260-1645468200-1645471800@warsawfumc.org
SUMMARY:Cub Pack 3731
DESCRIPTION:
URL:https://warsawfumc.org/event/cub-pack-3731-48/
LOCATION:First United Methodist Church\, 179 S Indiana St\, Warsaw\, IN 46580\, USA\, 101 S Indiana St\, United States
END:VEVENT
BEGIN:VEVENT
DTSTART;TZID=America/New_York:20220217T190000
DTEND;TZID=America/New_York:20220217T200000
DTSTAMP:20260422T175157
CREATED:20211120T180530Z
LAST-MODIFIED:20220217T193701Z
UID:15244-1645124400-1645128000@warsawfumc.org
SUMMARY:Bible Study
DESCRIPTION:
URL:https://warsawfumc.org/event/bible-study-50/
LOCATION:Via Zoom until further notice
END:VEVENT
BEGIN:VEVENT
DTSTART;TZID=America/New_York:20220217T080000
DTEND;TZID=America/New_York:20220217T090000
DTSTAMP:20260422T175157
CREATED:20211222T214935Z
LAST-MODIFIED:20220216T193452Z
UID:15530-1645084800-1645088400@warsawfumc.org
SUMMARY:Men's Bible Study w/Harrold
DESCRIPTION:This Men’s Bible Study is led by Richard Harrold
URL:https://warsawfumc.org/event/mens-bible-study-w-harrold-63/
LOCATION:FUMC Parlor Downtown
END:VEVENT
BEGIN:VEVENT
DTSTART;TZID=America/New_York:20220217T080000
DTEND;TZID=America/New_York:20220217T090000
DTSTAMP:20260422T175157
CREATED:20211119T180543Z
LAST-MODIFIED:20220216T193452Z
UID:15234-1645084800-1645088400@warsawfumc.org
SUMMARY:Men's Bible Study w/Pastor
DESCRIPTION:All men are invited. Bring your Bible and we will look at the scripture and discuss the previous Sunday’s message.
URL:https://warsawfumc.org/event/mens-bible-study-w-pastor-50/
LOCATION:Via Zoom until further notice
END:VEVENT
BEGIN:VEVENT
DTSTART;TZID=America/New_York:20220217T080000
DTEND;TZID=America/New_York:20220217T090000
DTSTAMP:20260422T175157
CREATED:20211119T180543Z
LAST-MODIFIED:20211222T210604Z
UID:15235-1645084800-1645088400@warsawfumc.org
SUMMARY:Men's Bible Study w/Harrold
DESCRIPTION:This Men’s Bible Study is led by Richard Harrold
URL:https://warsawfumc.org/event/mens-bible-study-w-harrold-50/
LOCATION:FUMC Parlor Downtown
END:VEVENT
BEGIN:VEVENT
DTSTART;TZID=America/New_York:20220216T133000
DTEND;TZID=America/New_York:20220216T150000
DTSTAMP:20260422T175157
CREATED:20211222T214935Z
LAST-MODIFIED:20220216T193452Z
UID:15529-1645018200-1645023600@warsawfumc.org
SUMMARY:Small Group w/Jan Wilcox
DESCRIPTION:
URL:https://warsawfumc.org/event/small-group-w-jan-wilcox-62/
LOCATION:Via Zoom at this time
END:VEVENT
BEGIN:VEVENT
DTSTART;TZID=America/New_York:20220216T133000
DTEND;TZID=America/New_York:20220216T150000
DTSTAMP:20260422T175157
CREATED:20211118T180442Z
LAST-MODIFIED:20211222T210608Z
UID:15226-1645018200-1645023600@warsawfumc.org
SUMMARY:Small Group w/Jan Wilcox
DESCRIPTION:
URL:https://warsawfumc.org/event/small-group-w-jan-wilcox-50/
LOCATION:Via Zoom at this time
END:VEVENT
BEGIN:VEVENT
DTSTART;TZID=America/New_York:20220215T180000
DTEND;TZID=America/New_York:20220215T190000
DTSTAMP:20260422T175157
CREATED:20211117T175043Z
LAST-MODIFIED:20220215T193622Z
UID:15213-1644948000-1644951600@warsawfumc.org
SUMMARY:Prayer Group
DESCRIPTION:
URL:https://warsawfumc.org/event/prayer-group-47/
LOCATION:First United Methodist Church\, 179 S Indiana St\, Warsaw\, IN 46580\, USA\, 101 S Indiana St\, United States
END:VEVENT
BEGIN:VEVENT
DTSTART;TZID=America/New_York:20220214T183000
DTEND;TZID=America/New_York:20220214T193000
DTSTAMP:20260422T175157
CREATED:20211116T175013Z
LAST-MODIFIED:20220214T193446Z
UID:15206-1644863400-1644867000@warsawfumc.org
SUMMARY:Cub Pack 3731
DESCRIPTION:
URL:https://warsawfumc.org/event/cub-pack-3731-47/
LOCATION:First United Methodist Church\, 179 S Indiana St\, Warsaw\, IN 46580\, USA\, 101 S Indiana St\, United States
END:VEVENT
BEGIN:VEVENT
DTSTART;TZID=America/New_York:20220214T093000
DTEND;TZID=America/New_York:20220214T110000
DTSTAMP:20260422T175157
CREATED:20211116T175013Z
LAST-MODIFIED:20220213T193435Z
UID:15205-1644831000-1644836400@warsawfumc.org
SUMMARY:Small Group w/Kathee R.
DESCRIPTION:Small Group led by Kathee Reed
URL:https://warsawfumc.org/event/small-group-w-kathee-r-22/
LOCATION:FUMC Parlor Downtown
END:VEVENT
BEGIN:VEVENT
DTSTART;TZID=America/New_York:20220210T190000
DTEND;TZID=America/New_York:20220210T200000
DTSTAMP:20260422T175157
CREATED:20211113T173458Z
LAST-MODIFIED:20220210T190541Z
UID:15188-1644519600-1644523200@warsawfumc.org
SUMMARY:Bible Study
DESCRIPTION:
URL:https://warsawfumc.org/event/bible-study-49/
LOCATION:Via Zoom until further notice
END:VEVENT
BEGIN:VEVENT
DTSTART;TZID=America/New_York:20220210T080000
DTEND;TZID=America/New_York:20220210T090000
DTSTAMP:20260422T175157
CREATED:20211222T214935Z
LAST-MODIFIED:20220209T190612Z
UID:15528-1644480000-1644483600@warsawfumc.org
SUMMARY:Men's Bible Study w/Harrold
DESCRIPTION:This Men’s Bible Study is led by Richard Harrold
URL:https://warsawfumc.org/event/mens-bible-study-w-harrold-62/
LOCATION:FUMC Parlor Downtown
END:VEVENT
BEGIN:VEVENT
DTSTART;TZID=America/New_York:20220210T080000
DTEND;TZID=America/New_York:20220210T090000
DTSTAMP:20260422T175157
CREATED:20211112T173536Z
LAST-MODIFIED:20211222T210634Z
UID:15175-1644480000-1644483600@warsawfumc.org
SUMMARY:Men's Bible Study w/Harrold
DESCRIPTION:This Men’s Bible Study is led by Richard Harrold
URL:https://warsawfumc.org/event/mens-bible-study-w-harrold-49/
LOCATION:FUMC Parlor Downtown
END:VEVENT
BEGIN:VEVENT
DTSTART;TZID=America/New_York:20220210T080000
DTEND;TZID=America/New_York:20220210T090000
DTSTAMP:20260422T175157
CREATED:20211112T173536Z
LAST-MODIFIED:20220209T190612Z
UID:15176-1644480000-1644483600@warsawfumc.org
SUMMARY:Men's Bible Study w/Pastor
DESCRIPTION:All men are invited. Bring your Bible and we will look at the scripture and discuss the previous Sunday’s message.
URL:https://warsawfumc.org/event/mens-bible-study-w-pastor-49/
LOCATION:Via Zoom until further notice
END:VEVENT
BEGIN:VEVENT
DTSTART;TZID=America/New_York:20220209T133000
DTEND;TZID=America/New_York:20220209T150000
DTSTAMP:20260422T175157
CREATED:20211222T214934Z
LAST-MODIFIED:20220209T190612Z
UID:15527-1644413400-1644418800@warsawfumc.org
SUMMARY:Small Group w/Jan Wilcox
DESCRIPTION:
URL:https://warsawfumc.org/event/small-group-w-jan-wilcox-61/
LOCATION:Via Zoom at this time
END:VEVENT
BEGIN:VEVENT
DTSTART;TZID=America/New_York:20220209T133000
DTEND;TZID=America/New_York:20220209T150000
DTSTAMP:20260422T175157
CREATED:20211111T173449Z
LAST-MODIFIED:20211222T210643Z
UID:15164-1644413400-1644418800@warsawfumc.org
SUMMARY:Small Group w/Jan Wilcox
DESCRIPTION:
URL:https://warsawfumc.org/event/small-group-w-jan-wilcox-49/
LOCATION:Via Zoom at this time
END:VEVENT
BEGIN:VEVENT
DTSTART;TZID=America/New_York:20220208T180000
DTEND;TZID=America/New_York:20220208T190000
DTSTAMP:20260422T175157
CREATED:20211110T172137Z
LAST-MODIFIED:20220208T190523Z
UID:15156-1644343200-1644346800@warsawfumc.org
SUMMARY:Prayer Group
DESCRIPTION:
URL:https://warsawfumc.org/event/prayer-group-46/
LOCATION:First United Methodist Church\, 179 S Indiana St\, Warsaw\, IN 46580\, USA\, 101 S Indiana St\, United States
END:VEVENT
BEGIN:VEVENT
DTSTART;TZID=America/New_York:20220207T183000
DTEND;TZID=America/New_York:20220207T193000
DTSTAMP:20260422T175157
CREATED:20211109T171158Z
LAST-MODIFIED:20220207T190456Z
UID:15149-1644258600-1644262200@warsawfumc.org
SUMMARY:Cub Pack 3731
DESCRIPTION:
URL:https://warsawfumc.org/event/cub-pack-3731-46/
LOCATION:First United Methodist Church\, 179 S Indiana St\, Warsaw\, IN 46580\, USA\, 101 S Indiana St\, United States
END:VEVENT
END:VCALENDAR