BEGIN:VCALENDAR
VERSION:2.0
PRODID:-//Warsaw FUMC - ECPv6.15.20//NONSGML v1.0//EN
CALSCALE:GREGORIAN
METHOD:PUBLISH
X-WR-CALNAME:Warsaw FUMC
X-ORIGINAL-URL:https://warsawfumc.org
X-WR-CALDESC:Events for Warsaw FUMC
REFRESH-INTERVAL;VALUE=DURATION:PT1H
X-Robots-Tag:noindex
X-PUBLISHED-TTL:PT1H
BEGIN:VTIMEZONE
TZID:America/New_York
BEGIN:DAYLIGHT
TZOFFSETFROM:-0500
TZOFFSETTO:-0400
TZNAME:EDT
DTSTART:20210314T070000
END:DAYLIGHT
BEGIN:STANDARD
TZOFFSETFROM:-0400
TZOFFSETTO:-0500
TZNAME:EST
DTSTART:20211107T060000
END:STANDARD
BEGIN:DAYLIGHT
TZOFFSETFROM:-0500
TZOFFSETTO:-0400
TZNAME:EDT
DTSTART:20220313T070000
END:DAYLIGHT
BEGIN:STANDARD
TZOFFSETFROM:-0400
TZOFFSETTO:-0500
TZNAME:EST
DTSTART:20221106T060000
END:STANDARD
BEGIN:DAYLIGHT
TZOFFSETFROM:-0500
TZOFFSETTO:-0400
TZNAME:EDT
DTSTART:20230312T070000
END:DAYLIGHT
BEGIN:STANDARD
TZOFFSETFROM:-0400
TZOFFSETTO:-0500
TZNAME:EST
DTSTART:20231105T060000
END:STANDARD
END:VTIMEZONE
BEGIN:VEVENT
DTSTART;TZID=America/New_York:20220208T180000
DTEND;TZID=America/New_York:20220208T190000
DTSTAMP:20260422T183200
CREATED:20211110T172137Z
LAST-MODIFIED:20220208T190523Z
UID:15156-1644343200-1644346800@warsawfumc.org
SUMMARY:Prayer Group
DESCRIPTION:
URL:https://warsawfumc.org/event/prayer-group-46/
LOCATION:First United Methodist Church\, 179 S Indiana St\, Warsaw\, IN 46580\, USA\, 101 S Indiana St\, United States
END:VEVENT
BEGIN:VEVENT
DTSTART;TZID=America/New_York:20220207T183000
DTEND;TZID=America/New_York:20220207T193000
DTSTAMP:20260422T183200
CREATED:20211109T171158Z
LAST-MODIFIED:20220207T190456Z
UID:15149-1644258600-1644262200@warsawfumc.org
SUMMARY:Cub Pack 3731
DESCRIPTION:
URL:https://warsawfumc.org/event/cub-pack-3731-46/
LOCATION:First United Methodist Church\, 179 S Indiana St\, Warsaw\, IN 46580\, USA\, 101 S Indiana St\, United States
END:VEVENT
BEGIN:VEVENT
DTSTART;TZID=America/New_York:20220206T100000
DTEND;TZID=America/New_York:20220206T110000
DTSTAMP:20260422T183200
CREATED:20220120T173547Z
LAST-MODIFIED:20220205T190447Z
UID:15682-1644141600-1644145200@warsawfumc.org
SUMMARY:Combined Service for Mission Sunday
DESCRIPTION:Special guests Indiana Conference Bishop Julius Trimble and North Conference Superintendent Rev. Dr. Marti Lundy in attendance.\nCome join us as we hear from the various missions we are partnering with in 2022 and receive inspiration as Bishop Julius Trimble of the Indiana Annual Conference shares God’s Word with us.\n* Only one service takes place this Sunday — Downtown Sanctuary
URL:https://warsawfumc.org/event/combined-service-for-mission-sunday/
LOCATION:First United Methodist Church\, 179 S Indiana St\, Warsaw\, IN 46580\, USA\, 101 S Indiana St\, United States
END:VEVENT
BEGIN:VEVENT
DTSTART;TZID=America/New_York:20220203T190000
DTEND;TZID=America/New_York:20220203T200000
DTSTAMP:20260422T183200
CREATED:20211106T165753Z
LAST-MODIFIED:20220203T185104Z
UID:15133-1643914800-1643918400@warsawfumc.org
SUMMARY:Bible Study
DESCRIPTION:
URL:https://warsawfumc.org/event/bible-study-48/
LOCATION:Via Zoom until further notice
END:VEVENT
BEGIN:VEVENT
DTSTART;TZID=America/New_York:20220203T080000
DTEND;TZID=America/New_York:20220203T090000
DTSTAMP:20260422T183200
CREATED:20211222T214934Z
LAST-MODIFIED:20220202T184938Z
UID:15526-1643875200-1643878800@warsawfumc.org
SUMMARY:Men's Bible Study w/Harrold
DESCRIPTION:This Men’s Bible Study is led by Richard Harrold
URL:https://warsawfumc.org/event/mens-bible-study-w-harrold-61/
LOCATION:FUMC Parlor Downtown
END:VEVENT
BEGIN:VEVENT
DTSTART;TZID=America/New_York:20220203T080000
DTEND;TZID=America/New_York:20220203T090000
DTSTAMP:20260422T183200
CREATED:20211105T163706Z
LAST-MODIFIED:20211222T210734Z
UID:15126-1643875200-1643878800@warsawfumc.org
SUMMARY:Men's Bible Study w/Harrold
DESCRIPTION:This Men’s Bible Study is led by Richard Harrold
URL:https://warsawfumc.org/event/mens-bible-study-w-harrold-48/
LOCATION:FUMC Parlor Downtown
END:VEVENT
BEGIN:VEVENT
DTSTART;TZID=America/New_York:20220203T080000
DTEND;TZID=America/New_York:20220203T090000
DTSTAMP:20260422T183200
CREATED:20211105T163706Z
LAST-MODIFIED:20220202T184938Z
UID:15127-1643875200-1643878800@warsawfumc.org
SUMMARY:Men's Bible Study w/Pastor
DESCRIPTION:All men are invited. Bring your Bible and we will look at the scripture and discuss the previous Sunday’s message.
URL:https://warsawfumc.org/event/mens-bible-study-w-pastor-48/
LOCATION:Via Zoom until further notice
END:VEVENT
BEGIN:VEVENT
DTSTART;TZID=America/New_York:20220202T133000
DTEND;TZID=America/New_York:20220202T150000
DTSTAMP:20260422T183200
CREATED:20211222T214934Z
LAST-MODIFIED:20220202T184937Z
UID:15525-1643808600-1643814000@warsawfumc.org
SUMMARY:Small Group w/Jan Wilcox
DESCRIPTION:
URL:https://warsawfumc.org/event/small-group-w-jan-wilcox-60/
LOCATION:Via Zoom at this time
END:VEVENT
BEGIN:VEVENT
DTSTART;TZID=America/New_York:20220202T133000
DTEND;TZID=America/New_York:20220202T150000
DTSTAMP:20260422T183200
CREATED:20211104T162055Z
LAST-MODIFIED:20211222T210949Z
UID:15117-1643808600-1643814000@warsawfumc.org
SUMMARY:Small Group w/Jan Wilcox
DESCRIPTION:
URL:https://warsawfumc.org/event/small-group-w-jan-wilcox-48/
LOCATION:Via Zoom at this time
END:VEVENT
BEGIN:VEVENT
DTSTART;TZID=America/New_York:20220201T180000
DTEND;TZID=America/New_York:20220201T190000
DTSTAMP:20260422T183200
CREATED:20211103T162455Z
LAST-MODIFIED:20220201T185037Z
UID:15086-1643738400-1643742000@warsawfumc.org
SUMMARY:Prayer Group
DESCRIPTION:
URL:https://warsawfumc.org/event/prayer-group-45/
LOCATION:First United Methodist Church\, 179 S Indiana St\, Warsaw\, IN 46580\, USA\, 101 S Indiana St\, United States
END:VEVENT
BEGIN:VEVENT
DTSTART;TZID=America/New_York:20220131T183000
DTEND;TZID=America/New_York:20220131T193000
DTSTAMP:20260422T183200
CREATED:20211102T162125Z
LAST-MODIFIED:20220131T183606Z
UID:15079-1643653800-1643657400@warsawfumc.org
SUMMARY:Cub Pack 3731
DESCRIPTION:
URL:https://warsawfumc.org/event/cub-pack-3731-45/
LOCATION:First United Methodist Church\, 179 S Indiana St\, Warsaw\, IN 46580\, USA\, 101 S Indiana St\, United States
END:VEVENT
BEGIN:VEVENT
DTSTART;TZID=America/New_York:20220127T190000
DTEND;TZID=America/New_York:20220127T200000
DTSTAMP:20260422T183200
CREATED:20211030T160722Z
LAST-MODIFIED:20220127T181127Z
UID:15061-1643310000-1643313600@warsawfumc.org
SUMMARY:Bible Study
DESCRIPTION:
URL:https://warsawfumc.org/event/bible-study-47/
LOCATION:Via Zoom until further notice
END:VEVENT
BEGIN:VEVENT
DTSTART;TZID=America/New_York:20220127T080000
DTEND;TZID=America/New_York:20220127T090000
DTSTAMP:20260422T183200
CREATED:20211222T214934Z
LAST-MODIFIED:20220126T180722Z
UID:15524-1643270400-1643274000@warsawfumc.org
SUMMARY:Men's Bible Study w/Harrold
DESCRIPTION:This Men’s Bible Study is led by Richard Harrold
URL:https://warsawfumc.org/event/mens-bible-study-w-harrold-60/
LOCATION:FUMC Parlor Downtown
END:VEVENT
BEGIN:VEVENT
DTSTART;TZID=America/New_York:20220127T080000
DTEND;TZID=America/New_York:20220127T090000
DTSTAMP:20260422T183200
CREATED:20211029T160510Z
LAST-MODIFIED:20211222T211009Z
UID:15051-1643270400-1643274000@warsawfumc.org
SUMMARY:Men's Bible Study w/Harrold
DESCRIPTION:This Men’s Bible Study is led by Richard Harrold
URL:https://warsawfumc.org/event/mens-bible-study-w-harrold-47/
LOCATION:FUMC Parlor Downtown
END:VEVENT
BEGIN:VEVENT
DTSTART;TZID=America/New_York:20220127T080000
DTEND;TZID=America/New_York:20220127T090000
DTSTAMP:20260422T183200
CREATED:20211029T160510Z
LAST-MODIFIED:20220126T180722Z
UID:15052-1643270400-1643274000@warsawfumc.org
SUMMARY:Men's Bible Study w/Pastor
DESCRIPTION:All men are invited. Bring your Bible and we will look at the scripture and discuss the previous Sunday’s message.
URL:https://warsawfumc.org/event/mens-bible-study-w-pastor-47/
LOCATION:Via Zoom until further notice
END:VEVENT
BEGIN:VEVENT
DTSTART;TZID=America/New_York:20220126T133000
DTEND;TZID=America/New_York:20220126T150000
DTSTAMP:20260422T183200
CREATED:20211222T214934Z
LAST-MODIFIED:20220126T180722Z
UID:15523-1643203800-1643209200@warsawfumc.org
SUMMARY:Small Group w/Jan Wilcox
DESCRIPTION:
URL:https://warsawfumc.org/event/small-group-w-jan-wilcox-59/
LOCATION:Via Zoom at this time
END:VEVENT
BEGIN:VEVENT
DTSTART;TZID=America/New_York:20220126T133000
DTEND;TZID=America/New_York:20220126T150000
DTSTAMP:20260422T183200
CREATED:20211028T160730Z
LAST-MODIFIED:20211222T211018Z
UID:15043-1643203800-1643209200@warsawfumc.org
SUMMARY:Small Group w/Jan Wilcox
DESCRIPTION:
URL:https://warsawfumc.org/event/small-group-w-jan-wilcox-47/
LOCATION:Via Zoom at this time
END:VEVENT
BEGIN:VEVENT
DTSTART;TZID=America/New_York:20220125T190000
DTEND;TZID=America/New_York:20220125T203000
DTSTAMP:20260422T183200
CREATED:20211028T160730Z
LAST-MODIFIED:20220125T175807Z
UID:15042-1643137200-1643142600@warsawfumc.org
SUMMARY:Servant Council
DESCRIPTION:
URL:https://warsawfumc.org/event/servant-council-11/
LOCATION:Board Room\, 925 North Garfield Street\, Arlington\, VA\, 22201\, United States
END:VEVENT
BEGIN:VEVENT
DTSTART;TZID=America/New_York:20220125T180000
DTEND;TZID=America/New_York:20220125T190000
DTSTAMP:20260422T183200
CREATED:20211027T160600Z
LAST-MODIFIED:20220125T175807Z
UID:15035-1643133600-1643137200@warsawfumc.org
SUMMARY:Prayer Group
DESCRIPTION:
URL:https://warsawfumc.org/event/prayer-group-44/
LOCATION:First United Methodist Church\, 179 S Indiana St\, Warsaw\, IN 46580\, USA\, 101 S Indiana St\, United States
END:VEVENT
BEGIN:VEVENT
DTSTART;TZID=America/New_York:20220124T183000
DTEND;TZID=America/New_York:20220124T193000
DTSTAMP:20260422T183200
CREATED:20211026T160516Z
LAST-MODIFIED:20220124T175058Z
UID:15027-1643049000-1643052600@warsawfumc.org
SUMMARY:Cub Pack 3731
DESCRIPTION:
URL:https://warsawfumc.org/event/cub-pack-3731-44/
LOCATION:First United Methodist Church\, 179 S Indiana St\, Warsaw\, IN 46580\, USA\, 101 S Indiana St\, United States
END:VEVENT
BEGIN:VEVENT
DTSTART;TZID=America/New_York:20220124T093000
DTEND;TZID=America/New_York:20220124T110000
DTSTAMP:20260422T183200
CREATED:20211026T160516Z
LAST-MODIFIED:20220123T174937Z
UID:15026-1643016600-1643022000@warsawfumc.org
SUMMARY:Small Group w/Kathee R.
DESCRIPTION:Small group led by Kathee Reed
URL:https://warsawfumc.org/event/small-group-w-kathee-r-21/
LOCATION:FUMC Parlor Downtown
END:VEVENT
BEGIN:VEVENT
DTSTART;TZID=America/New_York:20220120T190000
DTEND;TZID=America/New_York:20220120T200000
DTSTAMP:20260422T183200
CREATED:20211023T153909Z
LAST-MODIFIED:20220120T173550Z
UID:15010-1642705200-1642708800@warsawfumc.org
SUMMARY:Bible Study
DESCRIPTION:
URL:https://warsawfumc.org/event/bible-study-46/
LOCATION:Via Zoom until further notice
END:VEVENT
BEGIN:VEVENT
DTSTART;TZID=America/New_York:20220120T080000
DTEND;TZID=America/New_York:20220120T090000
DTSTAMP:20260422T183200
CREATED:20211222T214934Z
LAST-MODIFIED:20220119T173456Z
UID:15522-1642665600-1642669200@warsawfumc.org
SUMMARY:Men's Bible Study w/Harrold
DESCRIPTION:This Men’s Bible Study is led by Richard Harrold
URL:https://warsawfumc.org/event/mens-bible-study-w-harrold-59/
LOCATION:FUMC Parlor Downtown
END:VEVENT
BEGIN:VEVENT
DTSTART;TZID=America/New_York:20220120T080000
DTEND;TZID=America/New_York:20220120T090000
DTSTAMP:20260422T183200
CREATED:20211022T153712Z
LAST-MODIFIED:20220119T173456Z
UID:15002-1642665600-1642669200@warsawfumc.org
SUMMARY:Men's Bible Study w/Pastor
DESCRIPTION:All men are invited. Bring your Bible and we will look at the scripture and discuss the previous Sunday’s message.
URL:https://warsawfumc.org/event/mens-bible-study-w-pastor-46/
LOCATION:Via Zoom until further notice
END:VEVENT
BEGIN:VEVENT
DTSTART;TZID=America/New_York:20220120T080000
DTEND;TZID=America/New_York:20220120T090000
DTSTAMP:20260422T183200
CREATED:20211022T153712Z
LAST-MODIFIED:20211222T211048Z
UID:15003-1642665600-1642669200@warsawfumc.org
SUMMARY:Men's Bible Study w/Harrold
DESCRIPTION:This Men’s Bible Study is led by Richard Harrold
URL:https://warsawfumc.org/event/mens-bible-study-w-harrold-46/
LOCATION:FUMC Parlor Downtown
END:VEVENT
BEGIN:VEVENT
DTSTART;TZID=America/New_York:20220119T133000
DTEND;TZID=America/New_York:20220119T150000
DTSTAMP:20260422T183200
CREATED:20211222T214934Z
LAST-MODIFIED:20220119T173456Z
UID:15521-1642599000-1642604400@warsawfumc.org
SUMMARY:Small Group w/Jan Wilcox
DESCRIPTION:
URL:https://warsawfumc.org/event/small-group-w-jan-wilcox-58/
LOCATION:Via Zoom at this time
END:VEVENT
BEGIN:VEVENT
DTSTART;TZID=America/New_York:20220119T133000
DTEND;TZID=America/New_York:20220119T150000
DTSTAMP:20260422T183200
CREATED:20211021T153631Z
LAST-MODIFIED:20211222T211052Z
UID:14992-1642599000-1642604400@warsawfumc.org
SUMMARY:Small Group w/Jan Wilcox
DESCRIPTION:
URL:https://warsawfumc.org/event/small-group-w-jan-wilcox-46/
LOCATION:Via Zoom at this time
END:VEVENT
BEGIN:VEVENT
DTSTART;TZID=America/New_York:20220118T180000
DTEND;TZID=America/New_York:20220118T190000
DTSTAMP:20260422T183200
CREATED:20211020T153617Z
LAST-MODIFIED:20220118T173502Z
UID:14987-1642528800-1642532400@warsawfumc.org
SUMMARY:Prayer Group
DESCRIPTION:
URL:https://warsawfumc.org/event/prayer-group-43/
LOCATION:First United Methodist Church\, 179 S Indiana St\, Warsaw\, IN 46580\, USA\, 101 S Indiana St\, United States
END:VEVENT
BEGIN:VEVENT
DTSTART;TZID=America/New_York:20220117T183000
DTEND;TZID=America/New_York:20220117T193000
DTSTAMP:20260422T183200
CREATED:20211019T153640Z
LAST-MODIFIED:20220117T173528Z
UID:14979-1642444200-1642447800@warsawfumc.org
SUMMARY:Cub Pack 3731
DESCRIPTION:
URL:https://warsawfumc.org/event/cub-pack-3731-43/
LOCATION:First United Methodist Church\, 179 S Indiana St\, Warsaw\, IN 46580\, USA\, 101 S Indiana St\, United States
END:VEVENT
BEGIN:VEVENT
DTSTART;TZID=America/New_York:20220113T190000
DTEND;TZID=America/New_York:20220113T200000
DTSTAMP:20260422T183200
CREATED:20211016T152010Z
LAST-MODIFIED:20220113T172440Z
UID:14962-1642100400-1642104000@warsawfumc.org
SUMMARY:Bible Study
DESCRIPTION:
URL:https://warsawfumc.org/event/bible-study-45/
LOCATION:Via Zoom until further notice
END:VEVENT
END:VCALENDAR