BEGIN:VCALENDAR
VERSION:2.0
PRODID:-//Warsaw FUMC - ECPv6.15.20//NONSGML v1.0//EN
CALSCALE:GREGORIAN
METHOD:PUBLISH
X-WR-CALNAME:Warsaw FUMC
X-ORIGINAL-URL:https://warsawfumc.org
X-WR-CALDESC:Events for Warsaw FUMC
REFRESH-INTERVAL;VALUE=DURATION:PT1H
X-Robots-Tag:noindex
X-PUBLISHED-TTL:PT1H
BEGIN:VTIMEZONE
TZID:America/New_York
BEGIN:DAYLIGHT
TZOFFSETFROM:-0500
TZOFFSETTO:-0400
TZNAME:EDT
DTSTART:20200308T070000
END:DAYLIGHT
BEGIN:STANDARD
TZOFFSETFROM:-0400
TZOFFSETTO:-0500
TZNAME:EST
DTSTART:20201101T060000
END:STANDARD
BEGIN:DAYLIGHT
TZOFFSETFROM:-0500
TZOFFSETTO:-0400
TZNAME:EDT
DTSTART:20210314T070000
END:DAYLIGHT
BEGIN:STANDARD
TZOFFSETFROM:-0400
TZOFFSETTO:-0500
TZNAME:EST
DTSTART:20211107T060000
END:STANDARD
BEGIN:DAYLIGHT
TZOFFSETFROM:-0500
TZOFFSETTO:-0400
TZNAME:EDT
DTSTART:20220313T070000
END:DAYLIGHT
BEGIN:STANDARD
TZOFFSETFROM:-0400
TZOFFSETTO:-0500
TZNAME:EST
DTSTART:20221106T060000
END:STANDARD
END:VTIMEZONE
BEGIN:VEVENT
DTSTART;TZID=America/New_York:20211223T080000
DTEND;TZID=America/New_York:20211223T090000
DTSTAMP:20260422T181441
CREATED:20211222T214933Z
LAST-MODIFIED:20211222T214933Z
UID:15514-1640246400-1640250000@warsawfumc.org
SUMMARY:Men's Bible Study w/Harrold
DESCRIPTION:This Men’s Bible Study is led by Richard Harrold
URL:https://warsawfumc.org/event/mens-bible-study-w-harrold-55/
LOCATION:FUMC Parlor Downtown
END:VEVENT
BEGIN:VEVENT
DTSTART;TZID=America/New_York:20211223T080000
DTEND;TZID=America/New_York:20211223T090000
DTSTAMP:20260422T181441
CREATED:20210924T232347Z
LAST-MODIFIED:20211222T214933Z
UID:14771-1640246400-1640250000@warsawfumc.org
SUMMARY:Men's Bible Study w/Pastor
DESCRIPTION:All men are invited. Bring your Bible and we will look at the scripture and discuss the previous Sunday’s message.
URL:https://warsawfumc.org/event/mens-bible-study-w-pastor-42/
LOCATION:Via Zoom until further notice
END:VEVENT
BEGIN:VEVENT
DTSTART;TZID=America/New_York:20211223T080000
DTEND;TZID=America/New_York:20211223T090000
DTSTAMP:20260422T181441
CREATED:20210924T232347Z
LAST-MODIFIED:20211222T211159Z
UID:14772-1640246400-1640250000@warsawfumc.org
SUMMARY:Men's Bible Study w/Harrold
DESCRIPTION:This Men’s Bible Study is led by Richard Harrold
URL:https://warsawfumc.org/event/mens-bible-study-w-harrold-42/
LOCATION:FUMC Parlor Downtown
END:VEVENT
BEGIN:VEVENT
DTSTART;TZID=America/New_York:20211222T133000
DTEND;TZID=America/New_York:20211222T150000
DTSTAMP:20260422T181441
CREATED:20210923T232043Z
LAST-MODIFIED:20211222T211203Z
UID:14757-1640179800-1640185200@warsawfumc.org
SUMMARY:Small Group w/Jan Wilcox
DESCRIPTION:
URL:https://warsawfumc.org/event/small-group-w-jan-wilcox-42/
LOCATION:Via Zoom at this time
END:VEVENT
BEGIN:VEVENT
DTSTART;TZID=America/New_York:20211221T180000
DTEND;TZID=America/New_York:20211221T190000
DTSTAMP:20260422T181441
CREATED:20210922T230813Z
LAST-MODIFIED:20211222T211208Z
UID:14745-1640109600-1640113200@warsawfumc.org
SUMMARY:Prayer Group
DESCRIPTION:
URL:https://warsawfumc.org/event/prayer-group-39/
LOCATION:First United Methodist Church\, 179 S Indiana St\, Warsaw\, IN 46580\, USA\, 101 S Indiana St\, United States
END:VEVENT
BEGIN:VEVENT
DTSTART;TZID=America/New_York:20211220T190000
DTEND;TZID=America/New_York:20211220T200000
DTSTAMP:20260422T181441
CREATED:20210922T235053Z
LAST-MODIFIED:20211222T211216Z
UID:14751-1640026800-1640030400@warsawfumc.org
SUMMARY:Scouting Troop 0730-B
DESCRIPTION:
URL:https://warsawfumc.org/event/scouting-troop-0730-b-39/
LOCATION:First United Methodist Church\, 1692 W Lake St\, Warsaw\, IN 46580\, USA
END:VEVENT
BEGIN:VEVENT
DTSTART;TZID=America/New_York:20211220T183000
DTEND;TZID=America/New_York:20211220T193000
DTSTAMP:20260422T181441
CREATED:20210921T225216Z
LAST-MODIFIED:20211222T211212Z
UID:14736-1640025000-1640028600@warsawfumc.org
SUMMARY:Cub Pack 3731
DESCRIPTION:
URL:https://warsawfumc.org/event/cub-pack-3731-39/
LOCATION:First United Methodist Church\, 179 S Indiana St\, Warsaw\, IN 46580\, USA\, 101 S Indiana St\, United States
END:VEVENT
BEGIN:VEVENT
DTSTART;TZID=America/New_York:20211219T110000
DTEND;TZID=America/New_York:20211219T120000
DTSTAMP:20260422T181441
CREATED:20210920T235042Z
LAST-MODIFIED:20211222T211220Z
UID:14734-1639911600-1639915200@warsawfumc.org
SUMMARY:Contemporary Worship Service @ The Connection
DESCRIPTION:Contemporary worship in a casual setting with Praise Band
URL:https://warsawfumc.org/event/contemporary-worship-service-the-connection-40/
LOCATION:First United Methodist Church\, 1692 W Lake St\, Warsaw\, IN 46580\, USA
END:VEVENT
BEGIN:VEVENT
DTSTART;TZID=America/New_York:20211217T183000
DTEND;TZID=America/New_York:20211217T203000
DTSTAMP:20260422T181441
CREATED:20210918T231940Z
LAST-MODIFIED:20211217T231420Z
UID:14717-1639765800-1639773000@warsawfumc.org
SUMMARY:Round Dance
DESCRIPTION:
URL:https://warsawfumc.org/event/round-dance-9/
LOCATION:First United Methodist Church\, 1692 W Lake St\, Warsaw\, IN 46580\, USA
END:VEVENT
BEGIN:VEVENT
DTSTART;TZID=America/New_York:20211216T190000
DTEND;TZID=America/New_York:20211216T200000
DTSTAMP:20260422T181441
CREATED:20210918T224940Z
LAST-MODIFIED:20211222T211224Z
UID:14714-1639681200-1639684800@warsawfumc.org
SUMMARY:Bible Study
DESCRIPTION:
URL:https://warsawfumc.org/event/bible-study-41/
LOCATION:Via Zoom until further notice
END:VEVENT
BEGIN:VEVENT
DTSTART;TZID=America/New_York:20211216T173000
DTEND;TZID=America/New_York:20211216T183000
DTSTAMP:20260422T181441
CREATED:20210917T233811Z
LAST-MODIFIED:20211222T211228Z
UID:14710-1639675800-1639679400@warsawfumc.org
SUMMARY:Girl Scout Troop 00158
DESCRIPTION:
URL:https://warsawfumc.org/event/girl-scout-troop-00158-38/
LOCATION:First United Methodist Church\, 1692 W Lake St\, Warsaw\, IN 46580\, USA
END:VEVENT
BEGIN:VEVENT
DTSTART;TZID=America/New_York:20211216T080000
DTEND;TZID=America/New_York:20211216T090000
DTSTAMP:20260422T181441
CREATED:20210917T225111Z
LAST-MODIFIED:20211222T211233Z
UID:14703-1639641600-1639645200@warsawfumc.org
SUMMARY:Men's Bible Study w/Pastor
DESCRIPTION:All men are invited. Bring your Bible and we will look at the scripture and discuss the previous Sunday’s message.
URL:https://warsawfumc.org/event/mens-bible-study-w-pastor-41/
LOCATION:Via Zoom until further notice
END:VEVENT
BEGIN:VEVENT
DTSTART;TZID=America/New_York:20211216T080000
DTEND;TZID=America/New_York:20211216T090000
DTSTAMP:20260422T181441
CREATED:20210917T225111Z
LAST-MODIFIED:20211222T211916Z
UID:14704-1639641600-1639645200@warsawfumc.org
SUMMARY:Men's Bible Study w/Harrold
DESCRIPTION:This Men’s Bible Study is led by Richard Harrold
URL:https://warsawfumc.org/event/mens-bible-study-w-harrold-41/
LOCATION:FUMC Parlor Downtown
END:VEVENT
BEGIN:VEVENT
DTSTART;TZID=America/New_York:20211215T133000
DTEND;TZID=America/New_York:20211215T150000
DTSTAMP:20260422T181441
CREATED:20210916T225147Z
LAST-MODIFIED:20211222T211920Z
UID:14691-1639575000-1639580400@warsawfumc.org
SUMMARY:Small Group w/Jan Wilcox
DESCRIPTION:
URL:https://warsawfumc.org/event/small-group-w-jan-wilcox-41/
LOCATION:Via Zoom at this time
END:VEVENT
BEGIN:VEVENT
DTSTART;TZID=America/New_York:20211214T180000
DTEND;TZID=America/New_York:20211214T190000
DTSTAMP:20260422T181441
CREATED:20210915T223749Z
LAST-MODIFIED:20211222T211923Z
UID:14679-1639504800-1639508400@warsawfumc.org
SUMMARY:Prayer Group
DESCRIPTION:
URL:https://warsawfumc.org/event/prayer-group-38/
LOCATION:First United Methodist Church\, 179 S Indiana St\, Warsaw\, IN 46580\, USA\, 101 S Indiana St\, United States
END:VEVENT
BEGIN:VEVENT
DTSTART;TZID=America/New_York:20211213T130000
DTEND;TZID=America/New_York:20211213T140000
DTSTAMP:20260422T181441
CREATED:20210914T233451Z
LAST-MODIFIED:20211222T215434Z
UID:14677-1639400400-1639404000@warsawfumc.org
SUMMARY:Ministry Team
DESCRIPTION:
URL:https://warsawfumc.org/event/ministry-team-10/
LOCATION:Connection Cafe
END:VEVENT
BEGIN:VEVENT
DTSTART;TZID=America/New_York:20211202T080000
DTEND;TZID=America/New_York:20211202T090000
DTSTAMP:20260422T181441
CREATED:20210903T214202Z
LAST-MODIFIED:20211222T211257Z
UID:14575-1638432000-1638435600@warsawfumc.org
SUMMARY:Men's Bible Study w/Pastor
DESCRIPTION:All men are invited. Bring your Bible and we will look at the scripture and discuss the previous Sunday’s message.
URL:https://warsawfumc.org/event/mens-bible-study-w-pastor-39/
LOCATION:Via Zoom until further notice
END:VEVENT
BEGIN:VEVENT
DTSTART;TZID=America/New_York:20211201T133000
DTEND;TZID=America/New_York:20211201T150000
DTSTAMP:20260422T181441
CREATED:20210902T213652Z
LAST-MODIFIED:20211222T211253Z
UID:14566-1638365400-1638370800@warsawfumc.org
SUMMARY:Small Group w/Jan Wilcox
DESCRIPTION:
URL:https://warsawfumc.org/event/small-group-w-jan-wilcox-39/
LOCATION:Via Zoom at this time
END:VEVENT
BEGIN:VEVENT
DTSTART;TZID=America/New_York:20211130T180000
DTEND;TZID=America/New_York:20211130T190000
DTSTAMP:20260422T181441
CREATED:20210901T213611Z
LAST-MODIFIED:20211222T211302Z
UID:14558-1638295200-1638298800@warsawfumc.org
SUMMARY:Prayer Group
DESCRIPTION:
URL:https://warsawfumc.org/event/prayer-group-36/
LOCATION:First United Methodist Church\, 179 S Indiana St\, Warsaw\, IN 46580\, USA\, 101 S Indiana St\, United States
END:VEVENT
BEGIN:VEVENT
DTSTART;TZID=America/New_York:20211129T190000
DTEND;TZID=America/New_York:20211129T200000
DTSTAMP:20260422T181441
CREATED:20210901T220754Z
LAST-MODIFIED:20211222T211320Z
UID:14561-1638212400-1638216000@warsawfumc.org
SUMMARY:Scouting Troop 0730-B
DESCRIPTION:
URL:https://warsawfumc.org/event/scouting-troop-0730-b-36/
LOCATION:First United Methodist Church\, 1692 W Lake St\, Warsaw\, IN 46580\, USA
END:VEVENT
BEGIN:VEVENT
DTSTART;TZID=America/New_York:20211129T183000
DTEND;TZID=America/New_York:20211129T193000
DTSTAMP:20260422T181441
CREATED:20210831T212212Z
LAST-MODIFIED:20211222T211315Z
UID:14541-1638210600-1638214200@warsawfumc.org
SUMMARY:Cub Pack 3731
DESCRIPTION:
URL:https://warsawfumc.org/event/cub-pack-3731-36/
LOCATION:First United Methodist Church\, 179 S Indiana St\, Warsaw\, IN 46580\, USA\, 101 S Indiana St\, United States
END:VEVENT
BEGIN:VEVENT
DTSTART;TZID=America/New_York:20211128T110000
DTEND;TZID=America/New_York:20211128T120000
DTSTAMP:20260422T181441
CREATED:20210830T214940Z
LAST-MODIFIED:20211222T211324Z
UID:14537-1638097200-1638100800@warsawfumc.org
SUMMARY:Contemporary Worship Service @ The Connection
DESCRIPTION:Contemporary worship in a casual setting with Praise Band
URL:https://warsawfumc.org/event/contemporary-worship-service-the-connection-37/
LOCATION:First United Methodist Church\, 1692 W Lake St\, Warsaw\, IN 46580\, USA
END:VEVENT
BEGIN:VEVENT
DTSTART;TZID=America/New_York:20211125T190000
DTEND;TZID=America/New_York:20211125T200000
DTSTAMP:20260422T181441
CREATED:20210828T210530Z
LAST-MODIFIED:20211222T211351Z
UID:14515-1637866800-1637870400@warsawfumc.org
SUMMARY:Bible Study
DESCRIPTION:
URL:https://warsawfumc.org/event/bible-study-38/
LOCATION:Via Zoom until further notice
END:VEVENT
BEGIN:VEVENT
DTSTART;TZID=America/New_York:20211125T173000
DTEND;TZID=America/New_York:20211125T183000
DTSTAMP:20260422T181441
CREATED:20210827T212012Z
LAST-MODIFIED:20211222T211400Z
UID:14509-1637861400-1637865000@warsawfumc.org
SUMMARY:Girl Scout Troop 00158
DESCRIPTION:
URL:https://warsawfumc.org/event/girl-scout-troop-00158-35/
LOCATION:First United Methodist Church\, 1692 W Lake St\, Warsaw\, IN 46580\, USA
END:VEVENT
BEGIN:VEVENT
DTSTART;TZID=America/New_York:20211125T080000
DTEND;TZID=America/New_York:20211125T090000
DTSTAMP:20260422T181441
CREATED:20210827T210625Z
LAST-MODIFIED:20211222T211406Z
UID:14505-1637827200-1637830800@warsawfumc.org
SUMMARY:Men's Bible Study w/Harrold
DESCRIPTION:This Men’s Bible Study is led by Richard Harrold
URL:https://warsawfumc.org/event/mens-bible-study-w-harrold-38/
LOCATION:FUMC Parlor Downtown
END:VEVENT
BEGIN:VEVENT
DTSTART;TZID=America/New_York:20211125T080000
DTEND;TZID=America/New_York:20211125T090000
DTSTAMP:20260422T181441
CREATED:20210827T210625Z
LAST-MODIFIED:20211222T211412Z
UID:14506-1637827200-1637830800@warsawfumc.org
SUMMARY:Men's Bible Study w/Pastor
DESCRIPTION:All men are invited. Bring your Bible and we will look at the scripture and discuss the previous Sunday’s message.
URL:https://warsawfumc.org/event/mens-bible-study-w-pastor-38/
LOCATION:Via Zoom until further notice
END:VEVENT
BEGIN:VEVENT
DTSTART;TZID=America/New_York:20211124T133000
DTEND;TZID=America/New_York:20211124T150000
DTSTAMP:20260422T181441
CREATED:20210826T210552Z
LAST-MODIFIED:20211222T211416Z
UID:14499-1637760600-1637766000@warsawfumc.org
SUMMARY:Small Group w/Jan Wilcox
DESCRIPTION:
URL:https://warsawfumc.org/event/small-group-w-jan-wilcox-38/
LOCATION:Via Zoom at this time
END:VEVENT
BEGIN:VEVENT
DTSTART;TZID=America/New_York:20211123T190000
DTEND;TZID=America/New_York:20211123T203000
DTSTAMP:20260422T181441
CREATED:20210826T210552Z
LAST-MODIFIED:20211222T211421Z
UID:14498-1637694000-1637699400@warsawfumc.org
SUMMARY:Servant Council
DESCRIPTION:
URL:https://warsawfumc.org/event/servant-council-9/
LOCATION:Board Room\, 925 North Garfield Street\, Arlington\, VA\, 22201\, United States
END:VEVENT
BEGIN:VEVENT
DTSTART;TZID=America/New_York:20211123T180000
DTEND;TZID=America/New_York:20211123T190000
DTSTAMP:20260422T181441
CREATED:20210825T205341Z
LAST-MODIFIED:20211222T211426Z
UID:14488-1637690400-1637694000@warsawfumc.org
SUMMARY:Prayer Group
DESCRIPTION:
URL:https://warsawfumc.org/event/prayer-group-35/
LOCATION:First United Methodist Church\, 179 S Indiana St\, Warsaw\, IN 46580\, USA\, 101 S Indiana St\, United States
END:VEVENT
BEGIN:VEVENT
DTSTART;TZID=America/New_York:20211122T190000
DTEND;TZID=America/New_York:20211122T200000
DTSTAMP:20260422T181441
CREATED:20210825T211949Z
LAST-MODIFIED:20211222T211437Z
UID:14492-1637607600-1637611200@warsawfumc.org
SUMMARY:Scouting Troop 0730-B
DESCRIPTION:
URL:https://warsawfumc.org/event/scouting-troop-0730-b-35/
LOCATION:First United Methodist Church\, 1692 W Lake St\, Warsaw\, IN 46580\, USA
END:VEVENT
END:VCALENDAR