BEGIN:VCALENDAR
VERSION:2.0
PRODID:-//Warsaw FUMC - ECPv6.15.20//NONSGML v1.0//EN
CALSCALE:GREGORIAN
METHOD:PUBLISH
X-WR-CALNAME:Warsaw FUMC
X-ORIGINAL-URL:https://warsawfumc.org
X-WR-CALDESC:Events for Warsaw FUMC
REFRESH-INTERVAL;VALUE=DURATION:PT1H
X-Robots-Tag:noindex
X-PUBLISHED-TTL:PT1H
BEGIN:VTIMEZONE
TZID:America/New_York
BEGIN:DAYLIGHT
TZOFFSETFROM:-0500
TZOFFSETTO:-0400
TZNAME:EDT
DTSTART:20200308T070000
END:DAYLIGHT
BEGIN:STANDARD
TZOFFSETFROM:-0400
TZOFFSETTO:-0500
TZNAME:EST
DTSTART:20201101T060000
END:STANDARD
BEGIN:DAYLIGHT
TZOFFSETFROM:-0500
TZOFFSETTO:-0400
TZNAME:EDT
DTSTART:20210314T070000
END:DAYLIGHT
BEGIN:STANDARD
TZOFFSETFROM:-0400
TZOFFSETTO:-0500
TZNAME:EST
DTSTART:20211107T060000
END:STANDARD
BEGIN:DAYLIGHT
TZOFFSETFROM:-0500
TZOFFSETTO:-0400
TZNAME:EDT
DTSTART:20220313T070000
END:DAYLIGHT
BEGIN:STANDARD
TZOFFSETFROM:-0400
TZOFFSETTO:-0500
TZNAME:EST
DTSTART:20221106T060000
END:STANDARD
END:VTIMEZONE
BEGIN:VEVENT
DTSTART;TZID=America/New_York:20210624T190000
DTEND;TZID=America/New_York:20210624T200000
DTSTAMP:20260423T065542
CREATED:20210326T193953Z
LAST-MODIFIED:20211222T214842Z
UID:12992-1624561200-1624564800@warsawfumc.org
SUMMARY:Bible Study
DESCRIPTION:
URL:https://warsawfumc.org/event/bible-study-16/
LOCATION:Via Zoom until further notice
END:VEVENT
BEGIN:VEVENT
DTSTART;TZID=America/New_York:20210622T180000
DTEND;TZID=America/New_York:20210622T190000
DTSTAMP:20260423T065542
CREATED:20210324T193142Z
LAST-MODIFIED:20211222T215623Z
UID:12919-1624384800-1624388400@warsawfumc.org
SUMMARY:Prayer Group
DESCRIPTION:
URL:https://warsawfumc.org/event/prayer-group-13/
LOCATION:First United Methodist Church\, 179 S Indiana St\, Warsaw\, IN 46580\, USA\, 101 S Indiana St\, United States
END:VEVENT
BEGIN:VEVENT
DTSTART;TZID=America/New_York:20210618T183000
DTEND;TZID=America/New_York:20210618T203000
DTSTAMP:20260423T065542
CREATED:20210323T152154Z
LAST-MODIFIED:20210618T232327Z
UID:12804-1624041000-1624048200@warsawfumc.org
SUMMARY:Round Dance
DESCRIPTION:
URL:https://warsawfumc.org/event/round-dance-3/
LOCATION:First United Methodist Church\, 1692 W Lake St\, Warsaw\, IN 46580\, USA
END:VEVENT
BEGIN:VEVENT
DTSTART;TZID=America/New_York:20210617T190000
DTEND;TZID=America/New_York:20210617T200000
DTSTAMP:20260423T065542
CREATED:20210319T183552Z
LAST-MODIFIED:20211222T214838Z
UID:12775-1623956400-1623960000@warsawfumc.org
SUMMARY:Bible Study
DESCRIPTION:
URL:https://warsawfumc.org/event/bible-study-15/
LOCATION:Via Zoom until further notice
END:VEVENT
BEGIN:VEVENT
DTSTART;TZID=America/New_York:20210615T180000
DTEND;TZID=America/New_York:20210615T190000
DTSTAMP:20260423T065542
CREATED:20210323T191955Z
LAST-MODIFIED:20211222T215619Z
UID:12841-1623780000-1623783600@warsawfumc.org
SUMMARY:Prayer Group
DESCRIPTION:
URL:https://warsawfumc.org/event/prayer-group-12/
LOCATION:First United Methodist Church\, 179 S Indiana St\, Warsaw\, IN 46580\, USA\, 101 S Indiana St\, United States
END:VEVENT
BEGIN:VEVENT
DTSTART;TZID=America/New_York:20210610T190000
DTEND;TZID=America/New_York:20210610T200000
DTSTAMP:20260423T065542
CREATED:20210312T180446Z
LAST-MODIFIED:20211222T214834Z
UID:12697-1623351600-1623355200@warsawfumc.org
SUMMARY:Bible Study
DESCRIPTION:
URL:https://warsawfumc.org/event/bible-study-14/
LOCATION:Via Zoom until further notice
END:VEVENT
BEGIN:VEVENT
DTSTART;TZID=America/New_York:20210608T180000
DTEND;TZID=America/New_York:20210608T190000
DTSTAMP:20260423T065542
CREATED:20210323T191955Z
LAST-MODIFIED:20211222T215615Z
UID:12839-1623175200-1623178800@warsawfumc.org
SUMMARY:Prayer Group
DESCRIPTION:
URL:https://warsawfumc.org/event/prayer-group-11/
LOCATION:First United Methodist Church\, 179 S Indiana St\, Warsaw\, IN 46580\, USA\, 101 S Indiana St\, United States
END:VEVENT
BEGIN:VEVENT
DTSTART;TZID=America/New_York:20210606T110000
DTEND;TZID=America/New_York:20210606T120000
DTSTAMP:20260423T065542
CREATED:20210308T171934Z
LAST-MODIFIED:20210605T230655Z
UID:12206-1622977200-1622980800@warsawfumc.org
SUMMARY:Contemporary Worship Service @ The Connection
DESCRIPTION:Contemporary worship in a casual setting with Praise Band
URL:https://warsawfumc.org/event/contemporary-worship-service-the-connection-13/
LOCATION:First United Methodist Church\, 1692 W Lake St\, Warsaw\, IN 46580\, USA
END:VEVENT
BEGIN:VEVENT
DTSTART;TZID=America/New_York:20210603T190000
DTEND;TZID=America/New_York:20210603T200000
DTSTAMP:20260423T065542
CREATED:20210308T171504Z
LAST-MODIFIED:20210603T233617Z
UID:12072-1622746800-1622750400@warsawfumc.org
SUMMARY:Bible Study
DESCRIPTION:
URL:https://warsawfumc.org/event/bible-study-13/
LOCATION:Via Zoom until further notice
END:VEVENT
BEGIN:VEVENT
DTSTART;TZID=America/New_York:20210603T080000
DTEND;TZID=America/New_York:20210603T090000
DTSTAMP:20260423T065542
CREATED:20210308T171504Z
LAST-MODIFIED:20210602T232327Z
UID:12070-1622707200-1622710800@warsawfumc.org
SUMMARY:Men's Bible Study w/Pastor
DESCRIPTION:All men are invited. Bring your Bible and we will look at the scripture and discuss the previous Sunday’s message.
URL:https://warsawfumc.org/event/mens-bible-study-w-pastor-13/
LOCATION:Via Zoom until further notice
END:VEVENT
BEGIN:VEVENT
DTSTART;TZID=America/New_York:20210603T080000
DTEND;TZID=America/New_York:20210603T090000
DTSTAMP:20260423T065542
CREATED:20210308T171504Z
LAST-MODIFIED:20210602T232327Z
UID:12071-1622707200-1622710800@warsawfumc.org
SUMMARY:Men's Bible Study w/Harrold
DESCRIPTION:This Men’s Bible Study is led by Richard Harrold
URL:https://warsawfumc.org/event/mens-bible-study-w-harrold-13/
LOCATION:FUMC Parlor Downtown
END:VEVENT
BEGIN:VEVENT
DTSTART;TZID=America/New_York:20210602T133000
DTEND;TZID=America/New_York:20210602T150000
DTSTAMP:20260423T065542
CREATED:20210308T171504Z
LAST-MODIFIED:20210601T232146Z
UID:12069-1622640600-1622646000@warsawfumc.org
SUMMARY:Small Group w/Jan Wilcox
DESCRIPTION:
URL:https://warsawfumc.org/event/small-group-w-jan-wilcox-13/
LOCATION:Via Zoom at this time
END:VEVENT
BEGIN:VEVENT
DTSTART;TZID=America/New_York:20210601T180000
DTEND;TZID=America/New_York:20210601T190000
DTSTAMP:20260423T065542
CREATED:20210323T191955Z
LAST-MODIFIED:20211222T215610Z
UID:12836-1622570400-1622574000@warsawfumc.org
SUMMARY:Prayer Group
DESCRIPTION:
URL:https://warsawfumc.org/event/prayer-group-10/
LOCATION:First United Methodist Church\, 179 S Indiana St\, Warsaw\, IN 46580\, USA\, 101 S Indiana St\, United States
END:VEVENT
BEGIN:VEVENT
DTSTART;TZID=America/New_York:20210530T110000
DTEND;TZID=America/New_York:20210530T120000
DTSTAMP:20260423T065542
CREATED:20210308T171934Z
LAST-MODIFIED:20210510T205146Z
UID:12205-1622372400-1622376000@warsawfumc.org
SUMMARY:Contemporary Worship Service @ The Connection
DESCRIPTION:Contemporary worship in a casual setting with Praise Band
URL:https://warsawfumc.org/event/contemporary-worship-service-the-connection-12/
LOCATION:First United Methodist Church\, 1692 W Lake St\, Warsaw\, IN 46580\, USA
END:VEVENT
BEGIN:VEVENT
DTSTART;TZID=America/New_York:20210527T190000
DTEND;TZID=America/New_York:20210527T200000
DTSTAMP:20260423T065542
CREATED:20210308T171504Z
LAST-MODIFIED:20210527T225002Z
UID:12068-1622142000-1622145600@warsawfumc.org
SUMMARY:Bible Study
DESCRIPTION:
URL:https://warsawfumc.org/event/bible-study-12/
LOCATION:Via Zoom until further notice
END:VEVENT
BEGIN:VEVENT
DTSTART;TZID=America/New_York:20210527T080000
DTEND;TZID=America/New_York:20210527T090000
DTSTAMP:20260423T065542
CREATED:20210308T171504Z
LAST-MODIFIED:20210526T225227Z
UID:12066-1622102400-1622106000@warsawfumc.org
SUMMARY:Men's Bible Study w/Harrold
DESCRIPTION:This Men’s Bible Study is led by Richard Harrold
URL:https://warsawfumc.org/event/mens-bible-study-w-harrold-12/
LOCATION:FUMC Parlor Downtown
END:VEVENT
BEGIN:VEVENT
DTSTART;TZID=America/New_York:20210527T080000
DTEND;TZID=America/New_York:20210527T090000
DTSTAMP:20260423T065542
CREATED:20210308T171504Z
LAST-MODIFIED:20210526T225227Z
UID:12067-1622102400-1622106000@warsawfumc.org
SUMMARY:Men's Bible Study w/Pastor
DESCRIPTION:All men are invited. Bring your Bible and we will look at the scripture and discuss the previous Sunday’s message.
URL:https://warsawfumc.org/event/mens-bible-study-w-pastor-12/
LOCATION:Via Zoom until further notice
END:VEVENT
BEGIN:VEVENT
DTSTART;TZID=America/New_York:20210526T133000
DTEND;TZID=America/New_York:20210526T150000
DTSTAMP:20260423T065542
CREATED:20210308T171504Z
LAST-MODIFIED:20210525T225034Z
UID:12065-1622035800-1622041200@warsawfumc.org
SUMMARY:Small Group w/Jan Wilcox
DESCRIPTION:
URL:https://warsawfumc.org/event/small-group-w-jan-wilcox-12/
LOCATION:Via Zoom at this time
END:VEVENT
BEGIN:VEVENT
DTSTART;TZID=America/New_York:20210525T190000
DTEND;TZID=America/New_York:20210525T203000
DTSTAMP:20260423T065542
CREATED:20210308T171504Z
LAST-MODIFIED:20210525T225034Z
UID:12064-1621969200-1621974600@warsawfumc.org
SUMMARY:Servant Council
DESCRIPTION:
URL:https://warsawfumc.org/event/servant-council-3/
LOCATION:Board Room\, 925 North Garfield Street\, Arlington\, VA\, 22201\, United States
END:VEVENT
BEGIN:VEVENT
DTSTART;TZID=America/New_York:20210525T180000
DTEND;TZID=America/New_York:20210525T190000
DTSTAMP:20260423T065542
CREATED:20210323T191954Z
LAST-MODIFIED:20211222T215606Z
UID:12834-1621965600-1621969200@warsawfumc.org
SUMMARY:Prayer Group
DESCRIPTION:
URL:https://warsawfumc.org/event/prayer-group-9/
LOCATION:First United Methodist Church\, 179 S Indiana St\, Warsaw\, IN 46580\, USA\, 101 S Indiana St\, United States
END:VEVENT
BEGIN:VEVENT
DTSTART;TZID=America/New_York:20210524T093000
DTEND;TZID=America/New_York:20210524T110000
DTSTAMP:20260423T065542
CREATED:20210308T171504Z
LAST-MODIFIED:20210428T200750Z
UID:12063-1621848600-1621854000@warsawfumc.org
SUMMARY:Small Group w/Kathee R.
DESCRIPTION:Small group led by Kathee Reed
URL:https://warsawfumc.org/event/small-group-w-kathee-r-5/
LOCATION:FUMC Parlor Downtown
END:VEVENT
BEGIN:VEVENT
DTSTART;TZID=America/New_York:20210523T110000
DTEND;TZID=America/New_York:20210523T120000
DTSTAMP:20260423T065542
CREATED:20210308T171934Z
LAST-MODIFIED:20210522T212115Z
UID:12204-1621767600-1621771200@warsawfumc.org
SUMMARY:Contemporary Worship Service @ The Connection
DESCRIPTION:Contemporary worship in a casual setting with Praise Band
URL:https://warsawfumc.org/event/contemporary-worship-service-the-connection-11/
LOCATION:First United Methodist Church\, 1692 W Lake St\, Warsaw\, IN 46580\, USA
END:VEVENT
BEGIN:VEVENT
DTSTART;TZID=America/New_York:20210523T090000
DTEND;TZID=America/New_York:20210523T100000
DTSTAMP:20260423T065542
CREATED:20210308T171504Z
LAST-MODIFIED:20210522T223814Z
UID:12062-1621760400-1621764000@warsawfumc.org
SUMMARY:Traditional Worship Service
DESCRIPTION:Begins in-person worship on March 14\nContinues virtual worship on WIOE Oldies FM and via our website www.warsawfumc.org
URL:https://warsawfumc.org/event/traditional-worship-service-11/
LOCATION:First United Methodist Church\, 179 S Indiana St\, Warsaw\, IN 46580\, USA\, 101 S Indiana St\, United States
END:VEVENT
BEGIN:VEVENT
DTSTART;TZID=America/New_York:20210521T183000
DTEND;TZID=America/New_York:20210521T203000
DTSTAMP:20260423T065542
CREATED:20210323T152153Z
LAST-MODIFIED:20210520T210742Z
UID:12803-1621621800-1621629000@warsawfumc.org
SUMMARY:Round Dance
DESCRIPTION:
URL:https://warsawfumc.org/event/round-dance-2/
LOCATION:First United Methodist Church\, 1692 W Lake St\, Warsaw\, IN 46580\, USA
END:VEVENT
BEGIN:VEVENT
DTSTART;TZID=America/New_York:20210520T190000
DTEND;TZID=America/New_York:20210520T200000
DTSTAMP:20260423T065542
CREATED:20210308T171504Z
LAST-MODIFIED:20210519T220615Z
UID:12061-1621537200-1621540800@warsawfumc.org
SUMMARY:Bible Study
DESCRIPTION:
URL:https://warsawfumc.org/event/bible-study-11/
LOCATION:Via Zoom until further notice
END:VEVENT
BEGIN:VEVENT
DTSTART;TZID=America/New_York:20210520T080000
DTEND;TZID=America/New_York:20210520T090000
DTSTAMP:20260423T065542
CREATED:20210308T171504Z
LAST-MODIFIED:20210519T220615Z
UID:12059-1621497600-1621501200@warsawfumc.org
SUMMARY:Men's Bible Study w/Pastor
DESCRIPTION:All men are invited. Bring your Bible and we will look at the scripture and discuss the previous Sunday’s message.
URL:https://warsawfumc.org/event/mens-bible-study-w-pastor-11/
LOCATION:Via Zoom until further notice
END:VEVENT
BEGIN:VEVENT
DTSTART;TZID=America/New_York:20210520T080000
DTEND;TZID=America/New_York:20210520T090000
DTSTAMP:20260423T065542
CREATED:20210308T171504Z
LAST-MODIFIED:20210519T220615Z
UID:12060-1621497600-1621501200@warsawfumc.org
SUMMARY:Men's Bible Study w/Harrold
DESCRIPTION:This Men’s Bible Study is led by Richard Harrold
URL:https://warsawfumc.org/event/mens-bible-study-w-harrold-11/
LOCATION:FUMC Parlor Downtown
END:VEVENT
BEGIN:VEVENT
DTSTART;TZID=America/New_York:20210519T133000
DTEND;TZID=America/New_York:20210519T150000
DTSTAMP:20260423T065542
CREATED:20210308T171504Z
LAST-MODIFIED:20210518T220609Z
UID:12058-1621431000-1621436400@warsawfumc.org
SUMMARY:Small Group w/Jan Wilcox
DESCRIPTION:
URL:https://warsawfumc.org/event/small-group-w-jan-wilcox-11/
LOCATION:Via Zoom at this time
END:VEVENT
BEGIN:VEVENT
DTSTART;TZID=America/New_York:20210518T180000
DTEND;TZID=America/New_York:20210518T190000
DTSTAMP:20260423T065542
CREATED:20210323T191954Z
LAST-MODIFIED:20211222T215602Z
UID:12831-1621360800-1621364400@warsawfumc.org
SUMMARY:Prayer Group
DESCRIPTION:
URL:https://warsawfumc.org/event/prayer-group-8/
LOCATION:First United Methodist Church\, 179 S Indiana St\, Warsaw\, IN 46580\, USA\, 101 S Indiana St\, United States
END:VEVENT
BEGIN:VEVENT
DTSTART;TZID=America/New_York:20210516T110000
DTEND;TZID=America/New_York:20210516T120000
DTSTAMP:20260423T065542
CREATED:20210308T171934Z
LAST-MODIFIED:20210515T205100Z
UID:12203-1621162800-1621166400@warsawfumc.org
SUMMARY:Contemporary Worship Service @ The Connection
DESCRIPTION:Contemporary worship in a casual setting with Praise Band
URL:https://warsawfumc.org/event/contemporary-worship-service-the-connection-10/
LOCATION:First United Methodist Church\, 1692 W Lake St\, Warsaw\, IN 46580\, USA
END:VEVENT
END:VCALENDAR