BEGIN:VCALENDAR
VERSION:2.0
PRODID:-//Warsaw FUMC - ECPv6.15.20//NONSGML v1.0//EN
CALSCALE:GREGORIAN
METHOD:PUBLISH
X-WR-CALNAME:Warsaw FUMC
X-ORIGINAL-URL:https://warsawfumc.org
X-WR-CALDESC:Events for Warsaw FUMC
REFRESH-INTERVAL;VALUE=DURATION:PT1H
X-Robots-Tag:noindex
X-PUBLISHED-TTL:PT1H
BEGIN:VTIMEZONE
TZID:America/New_York
BEGIN:DAYLIGHT
TZOFFSETFROM:-0500
TZOFFSETTO:-0400
TZNAME:EDT
DTSTART:20200308T070000
END:DAYLIGHT
BEGIN:STANDARD
TZOFFSETFROM:-0400
TZOFFSETTO:-0500
TZNAME:EST
DTSTART:20201101T060000
END:STANDARD
BEGIN:DAYLIGHT
TZOFFSETFROM:-0500
TZOFFSETTO:-0400
TZNAME:EDT
DTSTART:20210314T070000
END:DAYLIGHT
BEGIN:STANDARD
TZOFFSETFROM:-0400
TZOFFSETTO:-0500
TZNAME:EST
DTSTART:20211107T060000
END:STANDARD
BEGIN:DAYLIGHT
TZOFFSETFROM:-0500
TZOFFSETTO:-0400
TZNAME:EDT
DTSTART:20220313T070000
END:DAYLIGHT
BEGIN:STANDARD
TZOFFSETFROM:-0400
TZOFFSETTO:-0500
TZNAME:EST
DTSTART:20221106T060000
END:STANDARD
END:VTIMEZONE
BEGIN:VEVENT
DTSTART;TZID=America/New_York:20211102T180000
DTEND;TZID=America/New_York:20211102T190000
DTSTAMP:20260423T064326
CREATED:20210804T182150Z
LAST-MODIFIED:20211222T211513Z
UID:14295-1635876000-1635879600@warsawfumc.org
SUMMARY:Prayer Group
DESCRIPTION:
URL:https://warsawfumc.org/event/prayer-group-32/
LOCATION:First United Methodist Church\, 179 S Indiana St\, Warsaw\, IN 46580\, USA\, 101 S Indiana St\, United States
END:VEVENT
BEGIN:VEVENT
DTSTART;TZID=America/New_York:20211101T190000
DTEND;TZID=America/New_York:20211101T200000
DTSTAMP:20260423T064326
CREATED:20210803T185143Z
LAST-MODIFIED:20211222T211520Z
UID:14293-1635793200-1635796800@warsawfumc.org
SUMMARY:Scouting Troop 0730-B
DESCRIPTION:
URL:https://warsawfumc.org/event/scouting-troop-0730-b-32/
LOCATION:First United Methodist Church\, 1692 W Lake St\, Warsaw\, IN 46580\, USA
END:VEVENT
BEGIN:VEVENT
DTSTART;TZID=America/New_York:20211101T183000
DTEND;TZID=America/New_York:20211101T193000
DTSTAMP:20260423T064326
CREATED:20210803T182052Z
LAST-MODIFIED:20211222T211516Z
UID:14287-1635791400-1635795000@warsawfumc.org
SUMMARY:Cub Pack 3731
DESCRIPTION:
URL:https://warsawfumc.org/event/cub-pack-3731-32/
LOCATION:First United Methodist Church\, 179 S Indiana St\, Warsaw\, IN 46580\, USA\, 101 S Indiana St\, United States
END:VEVENT
BEGIN:VEVENT
DTSTART;TZID=America/New_York:20211031T110000
DTEND;TZID=America/New_York:20211031T120000
DTSTAMP:20260423T064326
CREATED:20210802T185021Z
LAST-MODIFIED:20211222T211526Z
UID:14285-1635678000-1635681600@warsawfumc.org
SUMMARY:Contemporary Worship Service @ The Connection
DESCRIPTION:Contemporary worship in a casual setting with Praise Band
URL:https://warsawfumc.org/event/contemporary-worship-service-the-connection-33/
LOCATION:First United Methodist Church\, 1692 W Lake St\, Warsaw\, IN 46580\, USA
END:VEVENT
BEGIN:VEVENT
DTSTART;TZID=America/New_York:20211028T190000
DTEND;TZID=America/New_York:20211028T200000
DTSTAMP:20260423T064326
CREATED:20210730T173554Z
LAST-MODIFIED:20211222T211532Z
UID:14248-1635447600-1635451200@warsawfumc.org
SUMMARY:Bible Study
DESCRIPTION:
URL:https://warsawfumc.org/event/bible-study-34/
LOCATION:Via Zoom until further notice
END:VEVENT
BEGIN:VEVENT
DTSTART;TZID=America/New_York:20211028T173000
DTEND;TZID=America/New_York:20211028T183000
DTSTAMP:20260423T064326
CREATED:20210730T182058Z
LAST-MODIFIED:20211222T211537Z
UID:14251-1635442200-1635445800@warsawfumc.org
SUMMARY:Girl Scout Troop 00158
DESCRIPTION:
URL:https://warsawfumc.org/event/girl-scout-troop-00158-31/
LOCATION:First United Methodist Church\, 1692 W Lake St\, Warsaw\, IN 46580\, USA
END:VEVENT
BEGIN:VEVENT
DTSTART;TZID=America/New_York:20211028T080000
DTEND;TZID=America/New_York:20211028T090000
DTSTAMP:20260423T064326
CREATED:20210730T173554Z
LAST-MODIFIED:20211222T211541Z
UID:14246-1635408000-1635411600@warsawfumc.org
SUMMARY:Men's Bible Study w/Harrold
DESCRIPTION:This Men’s Bible Study is led by Richard Harrold
URL:https://warsawfumc.org/event/mens-bible-study-w-harrold-34/
LOCATION:FUMC Parlor Downtown
END:VEVENT
BEGIN:VEVENT
DTSTART;TZID=America/New_York:20211028T080000
DTEND;TZID=America/New_York:20211028T090000
DTSTAMP:20260423T064326
CREATED:20210730T173554Z
LAST-MODIFIED:20211222T211545Z
UID:14247-1635408000-1635411600@warsawfumc.org
SUMMARY:Men's Bible Study w/Pastor
DESCRIPTION:All men are invited. Bring your Bible and we will look at the scripture and discuss the previous Sunday’s message.
URL:https://warsawfumc.org/event/mens-bible-study-w-pastor-34/
LOCATION:Via Zoom until further notice
END:VEVENT
BEGIN:VEVENT
DTSTART;TZID=America/New_York:20211027T133000
DTEND;TZID=America/New_York:20211027T150000
DTSTAMP:20260423T064326
CREATED:20210729T172307Z
LAST-MODIFIED:20211222T211549Z
UID:14239-1635341400-1635346800@warsawfumc.org
SUMMARY:Small Group w/Jan Wilcox
DESCRIPTION:
URL:https://warsawfumc.org/event/small-group-w-jan-wilcox-34/
LOCATION:Via Zoom at this time
END:VEVENT
BEGIN:VEVENT
DTSTART;TZID=America/New_York:20211026T190000
DTEND;TZID=America/New_York:20211026T203000
DTSTAMP:20260423T064326
CREATED:20210728T172020Z
LAST-MODIFIED:20211222T211552Z
UID:14230-1635274800-1635280200@warsawfumc.org
SUMMARY:Servant Council
DESCRIPTION:
URL:https://warsawfumc.org/event/servant-council-8/
LOCATION:Board Room\, 925 North Garfield Street\, Arlington\, VA\, 22201\, United States
END:VEVENT
BEGIN:VEVENT
DTSTART;TZID=America/New_York:20211026T180000
DTEND;TZID=America/New_York:20211026T190000
DTSTAMP:20260423T064326
CREATED:20210728T172020Z
LAST-MODIFIED:20211222T211558Z
UID:14229-1635271200-1635274800@warsawfumc.org
SUMMARY:Prayer Group
DESCRIPTION:
URL:https://warsawfumc.org/event/prayer-group-31/
LOCATION:First United Methodist Church\, 179 S Indiana St\, Warsaw\, IN 46580\, USA\, 101 S Indiana St\, United States
END:VEVENT
BEGIN:VEVENT
DTSTART;TZID=America/New_York:20211025T190000
DTEND;TZID=America/New_York:20211025T200000
DTSTAMP:20260423T064326
CREATED:20210727T180519Z
LAST-MODIFIED:20211222T211605Z
UID:14224-1635188400-1635192000@warsawfumc.org
SUMMARY:Scouting Troop 0730-B
DESCRIPTION:
URL:https://warsawfumc.org/event/scouting-troop-0730-b-31/
LOCATION:First United Methodist Church\, 1692 W Lake St\, Warsaw\, IN 46580\, USA
END:VEVENT
BEGIN:VEVENT
DTSTART;TZID=America/New_York:20211025T183000
DTEND;TZID=America/New_York:20211025T193000
DTSTAMP:20260423T064326
CREATED:20210727T172053Z
LAST-MODIFIED:20211222T211602Z
UID:14221-1635186600-1635190200@warsawfumc.org
SUMMARY:Cub Pack 3731
DESCRIPTION:
URL:https://warsawfumc.org/event/cub-pack-3731-31/
LOCATION:First United Methodist Church\, 179 S Indiana St\, Warsaw\, IN 46580\, USA\, 101 S Indiana St\, United States
END:VEVENT
BEGIN:VEVENT
DTSTART;TZID=America/New_York:20211025T093000
DTEND;TZID=America/New_York:20211025T110000
DTSTAMP:20260423T064326
CREATED:20210727T172052Z
LAST-MODIFIED:20211222T211610Z
UID:14220-1635154200-1635159600@warsawfumc.org
SUMMARY:Small Group w/Kathee R.
DESCRIPTION:Small group led by Kathee Reed
URL:https://warsawfumc.org/event/small-group-w-kathee-r-15/
LOCATION:FUMC Parlor Downtown
END:VEVENT
BEGIN:VEVENT
DTSTART;TZID=America/New_York:20211024T110000
DTEND;TZID=America/New_York:20211024T120000
DTSTAMP:20260423T064326
CREATED:20210726T180604Z
LAST-MODIFIED:20211222T211613Z
UID:14217-1635073200-1635076800@warsawfumc.org
SUMMARY:Contemporary Worship Service @ The Connection
DESCRIPTION:Contemporary worship in a casual setting with Praise Band
URL:https://warsawfumc.org/event/contemporary-worship-service-the-connection-32/
LOCATION:First United Methodist Church\, 1692 W Lake St\, Warsaw\, IN 46580\, USA
END:VEVENT
BEGIN:VEVENT
DTSTART;TZID=America/New_York:20211021T190000
DTEND;TZID=America/New_York:20211021T200000
DTSTAMP:20260423T064326
CREATED:20210723T170622Z
LAST-MODIFIED:20211222T211618Z
UID:14185-1634842800-1634846400@warsawfumc.org
SUMMARY:Bible Study
DESCRIPTION:
URL:https://warsawfumc.org/event/bible-study-33/
LOCATION:Via Zoom until further notice
END:VEVENT
BEGIN:VEVENT
DTSTART;TZID=America/New_York:20211021T173000
DTEND;TZID=America/New_York:20211021T183000
DTSTAMP:20260423T064326
CREATED:20210723T173525Z
LAST-MODIFIED:20211222T211622Z
UID:14187-1634837400-1634841000@warsawfumc.org
SUMMARY:Girl Scout Troop 00158
DESCRIPTION:
URL:https://warsawfumc.org/event/girl-scout-troop-00158-30/
LOCATION:First United Methodist Church\, 1692 W Lake St\, Warsaw\, IN 46580\, USA
END:VEVENT
BEGIN:VEVENT
DTSTART;TZID=America/New_York:20211021T080000
DTEND;TZID=America/New_York:20211021T090000
DTSTAMP:20260423T064326
CREATED:20210723T170622Z
LAST-MODIFIED:20211222T211626Z
UID:14183-1634803200-1634806800@warsawfumc.org
SUMMARY:Men's Bible Study w/Pastor
DESCRIPTION:All men are invited. Bring your Bible and we will look at the scripture and discuss the previous Sunday’s message.
URL:https://warsawfumc.org/event/mens-bible-study-w-pastor-33/
LOCATION:Via Zoom until further notice
END:VEVENT
BEGIN:VEVENT
DTSTART;TZID=America/New_York:20211015T183000
DTEND;TZID=America/New_York:20211015T203000
DTSTAMP:20260423T064326
CREATED:20210717T163728Z
LAST-MODIFIED:20211015T162030Z
UID:14127-1634322600-1634329800@warsawfumc.org
SUMMARY:Round Dance
DESCRIPTION:
URL:https://warsawfumc.org/event/round-dance-7/
LOCATION:First United Methodist Church\, 1692 W Lake St\, Warsaw\, IN 46580\, USA
END:VEVENT
BEGIN:VEVENT
DTSTART;TZID=America/New_York:20211011T130000
DTEND;TZID=America/New_York:20211011T140000
DTSTAMP:20260423T064326
CREATED:20210713T160606Z
LAST-MODIFIED:20211222T215429Z
UID:14084-1633957200-1633960800@warsawfumc.org
SUMMARY:Ministry Team
DESCRIPTION:
URL:https://warsawfumc.org/event/ministry-team-8/
LOCATION:Connection Cafe
END:VEVENT
BEGIN:VEVENT
DTSTART;TZID=America/New_York:20210917T183000
DTEND;TZID=America/New_York:20210917T203000
DTSTAMP:20260423T064326
CREATED:20210619T231952Z
LAST-MODIFIED:20210917T232140Z
UID:13854-1631903400-1631910600@warsawfumc.org
SUMMARY:Round Dance
DESCRIPTION:
URL:https://warsawfumc.org/event/round-dance-6/
LOCATION:First United Methodist Church\, 1692 W Lake St\, Warsaw\, IN 46580\, USA
END:VEVENT
BEGIN:VEVENT
DTSTART;TZID=America/New_York:20210913T130000
DTEND;TZID=America/New_York:20210913T140000
DTSTAMP:20260423T064326
CREATED:20210615T122109Z
LAST-MODIFIED:20211222T215425Z
UID:13798-1631538000-1631541600@warsawfumc.org
SUMMARY:Ministry Team
DESCRIPTION:
URL:https://warsawfumc.org/event/ministry-team-7/
LOCATION:Connection Cafe
END:VEVENT
BEGIN:VEVENT
DTSTART;TZID=America/New_York:20210820T183000
DTEND;TZID=America/New_York:20210820T203000
DTSTAMP:20260423T064326
CREATED:20210522T212115Z
LAST-MODIFIED:20210820T202626Z
UID:13556-1629484200-1629491400@warsawfumc.org
SUMMARY:Round Dance
DESCRIPTION:
URL:https://warsawfumc.org/event/round-dance-5/
LOCATION:First United Methodist Church\, 1692 W Lake St\, Warsaw\, IN 46580\, USA
END:VEVENT
BEGIN:VEVENT
DTSTART;TZID=America/New_York:20210809T130000
DTEND;TZID=America/New_York:20210809T140000
DTSTAMP:20260423T064326
CREATED:20210511T204946Z
LAST-MODIFIED:20211222T215421Z
UID:13434-1628514000-1628517600@warsawfumc.org
SUMMARY:Ministry Team
DESCRIPTION:
URL:https://warsawfumc.org/event/ministry-team-6/
LOCATION:Connection Cafe
END:VEVENT
BEGIN:VEVENT
DTSTART;TZID=America/New_York:20210722T190000
DTEND;TZID=America/New_York:20210722T200000
DTSTAMP:20260423T064326
CREATED:20210423T190506Z
LAST-MODIFIED:20211222T214900Z
UID:13260-1626980400-1626984000@warsawfumc.org
SUMMARY:Bible Study
DESCRIPTION:
URL:https://warsawfumc.org/event/bible-study-20/
LOCATION:Via Zoom until further notice
END:VEVENT
BEGIN:VEVENT
DTSTART;TZID=America/New_York:20210716T183000
DTEND;TZID=America/New_York:20210716T203000
DTSTAMP:20260423T064326
CREATED:20210417T175006Z
LAST-MODIFIED:20210716T162221Z
UID:13179-1626460200-1626467400@warsawfumc.org
SUMMARY:Round Dance
DESCRIPTION:
URL:https://warsawfumc.org/event/round-dance-4/
LOCATION:First United Methodist Church\, 1692 W Lake St\, Warsaw\, IN 46580\, USA
END:VEVENT
BEGIN:VEVENT
DTSTART;TZID=America/New_York:20210715T190000
DTEND;TZID=America/New_York:20210715T200000
DTSTAMP:20260423T064326
CREATED:20210417T180505Z
LAST-MODIFIED:20211222T214856Z
UID:13192-1626375600-1626379200@warsawfumc.org
SUMMARY:Bible Study
DESCRIPTION:
URL:https://warsawfumc.org/event/bible-study-19/
LOCATION:Via Zoom until further notice
END:VEVENT
BEGIN:VEVENT
DTSTART;TZID=America/New_York:20210708T190000
DTEND;TZID=America/New_York:20210708T200000
DTSTAMP:20260423T064326
CREATED:20210409T212329Z
LAST-MODIFIED:20211222T214852Z
UID:13148-1625770800-1625774400@warsawfumc.org
SUMMARY:Bible Study
DESCRIPTION:
URL:https://warsawfumc.org/event/bible-study-18/
LOCATION:Via Zoom until further notice
END:VEVENT
BEGIN:VEVENT
DTSTART;TZID=America/New_York:20210706T180000
DTEND;TZID=America/New_York:20210706T190000
DTSTAMP:20260423T064326
CREATED:20210407T212325Z
LAST-MODIFIED:20211222T215634Z
UID:13123-1625594400-1625598000@warsawfumc.org
SUMMARY:Prayer Group
DESCRIPTION:
URL:https://warsawfumc.org/event/prayer-group-15/
LOCATION:First United Methodist Church\, 179 S Indiana St\, Warsaw\, IN 46580\, USA\, 101 S Indiana St\, United States
END:VEVENT
BEGIN:VEVENT
DTSTART;TZID=America/New_York:20210701T190000
DTEND;TZID=America/New_York:20210701T200000
DTSTAMP:20260423T064326
CREATED:20210402T203515Z
LAST-MODIFIED:20211222T214847Z
UID:13068-1625166000-1625169600@warsawfumc.org
SUMMARY:Bible Study
DESCRIPTION:
URL:https://warsawfumc.org/event/bible-study-17/
LOCATION:Via Zoom until further notice
END:VEVENT
END:VCALENDAR