BEGIN:VCALENDAR
VERSION:2.0
PRODID:-//Warsaw FUMC - ECPv6.15.20//NONSGML v1.0//EN
CALSCALE:GREGORIAN
METHOD:PUBLISH
X-WR-CALNAME:Warsaw FUMC
X-ORIGINAL-URL:https://warsawfumc.org
X-WR-CALDESC:Events for Warsaw FUMC
REFRESH-INTERVAL;VALUE=DURATION:PT1H
X-Robots-Tag:noindex
X-PUBLISHED-TTL:PT1H
BEGIN:VTIMEZONE
TZID:America/New_York
BEGIN:DAYLIGHT
TZOFFSETFROM:-0500
TZOFFSETTO:-0400
TZNAME:EDT
DTSTART:20200308T070000
END:DAYLIGHT
BEGIN:STANDARD
TZOFFSETFROM:-0400
TZOFFSETTO:-0500
TZNAME:EST
DTSTART:20201101T060000
END:STANDARD
BEGIN:DAYLIGHT
TZOFFSETFROM:-0500
TZOFFSETTO:-0400
TZNAME:EDT
DTSTART:20210314T070000
END:DAYLIGHT
BEGIN:STANDARD
TZOFFSETFROM:-0400
TZOFFSETTO:-0500
TZNAME:EST
DTSTART:20211107T060000
END:STANDARD
BEGIN:DAYLIGHT
TZOFFSETFROM:-0500
TZOFFSETTO:-0400
TZNAME:EDT
DTSTART:20220313T070000
END:DAYLIGHT
BEGIN:STANDARD
TZOFFSETFROM:-0400
TZOFFSETTO:-0500
TZNAME:EST
DTSTART:20221106T060000
END:STANDARD
END:VTIMEZONE
BEGIN:VEVENT
DTSTART;TZID=America/New_York:20210513T190000
DTEND;TZID=America/New_York:20210513T200000
DTSTAMP:20260423T170426
CREATED:20210308T171504Z
LAST-MODIFIED:20210513T211955Z
UID:12055-1620932400-1620936000@warsawfumc.org
SUMMARY:Bible Study
DESCRIPTION:
URL:https://warsawfumc.org/event/bible-study-10/
LOCATION:Via Zoom until further notice
END:VEVENT
BEGIN:VEVENT
DTSTART;TZID=America/New_York:20210513T080000
DTEND;TZID=America/New_York:20210513T090000
DTSTAMP:20260423T170426
CREATED:20210308T171504Z
LAST-MODIFIED:20210512T212242Z
UID:12053-1620892800-1620896400@warsawfumc.org
SUMMARY:Men's Bible Study w/Pastor
DESCRIPTION:All men are invited. Bring your Bible and we will look at the scripture and discuss the previous Sunday’s message.
URL:https://warsawfumc.org/event/mens-bible-study-w-pastor-10/
LOCATION:Via Zoom until further notice
END:VEVENT
BEGIN:VEVENT
DTSTART;TZID=America/New_York:20210513T080000
DTEND;TZID=America/New_York:20210513T090000
DTSTAMP:20260423T170426
CREATED:20210308T171504Z
LAST-MODIFIED:20210512T212242Z
UID:12054-1620892800-1620896400@warsawfumc.org
SUMMARY:Men's Bible Study w/Harrold
DESCRIPTION:This Men’s Bible Study is led by Richard Harrold
URL:https://warsawfumc.org/event/mens-bible-study-w-harrold-10/
LOCATION:FUMC Parlor Downtown
END:VEVENT
BEGIN:VEVENT
DTSTART;TZID=America/New_York:20210512T133000
DTEND;TZID=America/New_York:20210512T150000
DTSTAMP:20260423T170426
CREATED:20210308T171504Z
LAST-MODIFIED:20210511T211958Z
UID:12052-1620826200-1620831600@warsawfumc.org
SUMMARY:Small Group w/Jan Wilcox
DESCRIPTION:
URL:https://warsawfumc.org/event/small-group-w-jan-wilcox-10/
LOCATION:Via Zoom at this time
END:VEVENT
BEGIN:VEVENT
DTSTART;TZID=America/New_York:20210511T180000
DTEND;TZID=America/New_York:20210511T190000
DTSTAMP:20260423T170426
CREATED:20210323T191954Z
LAST-MODIFIED:20211222T215558Z
UID:12829-1620756000-1620759600@warsawfumc.org
SUMMARY:Prayer Group
DESCRIPTION:
URL:https://warsawfumc.org/event/prayer-group-7/
LOCATION:First United Methodist Church\, 179 S Indiana St\, Warsaw\, IN 46580\, USA\, 101 S Indiana St\, United States
END:VEVENT
BEGIN:VEVENT
DTSTART;TZID=America/New_York:20210510T130000
DTEND;TZID=America/New_York:20210510T140000
DTSTAMP:20260423T170426
CREATED:20210308T171934Z
LAST-MODIFIED:20210509T205116Z
UID:12202-1620651600-1620655200@warsawfumc.org
SUMMARY:Ministry Team
DESCRIPTION:
URL:https://warsawfumc.org/event/ministry-team-3/
LOCATION:Connection Cafe
END:VEVENT
BEGIN:VEVENT
DTSTART;TZID=America/New_York:20210510T093000
DTEND;TZID=America/New_York:20210510T110000
DTSTAMP:20260423T170426
CREATED:20210308T171504Z
LAST-MODIFIED:20210509T210741Z
UID:12051-1620639000-1620644400@warsawfumc.org
SUMMARY:Small Group w/Kathee R.
DESCRIPTION:Small Group led by Kathee Reed
URL:https://warsawfumc.org/event/small-group-w-kathee-r-4/
LOCATION:FUMC Parlor Downtown
END:VEVENT
BEGIN:VEVENT
DTSTART;TZID=America/New_York:20210509T110000
DTEND;TZID=America/New_York:20210509T120000
DTSTAMP:20260423T170426
CREATED:20210308T171934Z
LAST-MODIFIED:20210508T204943Z
UID:12201-1620558000-1620561600@warsawfumc.org
SUMMARY:Contemporary Worship Service @ The Connection
DESCRIPTION:Contemporary worship in a casual setting with Praise Band
URL:https://warsawfumc.org/event/contemporary-worship-service-the-connection-9/
LOCATION:First United Methodist Church\, 1692 W Lake St\, Warsaw\, IN 46580\, USA
END:VEVENT
BEGIN:VEVENT
DTSTART;TZID=America/New_York:20210509T090000
DTEND;TZID=America/New_York:20210509T100000
DTSTAMP:20260423T170426
CREATED:20210308T171504Z
LAST-MODIFIED:20210508T210456Z
UID:12050-1620550800-1620554400@warsawfumc.org
SUMMARY:Traditional Worship Service
DESCRIPTION:Begins in-person worship on March 14\nContinues virtual worship on WIOE Oldies FM and via our website www.warsawfumc.org
URL:https://warsawfumc.org/event/traditional-worship-service-9/
LOCATION:First United Methodist Church\, 179 S Indiana St\, Warsaw\, IN 46580\, USA\, 101 S Indiana St\, United States
END:VEVENT
BEGIN:VEVENT
DTSTART;TZID=America/New_York:20210506T190000
DTEND;TZID=America/New_York:20210506T200000
DTSTAMP:20260423T170426
CREATED:20210308T171503Z
LAST-MODIFIED:20210506T210719Z
UID:12049-1620327600-1620331200@warsawfumc.org
SUMMARY:Bible Study
DESCRIPTION:
URL:https://warsawfumc.org/event/bible-study-9/
LOCATION:Via Zoom until further notice
END:VEVENT
BEGIN:VEVENT
DTSTART;TZID=America/New_York:20210506T080000
DTEND;TZID=America/New_York:20210506T090000
DTSTAMP:20260423T170426
CREATED:20210308T171503Z
LAST-MODIFIED:20210505T205252Z
UID:12047-1620288000-1620291600@warsawfumc.org
SUMMARY:Men's Bible Study w/Harrold
DESCRIPTION:This Men’s Bible Study is led by Richard Harrold
URL:https://warsawfumc.org/event/mens-bible-study-w-harrold-9/
LOCATION:FUMC Parlor Downtown
END:VEVENT
BEGIN:VEVENT
DTSTART;TZID=America/New_York:20210506T080000
DTEND;TZID=America/New_York:20210506T090000
DTSTAMP:20260423T170426
CREATED:20210308T171503Z
LAST-MODIFIED:20210505T205252Z
UID:12048-1620288000-1620291600@warsawfumc.org
SUMMARY:Men's Bible Study w/Pastor
DESCRIPTION:All men are invited. Bring your Bible and we will look at the scripture and discuss the previous Sunday’s message.
URL:https://warsawfumc.org/event/mens-bible-study-w-pastor-9/
LOCATION:Via Zoom until further notice
END:VEVENT
BEGIN:VEVENT
DTSTART;TZID=America/New_York:20210505T133000
DTEND;TZID=America/New_York:20210505T150000
DTSTAMP:20260423T170426
CREATED:20210308T171503Z
LAST-MODIFIED:20210504T203800Z
UID:12046-1620221400-1620226800@warsawfumc.org
SUMMARY:Small Group w/Jan Wilcox
DESCRIPTION:
URL:https://warsawfumc.org/event/small-group-w-jan-wilcox-9/
LOCATION:Via Zoom at this time
END:VEVENT
BEGIN:VEVENT
DTSTART;TZID=America/New_York:20210504T180000
DTEND;TZID=America/New_York:20210504T190000
DTSTAMP:20260423T170426
CREATED:20210323T191954Z
LAST-MODIFIED:20211222T215554Z
UID:12826-1620151200-1620154800@warsawfumc.org
SUMMARY:Prayer Group
DESCRIPTION:
URL:https://warsawfumc.org/event/prayer-group-6/
LOCATION:First United Methodist Church\, 179 S Indiana St\, Warsaw\, IN 46580\, USA\, 101 S Indiana St\, United States
END:VEVENT
BEGIN:VEVENT
DTSTART;TZID=America/New_York:20210502T110000
DTEND;TZID=America/New_York:20210502T120000
DTSTAMP:20260423T170426
CREATED:20210308T171934Z
LAST-MODIFIED:20210501T200714Z
UID:12200-1619953200-1619956800@warsawfumc.org
SUMMARY:Contemporary Worship Service @ The Connection
DESCRIPTION:Contemporary worship in a casual setting with Praise Band
URL:https://warsawfumc.org/event/contemporary-worship-service-the-connection-8/
LOCATION:First United Methodist Church\, 1692 W Lake St\, Warsaw\, IN 46580\, USA
END:VEVENT
BEGIN:VEVENT
DTSTART;TZID=America/New_York:20210502T090000
DTEND;TZID=America/New_York:20210502T100000
DTSTAMP:20260423T170426
CREATED:20210308T171503Z
LAST-MODIFIED:20210501T202041Z
UID:12045-1619946000-1619949600@warsawfumc.org
SUMMARY:Traditional Worship Service
DESCRIPTION:Begins in-person worship on March 14\nContinues virtual worship on WIOE Oldies FM and via our website www.warsawfumc.org
URL:https://warsawfumc.org/event/traditional-worship-service-8/
LOCATION:First United Methodist Church\, 179 S Indiana St\, Warsaw\, IN 46580\, USA\, 101 S Indiana St\, United States
END:VEVENT
BEGIN:VEVENT
DTSTART;TZID=America/New_York:20210429T190000
DTEND;TZID=America/New_York:20210429T200000
DTSTAMP:20260423T170426
CREATED:20210308T171503Z
LAST-MODIFIED:20210429T200649Z
UID:12044-1619722800-1619726400@warsawfumc.org
SUMMARY:Bible Study
DESCRIPTION:
URL:https://warsawfumc.org/event/bible-study-8/
LOCATION:Via Zoom until further notice
END:VEVENT
BEGIN:VEVENT
DTSTART;TZID=America/New_York:20210429T080000
DTEND;TZID=America/New_York:20210429T090000
DTSTAMP:20260423T170426
CREATED:20210308T171503Z
LAST-MODIFIED:20210428T200749Z
UID:12042-1619683200-1619686800@warsawfumc.org
SUMMARY:Men's Bible Study w/Pastor
DESCRIPTION:All men are invited. Bring your Bible and we will look at the scripture and discuss the previous Sunday’s message.
URL:https://warsawfumc.org/event/mens-bible-study-w-pastor-8/
LOCATION:Via Zoom until further notice
END:VEVENT
BEGIN:VEVENT
DTSTART;TZID=America/New_York:20210429T080000
DTEND;TZID=America/New_York:20210429T090000
DTSTAMP:20260423T170426
CREATED:20210308T171503Z
LAST-MODIFIED:20210428T200749Z
UID:12043-1619683200-1619686800@warsawfumc.org
SUMMARY:Men's Bible Study w/Harrold
DESCRIPTION:This Men’s Bible Study is led by Richard Harrold
URL:https://warsawfumc.org/event/mens-bible-study-w-harrold-8/
LOCATION:FUMC Parlor Downtown
END:VEVENT
BEGIN:VEVENT
DTSTART;TZID=America/New_York:20210428T133000
DTEND;TZID=America/New_York:20210428T150000
DTSTAMP:20260423T170426
CREATED:20210308T171503Z
LAST-MODIFIED:20210427T195057Z
UID:12041-1619616600-1619622000@warsawfumc.org
SUMMARY:Small Group w/Jan Wilcox
DESCRIPTION:
URL:https://warsawfumc.org/event/small-group-w-jan-wilcox-8/
LOCATION:Via Zoom at this time
END:VEVENT
BEGIN:VEVENT
DTSTART;TZID=America/New_York:20210427T190000
DTEND;TZID=America/New_York:20210427T203000
DTSTAMP:20260423T170426
CREATED:20210308T171503Z
LAST-MODIFIED:20210427T195057Z
UID:12040-1619550000-1619555400@warsawfumc.org
SUMMARY:Servant Council
DESCRIPTION:
URL:https://warsawfumc.org/event/servant-council-2/
LOCATION:Board Room\, 925 North Garfield Street\, Arlington\, VA\, 22201\, United States
END:VEVENT
BEGIN:VEVENT
DTSTART;TZID=America/New_York:20210427T180000
DTEND;TZID=America/New_York:20210427T190000
DTSTAMP:20260423T170426
CREATED:20210323T191953Z
LAST-MODIFIED:20211222T215550Z
UID:12824-1619546400-1619550000@warsawfumc.org
SUMMARY:Prayer Group
DESCRIPTION:
URL:https://warsawfumc.org/event/prayer-group-5/
LOCATION:First United Methodist Church\, 179 S Indiana St\, Warsaw\, IN 46580\, USA\, 101 S Indiana St\, United States
END:VEVENT
BEGIN:VEVENT
DTSTART;TZID=America/New_York:20210426T093000
DTEND;TZID=America/New_York:20210426T110000
DTSTAMP:20260423T170426
CREATED:20210308T171503Z
LAST-MODIFIED:20210425T193637Z
UID:12039-1619429400-1619434800@warsawfumc.org
SUMMARY:Small Group w/Kathee R.
DESCRIPTION:Small group led by Kathee Reed
URL:https://warsawfumc.org/event/small-group-w-kathee-r-3/
LOCATION:FUMC Parlor Downtown
END:VEVENT
BEGIN:VEVENT
DTSTART;TZID=America/New_York:20210425T110000
DTEND;TZID=America/New_York:20210425T120000
DTSTAMP:20260423T170426
CREATED:20210308T171934Z
LAST-MODIFIED:20210424T192043Z
UID:12199-1619348400-1619352000@warsawfumc.org
SUMMARY:Contemporary Worship Service @ The Connection
DESCRIPTION:Contemporary worship in a casual setting with Praise Band
URL:https://warsawfumc.org/event/contemporary-worship-service-the-connection-7/
LOCATION:First United Methodist Church\, 1692 W Lake St\, Warsaw\, IN 46580\, USA
END:VEVENT
BEGIN:VEVENT
DTSTART;TZID=America/New_York:20210425T090000
DTEND;TZID=America/New_York:20210425T100000
DTSTAMP:20260423T170426
CREATED:20210308T171503Z
LAST-MODIFIED:20210424T192040Z
UID:12038-1619341200-1619344800@warsawfumc.org
SUMMARY:Traditional Worship Service
DESCRIPTION:Begins in-person worship on March 14\nContinues virtual worship on WIOE Oldies FM and via our website www.warsawfumc.org
URL:https://warsawfumc.org/event/traditional-worship-service-7/
LOCATION:First United Methodist Church\, 179 S Indiana St\, Warsaw\, IN 46580\, USA\, 101 S Indiana St\, United States
END:VEVENT
BEGIN:VEVENT
DTSTART;TZID=America/New_York:20210422T190000
DTEND;TZID=America/New_York:20210422T200000
DTSTAMP:20260423T170426
CREATED:20210308T171503Z
LAST-MODIFIED:20210422T185116Z
UID:12037-1619118000-1619121600@warsawfumc.org
SUMMARY:Bible Study
DESCRIPTION:
URL:https://warsawfumc.org/event/bible-study-7/
LOCATION:Via Zoom until further notice
END:VEVENT
BEGIN:VEVENT
DTSTART;TZID=America/New_York:20210422T080000
DTEND;TZID=America/New_York:20210422T090000
DTSTAMP:20260423T170426
CREATED:20210308T171503Z
LAST-MODIFIED:20210421T183638Z
UID:12035-1619078400-1619082000@warsawfumc.org
SUMMARY:Men's Bible Study w/Pastor
DESCRIPTION:All men are invited. Bring your Bible and we will look at the scripture and discuss the previous Sunday’s message.
URL:https://warsawfumc.org/event/mens-bible-study-w-pastor-7/
LOCATION:Via Zoom until further notice
END:VEVENT
BEGIN:VEVENT
DTSTART;TZID=America/New_York:20210422T080000
DTEND;TZID=America/New_York:20210422T090000
DTSTAMP:20260423T170426
CREATED:20210308T171503Z
LAST-MODIFIED:20210421T183638Z
UID:12036-1619078400-1619082000@warsawfumc.org
SUMMARY:Men's Bible Study w/Harrold
DESCRIPTION:This Men’s Bible Study is led by Richard Harrold
URL:https://warsawfumc.org/event/mens-bible-study-w-harrold-7/
LOCATION:FUMC Parlor Downtown
END:VEVENT
BEGIN:VEVENT
DTSTART;TZID=America/New_York:20210421T133000
DTEND;TZID=America/New_York:20210421T150000
DTSTAMP:20260423T170426
CREATED:20210308T171503Z
LAST-MODIFIED:20210421T183637Z
UID:12034-1619011800-1619017200@warsawfumc.org
SUMMARY:Small Group w/Jan Wilcox
DESCRIPTION:
URL:https://warsawfumc.org/event/small-group-w-jan-wilcox-7/
LOCATION:Via Zoom at this time
END:VEVENT
BEGIN:VEVENT
DTSTART;TZID=America/New_York:20210420T180000
DTEND;TZID=America/New_York:20210420T190000
DTSTAMP:20260423T170426
CREATED:20210323T191953Z
LAST-MODIFIED:20211222T215451Z
UID:12821-1618941600-1618945200@warsawfumc.org
SUMMARY:Prayer Group
DESCRIPTION:
URL:https://warsawfumc.org/event/prayer-group-4/
LOCATION:First United Methodist Church\, 179 S Indiana St\, Warsaw\, IN 46580\, USA\, 101 S Indiana St\, United States
END:VEVENT
END:VCALENDAR