BEGIN:VCALENDAR
VERSION:2.0
PRODID:-//Warsaw FUMC - ECPv6.15.20//NONSGML v1.0//EN
CALSCALE:GREGORIAN
METHOD:PUBLISH
X-WR-CALNAME:Warsaw FUMC
X-ORIGINAL-URL:https://warsawfumc.org
X-WR-CALDESC:Events for Warsaw FUMC
REFRESH-INTERVAL;VALUE=DURATION:PT1H
X-Robots-Tag:noindex
X-PUBLISHED-TTL:PT1H
BEGIN:VTIMEZONE
TZID:America/New_York
BEGIN:DAYLIGHT
TZOFFSETFROM:-0500
TZOFFSETTO:-0400
TZNAME:EDT
DTSTART:20200308T070000
END:DAYLIGHT
BEGIN:STANDARD
TZOFFSETFROM:-0400
TZOFFSETTO:-0500
TZNAME:EST
DTSTART:20201101T060000
END:STANDARD
BEGIN:DAYLIGHT
TZOFFSETFROM:-0500
TZOFFSETTO:-0400
TZNAME:EDT
DTSTART:20210314T070000
END:DAYLIGHT
BEGIN:STANDARD
TZOFFSETFROM:-0400
TZOFFSETTO:-0500
TZNAME:EST
DTSTART:20211107T060000
END:STANDARD
BEGIN:DAYLIGHT
TZOFFSETFROM:-0500
TZOFFSETTO:-0400
TZNAME:EDT
DTSTART:20220313T070000
END:DAYLIGHT
BEGIN:STANDARD
TZOFFSETFROM:-0400
TZOFFSETTO:-0500
TZNAME:EST
DTSTART:20221106T060000
END:STANDARD
END:VTIMEZONE
BEGIN:VEVENT
DTSTART;TZID=America/New_York:20210427T190000
DTEND;TZID=America/New_York:20210427T203000
DTSTAMP:20260423T195420
CREATED:20210308T171503Z
LAST-MODIFIED:20210427T195057Z
UID:12040-1619550000-1619555400@warsawfumc.org
SUMMARY:Servant Council
DESCRIPTION:
URL:https://warsawfumc.org/event/servant-council-2/
LOCATION:Board Room\, 925 North Garfield Street\, Arlington\, VA\, 22201\, United States
END:VEVENT
BEGIN:VEVENT
DTSTART;TZID=America/New_York:20210427T180000
DTEND;TZID=America/New_York:20210427T190000
DTSTAMP:20260423T195420
CREATED:20210323T191953Z
LAST-MODIFIED:20211222T215550Z
UID:12824-1619546400-1619550000@warsawfumc.org
SUMMARY:Prayer Group
DESCRIPTION:
URL:https://warsawfumc.org/event/prayer-group-5/
LOCATION:First United Methodist Church\, 179 S Indiana St\, Warsaw\, IN 46580\, USA\, 101 S Indiana St\, United States
END:VEVENT
BEGIN:VEVENT
DTSTART;TZID=America/New_York:20210426T093000
DTEND;TZID=America/New_York:20210426T110000
DTSTAMP:20260423T195420
CREATED:20210308T171503Z
LAST-MODIFIED:20210425T193637Z
UID:12039-1619429400-1619434800@warsawfumc.org
SUMMARY:Small Group w/Kathee R.
DESCRIPTION:Small group led by Kathee Reed
URL:https://warsawfumc.org/event/small-group-w-kathee-r-3/
LOCATION:FUMC Parlor Downtown
END:VEVENT
BEGIN:VEVENT
DTSTART;TZID=America/New_York:20210425T110000
DTEND;TZID=America/New_York:20210425T120000
DTSTAMP:20260423T195420
CREATED:20210308T171934Z
LAST-MODIFIED:20210424T192043Z
UID:12199-1619348400-1619352000@warsawfumc.org
SUMMARY:Contemporary Worship Service @ The Connection
DESCRIPTION:Contemporary worship in a casual setting with Praise Band
URL:https://warsawfumc.org/event/contemporary-worship-service-the-connection-7/
LOCATION:First United Methodist Church\, 1692 W Lake St\, Warsaw\, IN 46580\, USA
END:VEVENT
BEGIN:VEVENT
DTSTART;TZID=America/New_York:20210425T090000
DTEND;TZID=America/New_York:20210425T100000
DTSTAMP:20260423T195420
CREATED:20210308T171503Z
LAST-MODIFIED:20210424T192040Z
UID:12038-1619341200-1619344800@warsawfumc.org
SUMMARY:Traditional Worship Service
DESCRIPTION:Begins in-person worship on March 14\nContinues virtual worship on WIOE Oldies FM and via our website www.warsawfumc.org
URL:https://warsawfumc.org/event/traditional-worship-service-7/
LOCATION:First United Methodist Church\, 179 S Indiana St\, Warsaw\, IN 46580\, USA\, 101 S Indiana St\, United States
END:VEVENT
BEGIN:VEVENT
DTSTART;TZID=America/New_York:20210422T190000
DTEND;TZID=America/New_York:20210422T200000
DTSTAMP:20260423T195420
CREATED:20210308T171503Z
LAST-MODIFIED:20210422T185116Z
UID:12037-1619118000-1619121600@warsawfumc.org
SUMMARY:Bible Study
DESCRIPTION:
URL:https://warsawfumc.org/event/bible-study-7/
LOCATION:Via Zoom until further notice
END:VEVENT
BEGIN:VEVENT
DTSTART;TZID=America/New_York:20210422T080000
DTEND;TZID=America/New_York:20210422T090000
DTSTAMP:20260423T195420
CREATED:20210308T171503Z
LAST-MODIFIED:20210421T183638Z
UID:12035-1619078400-1619082000@warsawfumc.org
SUMMARY:Men's Bible Study w/Pastor
DESCRIPTION:All men are invited. Bring your Bible and we will look at the scripture and discuss the previous Sunday’s message.
URL:https://warsawfumc.org/event/mens-bible-study-w-pastor-7/
LOCATION:Via Zoom until further notice
END:VEVENT
BEGIN:VEVENT
DTSTART;TZID=America/New_York:20210422T080000
DTEND;TZID=America/New_York:20210422T090000
DTSTAMP:20260423T195420
CREATED:20210308T171503Z
LAST-MODIFIED:20210421T183638Z
UID:12036-1619078400-1619082000@warsawfumc.org
SUMMARY:Men's Bible Study w/Harrold
DESCRIPTION:This Men’s Bible Study is led by Richard Harrold
URL:https://warsawfumc.org/event/mens-bible-study-w-harrold-7/
LOCATION:FUMC Parlor Downtown
END:VEVENT
BEGIN:VEVENT
DTSTART;TZID=America/New_York:20210421T133000
DTEND;TZID=America/New_York:20210421T150000
DTSTAMP:20260423T195420
CREATED:20210308T171503Z
LAST-MODIFIED:20210421T183637Z
UID:12034-1619011800-1619017200@warsawfumc.org
SUMMARY:Small Group w/Jan Wilcox
DESCRIPTION:
URL:https://warsawfumc.org/event/small-group-w-jan-wilcox-7/
LOCATION:Via Zoom at this time
END:VEVENT
BEGIN:VEVENT
DTSTART;TZID=America/New_York:20210420T180000
DTEND;TZID=America/New_York:20210420T190000
DTSTAMP:20260423T195420
CREATED:20210323T191953Z
LAST-MODIFIED:20211222T215451Z
UID:12821-1618941600-1618945200@warsawfumc.org
SUMMARY:Prayer Group
DESCRIPTION:
URL:https://warsawfumc.org/event/prayer-group-4/
LOCATION:First United Methodist Church\, 179 S Indiana St\, Warsaw\, IN 46580\, USA\, 101 S Indiana St\, United States
END:VEVENT
BEGIN:VEVENT
DTSTART;TZID=America/New_York:20210418T110000
DTEND;TZID=America/New_York:20210418T120000
DTSTAMP:20260423T195420
CREATED:20210308T171934Z
LAST-MODIFIED:20210417T180458Z
UID:12198-1618743600-1618747200@warsawfumc.org
SUMMARY:Contemporary Worship Service @ The Connection
DESCRIPTION:Contemporary worship in a casual setting with Praise Band
URL:https://warsawfumc.org/event/contemporary-worship-service-the-connection-6/
LOCATION:First United Methodist Church\, 1692 W Lake St\, Warsaw\, IN 46580\, USA
END:VEVENT
BEGIN:VEVENT
DTSTART;TZID=America/New_York:20210418T090000
DTEND;TZID=America/New_York:20210418T100000
DTSTAMP:20260423T195420
CREATED:20210308T171503Z
LAST-MODIFIED:20210417T180501Z
UID:12033-1618736400-1618740000@warsawfumc.org
SUMMARY:Traditional Worship Service
DESCRIPTION:Begins in-person worship on March 14\nContinues virtual worship on WIOE Oldies FM and via our website www.warsawfumc.org
URL:https://warsawfumc.org/event/traditional-worship-service-6/
LOCATION:First United Methodist Church\, 179 S Indiana St\, Warsaw\, IN 46580\, USA\, 101 S Indiana St\, United States
END:VEVENT
BEGIN:VEVENT
DTSTART;TZID=America/New_York:20210416T183000
DTEND;TZID=America/New_York:20210416T203000
DTSTAMP:20260423T195420
CREATED:20210323T152152Z
LAST-MODIFIED:20210411T173500Z
UID:12802-1618597800-1618605000@warsawfumc.org
SUMMARY:Round Dance
DESCRIPTION:
URL:https://warsawfumc.org/event/round-dance/
LOCATION:First United Methodist Church\, 1692 W Lake St\, Warsaw\, IN 46580\, USA
END:VEVENT
BEGIN:VEVENT
DTSTART;TZID=America/New_York:20210415T190000
DTEND;TZID=America/New_York:20210415T200000
DTSTAMP:20260423T195420
CREATED:20210308T171503Z
LAST-MODIFIED:20210411T213653Z
UID:12032-1618513200-1618516800@warsawfumc.org
SUMMARY:Bible Study
DESCRIPTION:
URL:https://warsawfumc.org/event/bible-study-6/
LOCATION:Via Zoom until further notice
END:VEVENT
BEGIN:VEVENT
DTSTART;TZID=America/New_York:20210415T080000
DTEND;TZID=America/New_York:20210415T090000
DTSTAMP:20260423T195420
CREATED:20210308T171503Z
LAST-MODIFIED:20210411T213652Z
UID:12030-1618473600-1618477200@warsawfumc.org
SUMMARY:Men's Bible Study w/Harrold
DESCRIPTION:This Men’s Bible Study is led by Richard Harrold
URL:https://warsawfumc.org/event/mens-bible-study-w-harrold-6/
LOCATION:FUMC Parlor Downtown
END:VEVENT
BEGIN:VEVENT
DTSTART;TZID=America/New_York:20210415T080000
DTEND;TZID=America/New_York:20210415T090000
DTSTAMP:20260423T195420
CREATED:20210308T171503Z
LAST-MODIFIED:20210411T213652Z
UID:12031-1618473600-1618477200@warsawfumc.org
SUMMARY:Men's Bible Study w/Pastor
DESCRIPTION:All men are invited. Bring your Bible and we will look at the scripture and discuss the previous Sunday’s message.
URL:https://warsawfumc.org/event/mens-bible-study-w-pastor-6/
LOCATION:Via Zoom until further notice
END:VEVENT
BEGIN:VEVENT
DTSTART;TZID=America/New_York:20210414T133000
DTEND;TZID=America/New_York:20210414T150000
DTSTAMP:20260423T195420
CREATED:20210308T171503Z
LAST-MODIFIED:20210411T213652Z
UID:12029-1618407000-1618412400@warsawfumc.org
SUMMARY:Small Group w/Jan Wilcox
DESCRIPTION:
URL:https://warsawfumc.org/event/small-group-w-jan-wilcox-6/
LOCATION:Via Zoom at this time
END:VEVENT
BEGIN:VEVENT
DTSTART;TZID=America/New_York:20210413T180000
DTEND;TZID=America/New_York:20210413T190000
DTSTAMP:20260423T195420
CREATED:20210323T191953Z
LAST-MODIFIED:20211222T215447Z
UID:12819-1618336800-1618340400@warsawfumc.org
SUMMARY:Prayer Group
DESCRIPTION:
URL:https://warsawfumc.org/event/prayer-group-3/
LOCATION:First United Methodist Church\, 179 S Indiana St\, Warsaw\, IN 46580\, USA\, 101 S Indiana St\, United States
END:VEVENT
BEGIN:VEVENT
DTSTART;TZID=America/New_York:20210412T130000
DTEND;TZID=America/New_York:20210412T140000
DTSTAMP:20260423T195420
CREATED:20210308T171934Z
LAST-MODIFIED:20210411T202033Z
UID:12197-1618232400-1618236000@warsawfumc.org
SUMMARY:Ministry Team
DESCRIPTION:
URL:https://warsawfumc.org/event/ministry-team-2/
LOCATION:Connection Cafe
END:VEVENT
BEGIN:VEVENT
DTSTART;TZID=America/New_York:20210412T093000
DTEND;TZID=America/New_York:20210412T110000
DTSTAMP:20260423T195420
CREATED:20210308T171503Z
LAST-MODIFIED:20210411T213652Z
UID:12028-1618219800-1618225200@warsawfumc.org
SUMMARY:Small Group w/Kathee R.
DESCRIPTION:Small Group led by Kathee Reed
URL:https://warsawfumc.org/event/small-group-w-kathee-r-2/
LOCATION:FUMC Parlor Downtown
END:VEVENT
BEGIN:VEVENT
DTSTART;TZID=America/New_York:20210411T110000
DTEND;TZID=America/New_York:20210411T120000
DTSTAMP:20260423T195420
CREATED:20210308T171934Z
LAST-MODIFIED:20210410T202031Z
UID:12196-1618138800-1618142400@warsawfumc.org
SUMMARY:Contemporary Worship Service @ The Connection
DESCRIPTION:Contemporary worship in a casual setting with Praise Band
URL:https://warsawfumc.org/event/contemporary-worship-service-the-connection-5/
LOCATION:First United Methodist Church\, 1692 W Lake St\, Warsaw\, IN 46580\, USA
END:VEVENT
BEGIN:VEVENT
DTSTART;TZID=America/New_York:20210411T090000
DTEND;TZID=America/New_York:20210411T100000
DTSTAMP:20260423T195420
CREATED:20210308T171503Z
LAST-MODIFIED:20210410T213548Z
UID:12027-1618131600-1618135200@warsawfumc.org
SUMMARY:Traditional Worship Service
DESCRIPTION:Begins in-person worship on March 14\nContinues virtual worship on WIOE Oldies FM and via our website www.warsawfumc.org
URL:https://warsawfumc.org/event/traditional-worship-service-5/
LOCATION:First United Methodist Church\, 179 S Indiana St\, Warsaw\, IN 46580\, USA\, 101 S Indiana St\, United States
END:VEVENT
BEGIN:VEVENT
DTSTART;TZID=America/New_York:20210408T190000
DTEND;TZID=America/New_York:20210408T200000
DTSTAMP:20260423T195420
CREATED:20210308T171503Z
LAST-MODIFIED:20210408T212041Z
UID:12026-1617908400-1617912000@warsawfumc.org
SUMMARY:Bible Study
DESCRIPTION:
URL:https://warsawfumc.org/event/bible-study-5/
LOCATION:Via Zoom until further notice
END:VEVENT
BEGIN:VEVENT
DTSTART;TZID=America/New_York:20210408T080000
DTEND;TZID=America/New_York:20210408T090000
DTSTAMP:20260423T195420
CREATED:20210308T171503Z
LAST-MODIFIED:20210407T212322Z
UID:12024-1617868800-1617872400@warsawfumc.org
SUMMARY:Men's Bible Study w/Harrold
DESCRIPTION:This Men’s Bible Study is led by Richard Harrold
URL:https://warsawfumc.org/event/mens-bible-study-w-harrold-5/
LOCATION:FUMC Parlor Downtown
END:VEVENT
BEGIN:VEVENT
DTSTART;TZID=America/New_York:20210408T080000
DTEND;TZID=America/New_York:20210408T090000
DTSTAMP:20260423T195420
CREATED:20210308T171503Z
LAST-MODIFIED:20210407T212322Z
UID:12025-1617868800-1617872400@warsawfumc.org
SUMMARY:Men's Bible Study w/Pastor
DESCRIPTION:All men are invited. Bring your Bible and we will look at the scripture and discuss the previous Sunday’s message.
URL:https://warsawfumc.org/event/mens-bible-study-w-pastor-5/
LOCATION:Via Zoom until further notice
END:VEVENT
BEGIN:VEVENT
DTSTART;TZID=America/New_York:20210407T133000
DTEND;TZID=America/New_York:20210407T150000
DTSTAMP:20260423T195420
CREATED:20210308T171503Z
LAST-MODIFIED:20210406T210547Z
UID:12023-1617802200-1617807600@warsawfumc.org
SUMMARY:Small Group w/Jan Wilcox
DESCRIPTION:
URL:https://warsawfumc.org/event/small-group-w-jan-wilcox-5/
LOCATION:Via Zoom at this time
END:VEVENT
BEGIN:VEVENT
DTSTART;TZID=America/New_York:20210406T180000
DTEND;TZID=America/New_York:20210406T190000
DTSTAMP:20260423T195420
CREATED:20210323T191953Z
LAST-MODIFIED:20211222T215443Z
UID:12816-1617732000-1617735600@warsawfumc.org
SUMMARY:Prayer Group
DESCRIPTION:
URL:https://warsawfumc.org/event/prayer-group-2/
LOCATION:First United Methodist Church\, 179 S Indiana St\, Warsaw\, IN 46580\, USA\, 101 S Indiana St\, United States
END:VEVENT
BEGIN:VEVENT
DTSTART;TZID=America/New_York:20210404T110000
DTEND;TZID=America/New_York:20210404T120000
DTSTAMP:20260423T195420
CREATED:20210308T171934Z
LAST-MODIFIED:20210403T202039Z
UID:12195-1617534000-1617537600@warsawfumc.org
SUMMARY:Contemporary Worship Service @ The Connection
DESCRIPTION:Contemporary worship in a casual setting with Praise Band
URL:https://warsawfumc.org/event/contemporary-worship-service-the-connection-4/
LOCATION:First United Methodist Church\, 1692 W Lake St\, Warsaw\, IN 46580\, USA
END:VEVENT
BEGIN:VEVENT
DTSTART;TZID=America/New_York:20210404T090000
DTEND;TZID=America/New_York:20210404T100000
DTSTAMP:20260423T195420
CREATED:20210308T171503Z
LAST-MODIFIED:20210403T204054Z
UID:12022-1617526800-1617530400@warsawfumc.org
SUMMARY:Traditional Worship Service
DESCRIPTION:Begins in-person worship on March 14\nContinues virtual worship on WIOE Oldies FM and via our website www.warsawfumc.org
URL:https://warsawfumc.org/event/traditional-worship-service-4/
LOCATION:First United Methodist Church\, 179 S Indiana St\, Warsaw\, IN 46580\, USA\, 101 S Indiana St\, United States
END:VEVENT
BEGIN:VEVENT
DTSTART;TZID=America/New_York:20210401T190000
DTEND;TZID=America/New_York:20210401T200000
DTSTAMP:20260423T195420
CREATED:20210308T171502Z
LAST-MODIFIED:20210401T203445Z
UID:12021-1617303600-1617307200@warsawfumc.org
SUMMARY:Bible Study
DESCRIPTION:
URL:https://warsawfumc.org/event/bible-study-4/
LOCATION:Via Zoom until further notice
END:VEVENT
END:VCALENDAR