BEGIN:VCALENDAR
VERSION:2.0
PRODID:-//Warsaw FUMC - ECPv6.15.20//NONSGML v1.0//EN
CALSCALE:GREGORIAN
METHOD:PUBLISH
X-WR-CALNAME:Warsaw FUMC
X-ORIGINAL-URL:https://warsawfumc.org
X-WR-CALDESC:Events for Warsaw FUMC
REFRESH-INTERVAL;VALUE=DURATION:PT1H
X-Robots-Tag:noindex
X-PUBLISHED-TTL:PT1H
BEGIN:VTIMEZONE
TZID:America/New_York
BEGIN:DAYLIGHT
TZOFFSETFROM:-0500
TZOFFSETTO:-0400
TZNAME:EDT
DTSTART:20200308T070000
END:DAYLIGHT
BEGIN:STANDARD
TZOFFSETFROM:-0400
TZOFFSETTO:-0500
TZNAME:EST
DTSTART:20201101T060000
END:STANDARD
BEGIN:DAYLIGHT
TZOFFSETFROM:-0500
TZOFFSETTO:-0400
TZNAME:EDT
DTSTART:20210314T070000
END:DAYLIGHT
BEGIN:STANDARD
TZOFFSETFROM:-0400
TZOFFSETTO:-0500
TZNAME:EST
DTSTART:20211107T060000
END:STANDARD
BEGIN:DAYLIGHT
TZOFFSETFROM:-0500
TZOFFSETTO:-0400
TZNAME:EDT
DTSTART:20220313T070000
END:DAYLIGHT
BEGIN:STANDARD
TZOFFSETFROM:-0400
TZOFFSETTO:-0500
TZNAME:EST
DTSTART:20221106T060000
END:STANDARD
END:VTIMEZONE
BEGIN:VEVENT
DTSTART;TZID=America/New_York:20210412T130000
DTEND;TZID=America/New_York:20210412T140000
DTSTAMP:20260423T183510
CREATED:20210308T171934Z
LAST-MODIFIED:20210411T202033Z
UID:12197-1618232400-1618236000@warsawfumc.org
SUMMARY:Ministry Team
DESCRIPTION:
URL:https://warsawfumc.org/event/ministry-team-2/
LOCATION:Connection Cafe
END:VEVENT
BEGIN:VEVENT
DTSTART;TZID=America/New_York:20210412T093000
DTEND;TZID=America/New_York:20210412T110000
DTSTAMP:20260423T183510
CREATED:20210308T171503Z
LAST-MODIFIED:20210411T213652Z
UID:12028-1618219800-1618225200@warsawfumc.org
SUMMARY:Small Group w/Kathee R.
DESCRIPTION:Small Group led by Kathee Reed
URL:https://warsawfumc.org/event/small-group-w-kathee-r-2/
LOCATION:FUMC Parlor Downtown
END:VEVENT
BEGIN:VEVENT
DTSTART;TZID=America/New_York:20210411T110000
DTEND;TZID=America/New_York:20210411T120000
DTSTAMP:20260423T183510
CREATED:20210308T171934Z
LAST-MODIFIED:20210410T202031Z
UID:12196-1618138800-1618142400@warsawfumc.org
SUMMARY:Contemporary Worship Service @ The Connection
DESCRIPTION:Contemporary worship in a casual setting with Praise Band
URL:https://warsawfumc.org/event/contemporary-worship-service-the-connection-5/
LOCATION:First United Methodist Church\, 1692 W Lake St\, Warsaw\, IN 46580\, USA
END:VEVENT
BEGIN:VEVENT
DTSTART;TZID=America/New_York:20210411T090000
DTEND;TZID=America/New_York:20210411T100000
DTSTAMP:20260423T183510
CREATED:20210308T171503Z
LAST-MODIFIED:20210410T213548Z
UID:12027-1618131600-1618135200@warsawfumc.org
SUMMARY:Traditional Worship Service
DESCRIPTION:Begins in-person worship on March 14\nContinues virtual worship on WIOE Oldies FM and via our website www.warsawfumc.org
URL:https://warsawfumc.org/event/traditional-worship-service-5/
LOCATION:First United Methodist Church\, 179 S Indiana St\, Warsaw\, IN 46580\, USA\, 101 S Indiana St\, United States
END:VEVENT
BEGIN:VEVENT
DTSTART;TZID=America/New_York:20210408T190000
DTEND;TZID=America/New_York:20210408T200000
DTSTAMP:20260423T183510
CREATED:20210308T171503Z
LAST-MODIFIED:20210408T212041Z
UID:12026-1617908400-1617912000@warsawfumc.org
SUMMARY:Bible Study
DESCRIPTION:
URL:https://warsawfumc.org/event/bible-study-5/
LOCATION:Via Zoom until further notice
END:VEVENT
BEGIN:VEVENT
DTSTART;TZID=America/New_York:20210408T080000
DTEND;TZID=America/New_York:20210408T090000
DTSTAMP:20260423T183510
CREATED:20210308T171503Z
LAST-MODIFIED:20210407T212322Z
UID:12024-1617868800-1617872400@warsawfumc.org
SUMMARY:Men's Bible Study w/Harrold
DESCRIPTION:This Men’s Bible Study is led by Richard Harrold
URL:https://warsawfumc.org/event/mens-bible-study-w-harrold-5/
LOCATION:FUMC Parlor Downtown
END:VEVENT
BEGIN:VEVENT
DTSTART;TZID=America/New_York:20210408T080000
DTEND;TZID=America/New_York:20210408T090000
DTSTAMP:20260423T183510
CREATED:20210308T171503Z
LAST-MODIFIED:20210407T212322Z
UID:12025-1617868800-1617872400@warsawfumc.org
SUMMARY:Men's Bible Study w/Pastor
DESCRIPTION:All men are invited. Bring your Bible and we will look at the scripture and discuss the previous Sunday’s message.
URL:https://warsawfumc.org/event/mens-bible-study-w-pastor-5/
LOCATION:Via Zoom until further notice
END:VEVENT
BEGIN:VEVENT
DTSTART;TZID=America/New_York:20210407T133000
DTEND;TZID=America/New_York:20210407T150000
DTSTAMP:20260423T183510
CREATED:20210308T171503Z
LAST-MODIFIED:20210406T210547Z
UID:12023-1617802200-1617807600@warsawfumc.org
SUMMARY:Small Group w/Jan Wilcox
DESCRIPTION:
URL:https://warsawfumc.org/event/small-group-w-jan-wilcox-5/
LOCATION:Via Zoom at this time
END:VEVENT
BEGIN:VEVENT
DTSTART;TZID=America/New_York:20210406T180000
DTEND;TZID=America/New_York:20210406T190000
DTSTAMP:20260423T183510
CREATED:20210323T191953Z
LAST-MODIFIED:20211222T215443Z
UID:12816-1617732000-1617735600@warsawfumc.org
SUMMARY:Prayer Group
DESCRIPTION:
URL:https://warsawfumc.org/event/prayer-group-2/
LOCATION:First United Methodist Church\, 179 S Indiana St\, Warsaw\, IN 46580\, USA\, 101 S Indiana St\, United States
END:VEVENT
BEGIN:VEVENT
DTSTART;TZID=America/New_York:20210404T110000
DTEND;TZID=America/New_York:20210404T120000
DTSTAMP:20260423T183510
CREATED:20210308T171934Z
LAST-MODIFIED:20210403T202039Z
UID:12195-1617534000-1617537600@warsawfumc.org
SUMMARY:Contemporary Worship Service @ The Connection
DESCRIPTION:Contemporary worship in a casual setting with Praise Band
URL:https://warsawfumc.org/event/contemporary-worship-service-the-connection-4/
LOCATION:First United Methodist Church\, 1692 W Lake St\, Warsaw\, IN 46580\, USA
END:VEVENT
BEGIN:VEVENT
DTSTART;TZID=America/New_York:20210404T090000
DTEND;TZID=America/New_York:20210404T100000
DTSTAMP:20260423T183510
CREATED:20210308T171503Z
LAST-MODIFIED:20210403T204054Z
UID:12022-1617526800-1617530400@warsawfumc.org
SUMMARY:Traditional Worship Service
DESCRIPTION:Begins in-person worship on March 14\nContinues virtual worship on WIOE Oldies FM and via our website www.warsawfumc.org
URL:https://warsawfumc.org/event/traditional-worship-service-4/
LOCATION:First United Methodist Church\, 179 S Indiana St\, Warsaw\, IN 46580\, USA\, 101 S Indiana St\, United States
END:VEVENT
BEGIN:VEVENT
DTSTART;TZID=America/New_York:20210401T190000
DTEND;TZID=America/New_York:20210401T200000
DTSTAMP:20260423T183510
CREATED:20210308T171502Z
LAST-MODIFIED:20210401T203445Z
UID:12021-1617303600-1617307200@warsawfumc.org
SUMMARY:Bible Study
DESCRIPTION:
URL:https://warsawfumc.org/event/bible-study-4/
LOCATION:Via Zoom until further notice
END:VEVENT
BEGIN:VEVENT
DTSTART;TZID=America/New_York:20210401T183000
DTEND;TZID=America/New_York:20210401T193000
DTSTAMP:20260423T183510
CREATED:20210308T171502Z
LAST-MODIFIED:20210401T203445Z
UID:12020-1617301800-1617305400@warsawfumc.org
SUMMARY:Maundy Thursday Worship Service
DESCRIPTION:Join us for this special service during Holy Week
URL:https://warsawfumc.org/event/maundy-thursday-worship-service/
LOCATION:First United Methodist Church\, 179 S Indiana St\, Warsaw\, IN 46580\, USA\, 101 S Indiana St\, United States
END:VEVENT
BEGIN:VEVENT
DTSTART;TZID=America/New_York:20210401T080000
DTEND;TZID=America/New_York:20210401T090000
DTSTAMP:20260423T183510
CREATED:20210308T171502Z
LAST-MODIFIED:20210331T203511Z
UID:12018-1617264000-1617267600@warsawfumc.org
SUMMARY:Men's Bible Study w/Pastor
DESCRIPTION:All men are invited. Bring your Bible and we will look at the scripture and discuss the previous Sunday’s message.
URL:https://warsawfumc.org/event/mens-bible-study-w-pastor-4/
LOCATION:Via Zoom until further notice
END:VEVENT
BEGIN:VEVENT
DTSTART;TZID=America/New_York:20210401T080000
DTEND;TZID=America/New_York:20210401T090000
DTSTAMP:20260423T183510
CREATED:20210308T171502Z
LAST-MODIFIED:20210331T203511Z
UID:12019-1617264000-1617267600@warsawfumc.org
SUMMARY:Men's Bible Study w/Harrold
DESCRIPTION:This Men’s Bible Study is led by Richard Harrold
URL:https://warsawfumc.org/event/mens-bible-study-w-harrold-4/
LOCATION:FUMC Parlor Downtown
END:VEVENT
BEGIN:VEVENT
DTSTART;TZID=America/New_York:20210331T133000
DTEND;TZID=America/New_York:20210331T150000
DTSTAMP:20260423T183510
CREATED:20210308T171502Z
LAST-MODIFIED:20210330T203448Z
UID:12017-1617197400-1617202800@warsawfumc.org
SUMMARY:Small Group w/Jan Wilcox
DESCRIPTION:
URL:https://warsawfumc.org/event/small-group-w-jan-wilcox-4/
LOCATION:Via Zoom at this time
END:VEVENT
BEGIN:VEVENT
DTSTART;TZID=America/New_York:20210330T180000
DTEND;TZID=America/New_York:20210330T190000
DTSTAMP:20260423T183510
CREATED:20210323T191952Z
LAST-MODIFIED:20211222T215440Z
UID:12814-1617127200-1617130800@warsawfumc.org
SUMMARY:Prayer Group
DESCRIPTION:
URL:https://warsawfumc.org/event/prayer-group/
LOCATION:First United Methodist Church\, 179 S Indiana St\, Warsaw\, IN 46580\, USA\, 101 S Indiana St\, United States
END:VEVENT
BEGIN:VEVENT
DTSTART;TZID=America/New_York:20210328T110000
DTEND;TZID=America/New_York:20210328T120000
DTSTAMP:20260423T183510
CREATED:20210308T171934Z
LAST-MODIFIED:20210327T195152Z
UID:12194-1616929200-1616932800@warsawfumc.org
SUMMARY:Contemporary Worship Service @ The Connection
DESCRIPTION:Contemporary worship in a casual setting with Praise Band
URL:https://warsawfumc.org/event/contemporary-worship-service-the-connection-3/
LOCATION:First United Methodist Church\, 1692 W Lake St\, Warsaw\, IN 46580\, USA
END:VEVENT
BEGIN:VEVENT
DTSTART;TZID=America/New_York:20210328T090000
DTEND;TZID=America/New_York:20210328T100000
DTSTAMP:20260423T183510
CREATED:20210308T171502Z
LAST-MODIFIED:20210327T195149Z
UID:12016-1616922000-1616925600@warsawfumc.org
SUMMARY:Traditional Worship Service
DESCRIPTION:Begins in-person worship on March 14\nContinues virtual worship on WIOE Oldies FM and via our website www.warsawfumc.org
URL:https://warsawfumc.org/event/traditional-worship-service-3/
LOCATION:First United Methodist Church\, 179 S Indiana St\, Warsaw\, IN 46580\, USA\, 101 S Indiana St\, United States
END:VEVENT
BEGIN:VEVENT
DTSTART;TZID=America/New_York:20210325T190000
DTEND;TZID=America/New_York:20210325T200000
DTSTAMP:20260423T183510
CREATED:20210308T171502Z
LAST-MODIFIED:20210325T193655Z
UID:12015-1616698800-1616702400@warsawfumc.org
SUMMARY:Bible Study
DESCRIPTION:
URL:https://warsawfumc.org/event/bible-study-3/
LOCATION:Via Zoom until further notice
END:VEVENT
BEGIN:VEVENT
DTSTART;TZID=America/New_York:20210325T080000
DTEND;TZID=America/New_York:20210325T090000
DTSTAMP:20260423T183510
CREATED:20210308T171502Z
LAST-MODIFIED:20210324T193139Z
UID:12013-1616659200-1616662800@warsawfumc.org
SUMMARY:Men's Bible Study w/Harrold
DESCRIPTION:This Men’s Bible Study is led by Richard Harrold
URL:https://warsawfumc.org/event/mens-bible-study-w-harrold-3/
LOCATION:FUMC Parlor Downtown
END:VEVENT
BEGIN:VEVENT
DTSTART;TZID=America/New_York:20210325T080000
DTEND;TZID=America/New_York:20210325T090000
DTSTAMP:20260423T183510
CREATED:20210308T171502Z
LAST-MODIFIED:20210324T193139Z
UID:12014-1616659200-1616662800@warsawfumc.org
SUMMARY:Men's Bible Study w/Pastor
DESCRIPTION:All men are invited. Bring your Bible and we will look at the scripture and discuss the previous Sunday’s message.
URL:https://warsawfumc.org/event/mens-bible-study-w-pastor-3/
LOCATION:Via Zoom until further notice
END:VEVENT
BEGIN:VEVENT
DTSTART;TZID=America/New_York:20210324T133000
DTEND;TZID=America/New_York:20210324T150000
DTSTAMP:20260423T183510
CREATED:20210308T171502Z
LAST-MODIFIED:20210323T191952Z
UID:12012-1616592600-1616598000@warsawfumc.org
SUMMARY:Small Group w/Jan Wilcox
DESCRIPTION:
URL:https://warsawfumc.org/event/small-group-w-jan-wilcox-3/
LOCATION:Via Zoom at this time
END:VEVENT
BEGIN:VEVENT
DTSTART;TZID=America/New_York:20210323T190000
DTEND;TZID=America/New_York:20210323T203000
DTSTAMP:20260423T183510
CREATED:20210308T171502Z
LAST-MODIFIED:20210323T191952Z
UID:12011-1616526000-1616531400@warsawfumc.org
SUMMARY:Servant Council
DESCRIPTION:
URL:https://warsawfumc.org/event/servant-council/
LOCATION:Board Room\, 925 North Garfield Street\, Arlington\, VA\, 22201\, United States
END:VEVENT
BEGIN:VEVENT
DTSTART;TZID=America/New_York:20210322T093000
DTEND;TZID=America/New_York:20210322T110000
DTSTAMP:20260423T183510
CREATED:20210308T171502Z
LAST-MODIFIED:20210321T185423Z
UID:12010-1616405400-1616410800@warsawfumc.org
SUMMARY:Small Group w/Kathee R.
DESCRIPTION:Small group led by Kathee Reed
URL:https://warsawfumc.org/event/small-group-w-kathee-r/
LOCATION:FUMC Parlor Downtown
END:VEVENT
BEGIN:VEVENT
DTSTART;TZID=America/New_York:20210321T110000
DTEND;TZID=America/New_York:20210321T120000
DTSTAMP:20260423T183510
CREATED:20210308T171934Z
LAST-MODIFIED:20210320T185135Z
UID:12193-1616324400-1616328000@warsawfumc.org
SUMMARY:Contemporary Worship Service @ The Connection
DESCRIPTION:Contemporary worship in a casual setting with Praise Band
URL:https://warsawfumc.org/event/contemporary-worship-service-the-connection-2/
LOCATION:First United Methodist Church\, 1692 W Lake St\, Warsaw\, IN 46580\, USA
END:VEVENT
BEGIN:VEVENT
DTSTART;TZID=America/New_York:20210321T090000
DTEND;TZID=America/New_York:20210321T100000
DTSTAMP:20260423T183510
CREATED:20210308T171502Z
LAST-MODIFIED:20210320T183510Z
UID:12009-1616317200-1616320800@warsawfumc.org
SUMMARY:Traditional Worship Service
DESCRIPTION:Begins in-person worship on March 14\nContinues virtual worship on WIOE Oldies FM and via our website www.warsawfumc.org
URL:https://warsawfumc.org/event/traditional-worship-service-2/
LOCATION:First United Methodist Church\, 179 S Indiana St\, Warsaw\, IN 46580\, USA\, 101 S Indiana St\, United States
END:VEVENT
BEGIN:VEVENT
DTSTART;TZID=America/New_York:20210318T190000
DTEND;TZID=America/New_York:20210318T200000
DTSTAMP:20260423T183510
CREATED:20210308T171502Z
LAST-MODIFIED:20210318T182223Z
UID:12008-1616094000-1616097600@warsawfumc.org
SUMMARY:Bible Study
DESCRIPTION:
URL:https://warsawfumc.org/event/bible-study-2/
LOCATION:Via Zoom until further notice
END:VEVENT
BEGIN:VEVENT
DTSTART;TZID=America/New_York:20210318T080000
DTEND;TZID=America/New_York:20210318T090000
DTSTAMP:20260423T183510
CREATED:20210308T171502Z
LAST-MODIFIED:20210317T180837Z
UID:12006-1616054400-1616058000@warsawfumc.org
SUMMARY:Men's Bible Study w/Pastor
DESCRIPTION:All men are invited. Bring your Bible and we will look at the scripture and discuss the previous Sunday’s message.
URL:https://warsawfumc.org/event/mens-bible-study-w-pastor-2/
LOCATION:Via Zoom until further notice
END:VEVENT
BEGIN:VEVENT
DTSTART;TZID=America/New_York:20210318T080000
DTEND;TZID=America/New_York:20210318T090000
DTSTAMP:20260423T183510
CREATED:20210308T171502Z
LAST-MODIFIED:20210317T180837Z
UID:12007-1616054400-1616058000@warsawfumc.org
SUMMARY:Men's Bible Study w/Harrold
DESCRIPTION:This Men’s Bible Study is led by Richard Harrold
URL:https://warsawfumc.org/event/mens-bible-study-w-harrold-2/
LOCATION:FUMC Parlor Downtown
END:VEVENT
END:VCALENDAR